BEGIN:VCALENDAR
VERSION:2.0
PRODID:-//Otsego District Public Library - ECPv6.15.20//NONSGML v1.0//EN
CALSCALE:GREGORIAN
METHOD:PUBLISH
X-WR-CALNAME:Otsego District Public Library
X-ORIGINAL-URL:https://otsegolibrary.org
X-WR-CALDESC:Events for Otsego District Public Library
REFRESH-INTERVAL;VALUE=DURATION:PT1H
X-Robots-Tag:noindex
X-PUBLISHED-TTL:PT1H
BEGIN:VTIMEZONE
TZID:America/Detroit
BEGIN:DAYLIGHT
TZOFFSETFROM:-0500
TZOFFSETTO:-0400
TZNAME:EDT
DTSTART:20220313T070000
END:DAYLIGHT
BEGIN:STANDARD
TZOFFSETFROM:-0400
TZOFFSETTO:-0500
TZNAME:EST
DTSTART:20221106T060000
END:STANDARD
BEGIN:DAYLIGHT
TZOFFSETFROM:-0500
TZOFFSETTO:-0400
TZNAME:EDT
DTSTART:20230312T070000
END:DAYLIGHT
BEGIN:STANDARD
TZOFFSETFROM:-0400
TZOFFSETTO:-0500
TZNAME:EST
DTSTART:20231105T060000
END:STANDARD
BEGIN:DAYLIGHT
TZOFFSETFROM:-0500
TZOFFSETTO:-0400
TZNAME:EDT
DTSTART:20240310T070000
END:DAYLIGHT
BEGIN:STANDARD
TZOFFSETFROM:-0400
TZOFFSETTO:-0500
TZNAME:EST
DTSTART:20241103T060000
END:STANDARD
END:VTIMEZONE
BEGIN:VEVENT
DTSTART;TZID=America/Detroit:20231102T160000
DTEND;TZID=America/Detroit:20231102T160000
DTSTAMP:20260420T011627
CREATED:20230721T195923Z
LAST-MODIFIED:20230721T195923Z
UID:8702-1698940800-1698940800@otsegolibrary.org
SUMMARY:Teen Scene
DESCRIPTION:September 7 & November 2\n(No meeting October 5)\n\n1st Thursday at 4 PM \nHang out with us – play games\, watch movies\, and eat snacks. Featuring Nintendo Switch consoles and fun new tabletop games.
URL:https://otsegolibrary.org/event/teen-scene-19/
CATEGORIES:Teen/Tween
END:VEVENT
BEGIN:VEVENT
DTSTART;TZID=America/Detroit:20231102T100000
DTEND;TZID=America/Detroit:20231102T100000
DTSTAMP:20260420T011627
CREATED:20230814T191420Z
LAST-MODIFIED:20230814T191420Z
UID:8816-1698919200-1698919200@otsegolibrary.org
SUMMARY:Storytime
DESCRIPTION:September 14 – November 16 (No meeting on October 5)\nThursdays at 10 AM \nAges 0-5 \nStories\, songs\, and a craft all focusing on a new theme each week.
URL:https://otsegolibrary.org/event/storytime-46/
CATEGORIES:Preschool
END:VEVENT
BEGIN:VEVENT
DTSTART;TZID=America/Detroit:20231101T160000
DTEND;TZID=America/Detroit:20231101T160000
DTSTAMP:20260420T011627
CREATED:20230721T185923Z
LAST-MODIFIED:20230721T185923Z
UID:8694-1698854400-1698854400@otsegolibrary.org
SUMMARY:Kids & Teens Who Code!
DESCRIPTION:Led by Liliana Gonzalez\, Cinthia Williams\, and Doriane Le Bourse\, PhD\, with Perrigo  \nSeptember 13 – November 15 (No Meeting October 4)\nWednesdays at 4 PM \nLearn to code with fun online tutorials and activities that will help build animations\, games\, apps\, and other things that you dream up! Discover the impact that computer science can have on our community. Registration is encouraged\, but not required.
URL:https://otsegolibrary.org/event/kids-teens-who-code-7/
CATEGORIES:Children,Teen/Tween
END:VEVENT
BEGIN:VEVENT
DTSTART;TZID=America/Detroit:20231101T100000
DTEND;TZID=America/Detroit:20231101T100000
DTSTAMP:20260420T011627
CREATED:20230814T190343Z
LAST-MODIFIED:20230814T190834Z
UID:8803-1698832800-1698832800@otsegolibrary.org
SUMMARY:Music & Movement
DESCRIPTION:September 13 – November 15 (No meeting on October 4)\nWednesdays at 10 AM \nAges 0-5 \nMovin’ and Groovin’ fun with songs\, stories\, interactive play\, and sensory activities.
URL:https://otsegolibrary.org/event/music-and-movement-15/
CATEGORIES:Preschool
END:VEVENT
BEGIN:VEVENT
DTSTART;TZID=America/Detroit:20231031T100000
DTEND;TZID=America/Detroit:20231031T100000
DTSTAMP:20260420T011627
CREATED:20230721T202719Z
LAST-MODIFIED:20230721T202719Z
UID:8734-1698746400-1698746400@otsegolibrary.org
SUMMARY:Tiny Tots
DESCRIPTION:September 12 – November 14 (No meeting on October 3) \nTuesdays at 10 AM  \nAges 0-24 Months \nSing\, read\, and play with your little ones and friends!
URL:https://otsegolibrary.org/event/tiny-tots-46/
CATEGORIES:Preschool
END:VEVENT
BEGIN:VEVENT
DTSTART;TZID=America/Detroit:20231027T180000
DTEND;TZID=America/Detroit:20231027T200000
DTSTAMP:20260420T011627
CREATED:20230721T145830Z
LAST-MODIFIED:20230721T145830Z
UID:8675-1698429600-1698436800@otsegolibrary.org
SUMMARY:Werewolf’s HOWL-O-Ween (After-Hours Party)
DESCRIPTION:Friday\, October 27 from 6 – 8 PM \nPractice your best mayhem\, mischief\, and other such frights at the library’s after-hours HOWL-O-Ween party! You’re sure to have a howling good time with pizza\, refreshments\, games\, hide-and-seek in the dark\, costume contest\, and of course… CANDY! \nThis special after-hours event is just for teens and tweens – no registration necessary.
URL:https://otsegolibrary.org/event/werewolfs-howl-o-ween-after-hours-party/
CATEGORIES:Teen/Tween
END:VEVENT
BEGIN:VEVENT
DTSTART;TZID=America/Detroit:20231026T160000
DTEND;TZID=America/Detroit:20231026T160000
DTSTAMP:20260420T011627
CREATED:20230721T200954Z
LAST-MODIFIED:20230721T200954Z
UID:8720-1698336000-1698336000@otsegolibrary.org
SUMMARY:Sweet & Salty Book Club
DESCRIPTION:September 28 & October 26 (No meeting November 23)\n4th Thursday at 4 PM \nDiscuss what we are reading over snacks! Choose any book to read and share with the group! \nAsk a staff member about new/ popular book suggestions!
URL:https://otsegolibrary.org/event/sweet-salty-book-club-14/
CATEGORIES:Teen/Tween
END:VEVENT
BEGIN:VEVENT
DTSTART;TZID=America/Detroit:20231026T100000
DTEND;TZID=America/Detroit:20231026T100000
DTSTAMP:20260420T011627
CREATED:20230811T204843Z
LAST-MODIFIED:20230811T204843Z
UID:8783-1698314400-1698314400@otsegolibrary.org
SUMMARY:Storytime
DESCRIPTION:September 14 – November 16 (No meeting on October 5)\nThursdays at 10 AM \nAges 0-5 \nStories\, songs\, and a craft all focusing on a new theme each week.
URL:https://otsegolibrary.org/event/storytime-45/
CATEGORIES:Preschool
END:VEVENT
BEGIN:VEVENT
DTSTART;TZID=America/Detroit:20231025T173000
DTEND;TZID=America/Detroit:20231025T173000
DTSTAMP:20260420T011627
CREATED:20221110T193624Z
LAST-MODIFIED:20231002T203543Z
UID:7556-1698255000-1698255000@otsegolibrary.org
SUMMARY:Library Board Meeting
DESCRIPTION:The Library Board of Trustees meets on a monthly basis to discuss library business and housekeeping. Meetings are open to the public and include a period of time for patrons to discuss comments and concerns. \n\nThese meetings are held once a month on Wednesdays at 5:30 PM. The board meetings are tentative and could be subject to change at any time. Keep an eye out for deviations in scheduled dates/times of these meetings.
URL:https://otsegolibrary.org/event/library-board-meeting-15/
CATEGORIES:Library Board
END:VEVENT
BEGIN:VEVENT
DTSTART;TZID=America/Detroit:20231025T160000
DTEND;TZID=America/Detroit:20231025T160000
DTSTAMP:20260420T011627
CREATED:20230721T185849Z
LAST-MODIFIED:20230721T185849Z
UID:8692-1698249600-1698249600@otsegolibrary.org
SUMMARY:Kids & Teens Who Code!
DESCRIPTION:Led by Liliana Gonzalez\, Cinthia Williams\, and Doriane Le Bourse\, PhD\, with Perrigo  \nSeptember 13 – November 15 (No Meeting October 4)\nWednesdays at 4 PM \nLearn to code with fun online tutorials and activities that will help build animations\, games\, apps\, and other things that you dream up! Discover the impact that computer science can have on our community. Registration is encouraged\, but not required.
URL:https://otsegolibrary.org/event/kids-teens-who-code-6/
CATEGORIES:Children,Teen/Tween
END:VEVENT
BEGIN:VEVENT
DTSTART;TZID=America/Detroit:20231025T130000
DTEND;TZID=America/Detroit:20231025T130000
DTSTAMP:20260420T011627
CREATED:20230720T212339Z
LAST-MODIFIED:20230720T212649Z
UID:8637-1698238800-1698238800@otsegolibrary.org
SUMMARY:Crafting Corner
DESCRIPTION:September 27\, October 25\, November 22\n4th Wednesday of the Month at 1 PM \nBring your knitting\, crocheting\, coloring\, or anything else you are working on and sit by the fireplace crafting with friends.
URL:https://otsegolibrary.org/event/crafting-corner-11/
CATEGORIES:Adult
END:VEVENT
BEGIN:VEVENT
DTSTART;TZID=America/Detroit:20231025T100000
DTEND;TZID=America/Detroit:20231025T100000
DTSTAMP:20260420T011627
CREATED:20230814T185952Z
LAST-MODIFIED:20230814T190824Z
UID:8801-1698228000-1698228000@otsegolibrary.org
SUMMARY:Music & Movement
DESCRIPTION:September 13 – November 15 (No meeting on October 4)\nWednesdays at 10 AM \nAges 0-5 \nMovin’ and Groovin’ fun with songs\, stories\, interactive play\, and sensory activities.
URL:https://otsegolibrary.org/event/music-and-movement-14/
CATEGORIES:Preschool
END:VEVENT
BEGIN:VEVENT
DTSTART;TZID=America/Detroit:20231024T160000
DTEND;TZID=America/Detroit:20231024T160000
DTSTAMP:20260420T011627
CREATED:20230919T140321Z
LAST-MODIFIED:20230919T140321Z
UID:8958-1698163200-1698163200@otsegolibrary.org
SUMMARY:Construct & Create
DESCRIPTION:September 12 – November 14 (No meeting on October 3 & 31)\nTuesdays at 4 PM\nFor Kindergarten – 5th Grade \nJoin your friends after school to build great structures and create beautiful art projects. Each week there will be different building sets and art materials so you can use your imagination and get your creative juices flowing!
URL:https://otsegolibrary.org/event/construct-create-5/
CATEGORIES:Children
END:VEVENT
BEGIN:VEVENT
DTSTART;TZID=America/Detroit:20231024T100000
DTEND;TZID=America/Detroit:20231024T100000
DTSTAMP:20260420T011627
CREATED:20230721T201441Z
LAST-MODIFIED:20230721T201854Z
UID:8732-1698141600-1698141600@otsegolibrary.org
SUMMARY:Tiny Tots
DESCRIPTION:September 12 – November 14 (No meeting on October 3) \nTuesdays at 10 AM  \nAges 0-24 Months \nSing\, read\, and play with your little ones and friends!
URL:https://otsegolibrary.org/event/tiny-tots-45/
CATEGORIES:Preschool
END:VEVENT
BEGIN:VEVENT
DTSTART;TZID=America/Detroit:20231021T100000
DTEND;TZID=America/Detroit:20231021T120000
DTSTAMP:20260420T011627
CREATED:20231013T152218Z
LAST-MODIFIED:20231013T152406Z
UID:8997-1697882400-1697889600@otsegolibrary.org
SUMMARY:Pizza & Puzzle Palooza
DESCRIPTION:Free fun for the whole family! \nBring your family and join your friends to put puzzles together at the library! \nYou can stay with your own family or join others to see how quickly or how many puzzles you can complete. After the puzzle palooza\, enjoy pizza and pop provided by the library.
URL:https://otsegolibrary.org/event/pizza-puzzle-palooza/
CATEGORIES:Family
END:VEVENT
BEGIN:VEVENT
DTSTART;TZID=America/Detroit:20231020T130000
DTEND;TZID=America/Detroit:20231020T130000
DTSTAMP:20260420T011627
CREATED:20230720T212141Z
LAST-MODIFIED:20230720T212141Z
UID:8633-1697806800-1697806800@otsegolibrary.org
SUMMARY:Get Crafty – Make & Take Crafts
DESCRIPTION:September 15\, October 20\, November 17 \n3rd Fridays of the Month at 1 PM \nCreate a fun craft for free! Each month you will be able to make a fun decoration for your home that you can proudly take home to display. \n 
URL:https://otsegolibrary.org/event/get-crafty-make-take-crafts-3/
CATEGORIES:Adult
END:VEVENT
BEGIN:VEVENT
DTSTART;TZID=America/Detroit:20231020T100000
DTEND;TZID=America/Detroit:20231020T100000
DTSTAMP:20260420T011627
CREATED:20230720T205741Z
LAST-MODIFIED:20230720T205741Z
UID:8624-1697796000-1697796000@otsegolibrary.org
SUMMARY:Coffee & Conversations
DESCRIPTION:September 15\, October 20\, November 17 \n3rd Fridays of the Month at 10 AM \nJoin your community friends for some coffee\, tea\, and yummy treats while having lively discussions.
URL:https://otsegolibrary.org/event/coffee-conversations-5/
CATEGORIES:Adult
END:VEVENT
BEGIN:VEVENT
DTSTART;TZID=America/Detroit:20231019T183000
DTEND;TZID=America/Detroit:20231019T183000
DTSTAMP:20260420T011627
CREATED:20230720T204009Z
LAST-MODIFIED:20230928T133412Z
UID:8604-1697740200-1697740200@otsegolibrary.org
SUMMARY:Author’s Journey Series - Chasing North Star Presented by Author\, Heidi McCrary
DESCRIPTION:Author’s Journey Series\nJoin us for a series of different authors and their journeys in health\, family relations\, and care giving. \nChasing North Star\nPresented by Author Heidi McCrary\nThursday\, October 19 at 6:30 PM\nAn Otsego graduate\, author Heidi McCrary’s debut novel\, Chasing North Star borrows heavily from her time growing up in Alamo\, just a short drive from Otsego. Described as dark humor\, the story tells the tale of a band of siblings growing up with a mentally unstable mother who can’t help herself\, and their journey to finding forgiveness. This bittersweet coming-of-age story features many locations and events that local readers will find especially entertaining. Learn more about Heidi at www. heidimccrary.net and www.facebook.com/HeidiMcCraryAuthor. Signed copies of “Chasing North Star” will be available for purchase after the presentation. \nUp & Coming Event in this Series\nDad\, A Diary of Daring and Questioning\nPresented by author Robert Weir\nThursday\, November 16 at 6:30 PM\n“My dad and mom took care of me when I was young. When my dad became old and needed me\, I simply returned the favor.” This sentiment was the philosophical mantra of Robert’s story of his remarkable five-year journey into the realm of parental care. Robert says. “Caring for him was a challenge\, but we talked in ways we never had before\, and the rewards of being together were tremendous.” In his presentation\, Robert will talk about those rewards. He will have signed copies of his books for sale.
URL:https://otsegolibrary.org/event/authors-journey-series-a-hopeful-life-by-lara-macgregor/
CATEGORIES:Adult
END:VEVENT
BEGIN:VEVENT
DTSTART;TZID=America/Detroit:20231019T160000
DTEND;TZID=America/Detroit:20231019T160000
DTSTAMP:20260420T011627
CREATED:20230721T200642Z
LAST-MODIFIED:20230721T200642Z
UID:8714-1697731200-1697731200@otsegolibrary.org
SUMMARY:Creative Writing Club
DESCRIPTION:September 21\, October 19\, & November 16 \n3rd Thursday at 4 PM  \nDo you LOVE to write?\nJoin us as we write together and share short stories\, original writing pieces\, and ideas. All writing styles are welcome.
URL:https://otsegolibrary.org/event/creative-writing-club-6/
CATEGORIES:Teen/Tween
END:VEVENT
BEGIN:VEVENT
DTSTART;TZID=America/Detroit:20231019T140000
DTEND;TZID=America/Detroit:20231019T140000
DTSTAMP:20260420T011627
CREATED:20230720T205326Z
LAST-MODIFIED:20230720T205326Z
UID:8618-1697724000-1697724000@otsegolibrary.org
SUMMARY:Cricut 101
DESCRIPTION:Cricut Maker Classes\nThe Cricut Maker and Cricut Heat Press are available for patron use. A variety of supplies are available to purchase from the library or you may provide your own. \nCricut 101\nThursday\, October 19 at 2 PM\nLearn about the library’s Cricut Maker cutting machine. This beginner’s level class will showcase the Cricut Maker\, Cricut Design Space software\, and creating projects with permanent vinyl. \nCheck out the advanced class!\nCricut 102\nThursday\, November 9 at 2 PM\nGet an in depth tutorial on the Cricut Maker cutting machine\, Cricut Heat Press\, and Cricut Design Space software. This class is an intermediate level class that will cover the steps involved with creating projects with heat transfer vinyl.
URL:https://otsegolibrary.org/event/cricut-101/
CATEGORIES:Adult
END:VEVENT
BEGIN:VEVENT
DTSTART;TZID=America/Detroit:20231019T100000
DTEND;TZID=America/Detroit:20231019T100000
DTSTAMP:20260420T011627
CREATED:20230811T195254Z
LAST-MODIFIED:20230811T204813Z
UID:8778-1697709600-1697709600@otsegolibrary.org
SUMMARY:Storytime
DESCRIPTION:September 14 – November 16 (No meeting on October 5)\nThursdays at 10 AM \nAges 0-5 \nStories\, songs\, and a craft all focusing on a new theme each week.
URL:https://otsegolibrary.org/event/storytime-44/
CATEGORIES:Preschool
END:VEVENT
BEGIN:VEVENT
DTSTART;TZID=America/Detroit:20231018T160000
DTEND;TZID=America/Detroit:20231018T160000
DTSTAMP:20260420T011627
CREATED:20230721T185821Z
LAST-MODIFIED:20230721T185821Z
UID:8690-1697644800-1697644800@otsegolibrary.org
SUMMARY:Kids & Teens Who Code!
DESCRIPTION:Led by Liliana Gonzalez\, Cinthia Williams\, and Doriane Le Bourse\, PhD\, with Perrigo  \nSeptember 13 – November 15 (No Meeting October 4)\nWednesdays at 4 PM \nLearn to code with fun online tutorials and activities that will help build animations\, games\, apps\, and other things that you dream up! Discover the impact that computer science can have on our community. Registration is encouraged\, but not required.
URL:https://otsegolibrary.org/event/kids-teens-who-code-5/
CATEGORIES:Children,Teen/Tween
END:VEVENT
BEGIN:VEVENT
DTSTART;TZID=America/Detroit:20231018T100000
DTEND;TZID=America/Detroit:20231018T100000
DTSTAMP:20260420T011627
CREATED:20230814T185219Z
LAST-MODIFIED:20230814T185219Z
UID:8799-1697623200-1697623200@otsegolibrary.org
SUMMARY:Music & Movement
DESCRIPTION:September 13 – November 15 (No meeting on October 4)\nWednesdays at 10 AM \nAges 0-5 \nMovin’ and Groovin’ fun with songs\, stories\, interactive play\, and sensory activities.
URL:https://otsegolibrary.org/event/music-movement-31/
CATEGORIES:Preschool
END:VEVENT
BEGIN:VEVENT
DTSTART;TZID=America/Detroit:20231017T160000
DTEND;TZID=America/Detroit:20231017T160000
DTSTAMP:20260420T011627
CREATED:20230919T140255Z
LAST-MODIFIED:20230919T140255Z
UID:8956-1697558400-1697558400@otsegolibrary.org
SUMMARY:Construct & Create
DESCRIPTION:September 12 – November 14 (No meeting on October 3 & 31)\nTuesdays at 4 PM\nFor Kindergarten – 5th Grade \nJoin your friends after school to build great structures and create beautiful art projects. Each week there will be different building sets and art materials so you can use your imagination and get your creative juices flowing!
URL:https://otsegolibrary.org/event/construct-create-4/
CATEGORIES:Children
END:VEVENT
BEGIN:VEVENT
DTSTART;TZID=America/Detroit:20231017T100000
DTEND;TZID=America/Detroit:20231017T100000
DTSTAMP:20260420T011627
CREATED:20230721T201357Z
LAST-MODIFIED:20230721T201357Z
UID:8730-1697536800-1697536800@otsegolibrary.org
SUMMARY:Tiny Tots
DESCRIPTION:September 12 – November 14 (No meeting on October 3) \nTuesdays at 10 AM  \nAges 0-24 Months \nSing\, read\, and play with your little ones and friends!
URL:https://otsegolibrary.org/event/tiny-tots-44/
CATEGORIES:Preschool
END:VEVENT
BEGIN:VEVENT
DTSTART;TZID=America/Detroit:20231014T090000
DTEND;TZID=America/Detroit:20231014T140000
DTSTAMP:20260420T011627
CREATED:20230811T173522Z
LAST-MODIFIED:20230811T173535Z
UID:8768-1697274000-1697292000@otsegolibrary.org
SUMMARY:BIG Fall Book Sale
DESCRIPTION:The Friends of the Library are hosting a TWO DAY BIG Fall Book Book Sale! \nWho loves a book bargain?! We sure do! Books will be on sale at discounted rates. Shelves inside the bookstore will be restocked with new titles after each sale. \nDates:\nFriday\, October 13 – – – – – 9 AM – 6 PM\nSaturday\, October 14 – – – 9 AM – 2 PM
URL:https://otsegolibrary.org/event/big-fall-book-sale-2/
CATEGORIES:Friends of the Library
END:VEVENT
BEGIN:VEVENT
DTSTART;TZID=America/Detroit:20231013T090000
DTEND;TZID=America/Detroit:20231013T180000
DTSTAMP:20260420T011627
CREATED:20230811T173422Z
LAST-MODIFIED:20230811T173422Z
UID:8766-1697187600-1697220000@otsegolibrary.org
SUMMARY:BIG Fall Book Sale
DESCRIPTION:The Friends of the Library are hosting a TWO DAY BIG Fall Book Book Sale! \nWho loves a book bargain?! We sure do! Books will be on sale at discounted rates. Shelves inside the bookstore will be restocked with new titles after each sale. \nDates:\nFriday\, October 13 – – – – – 9 AM – 6 PM\nSaturday\, October 14 – – – 9 AM – 2 PM
URL:https://otsegolibrary.org/event/big-fall-book-sale/
CATEGORIES:Friends of the Library
END:VEVENT
BEGIN:VEVENT
DTSTART;TZID=America/Detroit:20231012T160000
DTEND;TZID=America/Detroit:20231012T160000
DTSTAMP:20260420T011627
CREATED:20230721T200124Z
LAST-MODIFIED:20230721T200124Z
UID:8706-1697126400-1697126400@otsegolibrary.org
SUMMARY:Art Hub
DESCRIPTION:September 14\, October 12\, & November 9 \n2nd Thursday at 4 PM  \nCreate beautiful and fun pieces of art at this art club! The crafts at these meetups are more advanced and picked for teens/tweens – drawing\, painting\, crafting and more!
URL:https://otsegolibrary.org/event/art-hub-10/
CATEGORIES:Teen/Tween
END:VEVENT
BEGIN:VEVENT
DTSTART;TZID=America/Detroit:20231012T100000
DTEND;TZID=America/Detroit:20231012T100000
DTSTAMP:20260420T011627
CREATED:20230811T195214Z
LAST-MODIFIED:20230811T195225Z
UID:8776-1697104800-1697104800@otsegolibrary.org
SUMMARY:Storytime
DESCRIPTION:September 14 – November 16 (No meeting on October 5)\nThursdays at 10 AM \nAges 0-5 \nStories\, songs\, and a craft all focusing on a new theme each week.
URL:https://otsegolibrary.org/event/storytime-43/
CATEGORIES:Preschool
END:VEVENT
BEGIN:VEVENT
DTSTART;TZID=America/Detroit:20231011T180000
DTEND;TZID=America/Detroit:20231011T180000
DTSTAMP:20260420T011627
CREATED:20230721T144527Z
LAST-MODIFIED:20230721T144527Z
UID:8665-1697047200-1697047200@otsegolibrary.org
SUMMARY:Non Fiction Book Club
DESCRIPTION:2nd Wednesday at 6 PM \nJuly 12\nTrail of Tears by John Ehle \nAugust 9\nThe Falcon Thief by Joshua Hammer \nSeptember 13\nNew Women in the Old West by Winifred Gallagher \nOctober 11\nThe Soul of an Octopus by Sy Montgomery \nNovember 8\nFirst on the Moon by Armstrong\, Collins\, and Aldrin \nDecember 13\nThe Bad-Ass Librarians of Timbuktu by Joshua Hammer \nJanuary 10\nRubicon by Tom Holland
URL:https://otsegolibrary.org/event/non-fiction-book-club-19/
CATEGORIES:Book Club
END:VEVENT
END:VCALENDAR