BEGIN:VCALENDAR
VERSION:2.0
PRODID:-//Otsego District Public Library - ECPv6.15.20//NONSGML v1.0//EN
CALSCALE:GREGORIAN
METHOD:PUBLISH
X-WR-CALNAME:Otsego District Public Library
X-ORIGINAL-URL:https://otsegolibrary.org
X-WR-CALDESC:Events for Otsego District Public Library
REFRESH-INTERVAL;VALUE=DURATION:PT1H
X-Robots-Tag:noindex
X-PUBLISHED-TTL:PT1H
BEGIN:VTIMEZONE
TZID:America/Detroit
BEGIN:DAYLIGHT
TZOFFSETFROM:-0500
TZOFFSETTO:-0400
TZNAME:EDT
DTSTART:20230312T070000
END:DAYLIGHT
BEGIN:STANDARD
TZOFFSETFROM:-0400
TZOFFSETTO:-0500
TZNAME:EST
DTSTART:20231105T060000
END:STANDARD
BEGIN:DAYLIGHT
TZOFFSETFROM:-0500
TZOFFSETTO:-0400
TZNAME:EDT
DTSTART:20240310T070000
END:DAYLIGHT
BEGIN:STANDARD
TZOFFSETFROM:-0400
TZOFFSETTO:-0500
TZNAME:EST
DTSTART:20241103T060000
END:STANDARD
BEGIN:DAYLIGHT
TZOFFSETFROM:-0500
TZOFFSETTO:-0400
TZNAME:EDT
DTSTART:20250309T070000
END:DAYLIGHT
BEGIN:STANDARD
TZOFFSETFROM:-0400
TZOFFSETTO:-0500
TZNAME:EST
DTSTART:20251102T060000
END:STANDARD
END:VTIMEZONE
BEGIN:VEVENT
DTSTART;TZID=America/Detroit:20240815T190000
DTEND;TZID=America/Detroit:20240815T190000
DTSTAMP:20260419T233205
CREATED:20240708T175405Z
LAST-MODIFIED:20240723T163630Z
UID:9994-1723748400-1723748400@otsegolibrary.org
SUMMARY:Out of Favor Boys
DESCRIPTION:THURSDAYS IN AUGUST @ 7 PM \nVisit the library FOUR Thursday evenings in August for an outdoor concert on the lawn. (No performance on Thursday\, August 29.) \nBring a lawn chair or blanket and your family and friends to enjoy some great FREE entertainment. Popcorn provided by the Friends of the Library and bottled water for $1. \nBEST OF THE BEST \nCelebrate a DECADE of brilliant performers at Otsego District Library! This summer we have invited back some of our top favorite bands over the years. A patron vote has invited back Otsego Jazz Ensemble. \nOUT OF FAVOR BOYS \nAugust 15 \nOut of Favor Boys is one of Southwest Michigan’s premier contemporary blues bands. They’ve been the house band at two of Kalamazoo’s longest-lasting Thursday Blues Jams at Wonderful’s Funky Basement and The 411 Club. The band has had the opportunity to play with some national blues musicians like Tab Benoit\, Watermelon Slim and Robert Bradley. \nGREAT SCOTT \nAugust 22 \nIf you enjoy the Main Street Dueling Pianos\, come back for Joe Laureano’s full cover band\, “Great Scott.” Great Scott performs the greatest songs from the 1950’s to the new hits of today. Joe will come with a five piece band. This band is guaranteed to have you laugh
URL:https://otsegolibrary.org/event/out-of-favor-boys/
CATEGORIES:Lyrics on the Lawn - Free Concerts
END:VEVENT
BEGIN:VEVENT
DTSTART;TZID=America/Detroit:20240814T180000
DTEND;TZID=America/Detroit:20240814T180000
DTSTAMP:20260419T233205
CREATED:20231203T151834Z
LAST-MODIFIED:20231203T151834Z
UID:9154-1723658400-1723658400@otsegolibrary.org
SUMMARY:Non-Fiction Book Club
DESCRIPTION:Meets on the 2nd Wednesday at 6 PM \nJanuary 10\nRubicon by Tom Holland \nFebruary 14\nThe Making of the Atomic Bomb by Richard Rhodes \nMarch 11\nBecoming Charlemagne by Jeff Sypeck \nApril 10\nThomas Jefferson: The Art of Power by John Meacham \nMay 8\nThe Rise & Reign of the Mammals by Steve Brusatte \nJune 12\nThe Last Castle by Denise Kiernan \nJuly 10\nThe Year of Lear: Shakespeare in 1606 by James Shapiro \nAugust 14\nBlue Highways: A Journey into America by William Least Heat-Moon
URL:https://otsegolibrary.org/event/non-fiction-book-club-28/
CATEGORIES:Book Club
END:VEVENT
BEGIN:VEVENT
DTSTART;TZID=America/Detroit:20240812T140000
DTEND;TZID=America/Detroit:20240812T140000
DTSTAMP:20260419T233205
CREATED:20231202T040336Z
LAST-MODIFIED:20231203T151200Z
UID:9129-1723471200-1723471200@otsegolibrary.org
SUMMARY:2nd Monday Book Club
DESCRIPTION:Meets on the 2nd Monday at 2 PM \nJanuary 8\nProject Hail Mary by Andy Weir \nFebruary 12\nThe Bookwoman of Troublesome Creek by Kim Michele Richardson \nMarch 11\nThe Great Alone by Kristin Hannah \nApril 8\nMr. Penumbra’s 24 Hour Bookstore by Marianne Cronin \nMay 13\nThe Lilac Girls by Martha Hall Kelly \nJune 10\nBorn A Crime by Trevor Noah \nJuly 8\nThe Nickle Boys by Colson Whitehead \nAugust 12\nRainy Day Friends by Jill Shalvis
URL:https://otsegolibrary.org/event/2nd-monday-book-club-29/
CATEGORIES:Book Club
END:VEVENT
BEGIN:VEVENT
DTSTART;TZID=America/Detroit:20240808T190000
DTEND;TZID=America/Detroit:20240808T190000
DTSTAMP:20260419T233205
CREATED:20240708T175308Z
LAST-MODIFIED:20240723T163626Z
UID:9992-1723143600-1723143600@otsegolibrary.org
SUMMARY:Otsego Jazz Ensemble
DESCRIPTION:THURSDAYS IN AUGUST @ 7 PM \nVisit the library FOUR Thursday evenings in August for an outdoor concert on the lawn. (No performance on Thursday\, August 29.) \nBring a lawn chair or blanket and your family and friends to enjoy some great FREE entertainment. Popcorn provided by the Friends of the Library and bottled water for $1. \nBEST OF THE BEST \nCelebrate a DECADE of brilliant performers at Otsego District Library! This summer we have invited back some of our top favorite bands over the years. A patron vote has invited back Otsego Jazz Ensemble. \nOTSEGO JAZZ ENSEMBLE \nAugust 8 \nThese local musicians: five saxes\, four trombones\, four trumpets\, and a full rhythm section will perform music from the big band era. You don’t want to miss this performance of these top notch musicians. \nOUT OF FAVOR BOYS \nAugust 15 \nOut of Favor Boys is one of Southwest Michigan’s premier contemporary blues bands. They’ve been the house band at two of Kalamazoo’s longest-lasting Thursday Blues Jams at Wonderful’s Funky Basement and The 411 Club. The band has had the opportunity to play with some national blues musicians like Tab Benoit\, Watermelon Slim and Robert Bradley. \nGREAT SCOTT \nAugust 22 \nIf you enjoy the Main Street Dueling Pianos\, come back for Joe Laureano’s full cover band\, “Great Scott.” Great Scott performs the greatest songs from the 1950’s to the new hits of today. Joe will come with a five piece band. This band is guaranteed to have you laugh
URL:https://otsegolibrary.org/event/otsego-jazz-ensemble/
CATEGORIES:Lyrics on the Lawn - Free Concerts
END:VEVENT
BEGIN:VEVENT
DTSTART;TZID=America/Detroit:20240801T190000
DTEND;TZID=America/Detroit:20240801T190000
DTSTAMP:20260419T233205
CREATED:20240708T175222Z
LAST-MODIFIED:20240723T163544Z
UID:9990-1722538800-1722538800@otsegolibrary.org
SUMMARY:Main Street Dueling Pianos
DESCRIPTION:THURSDAYS IN AUGUST @ 7 PM \nVisit the library FOUR Thursday evenings in August for an outdoor concert on the lawn. (No performance on Thursday\, August 29.) \nBring a lawn chair or blanket and your family and friends to enjoy some great FREE entertainment. Popcorn provided by the Friends of the Library and bottled water for $1. \nBEST OF THE BEST \nCelebrate a DECADE of brilliant performers at Otsego District Library! This summer we have invited back some of our top favorite bands over the years. A patron vote has invited back Otsego Jazz Ensemble. \nMAIN STREET DUELING PIANOS \nAugust 1 \nJoe Laureano has been performing rock & roll professionally his entire adult life. He is well known all across the country and has an impressive repertoire of 1\,000+ songs\, spanning more than seven decades of music. \nOTSEGO JAZZ ENSEMBLE \nAugust 8 \nThese local musicians: five saxes\, four trombones\, four trumpets\, and a full rhythm section will perform music from the big band era. You don’t want to miss this performance of these top notch musicians. \nOUT OF FAVOR BOYS \nAugust 15 \nOut of Favor Boys is one of Southwest Michigan’s premier contemporary blues bands. They’ve been the house band at two of Kalamazoo’s longest-lasting Thursday Blues Jams at Wonderful’s Funky Basement and The 411 Club. The band has had the opportunity to play with some national blues musicians like Tab Benoit\, Watermelon Slim and Robert Bradley. \nGREAT SCOTT \nAugust 22 \nIf you enjoy the Main Street Dueling Pianos\, come back for Joe Laureano’s full cover band\, “Great Scott.” Great Scott performs the greatest songs from the 1950’s to the new hits of today. Joe will come with a five piece band. This band is guaranteed to have you laughing\, toe-tapping\, and dancing along!
URL:https://otsegolibrary.org/event/main-street-dueling-pianos/
CATEGORIES:Lyrics on the Lawn - Free Concerts
END:VEVENT
BEGIN:VEVENT
DTSTART;TZID=America/Detroit:20240725T140000
DTEND;TZID=America/Detroit:20240725T140000
DTSTAMP:20260419T233205
CREATED:20240610T144450Z
LAST-MODIFIED:20240610T144629Z
UID:9773-1721916000-1721916000@otsegolibrary.org
SUMMARY:Indoor Campout Party
DESCRIPTION:Thrilling Thursdays are weekly events that feature guests or special activities for middle school and high school aged teens/tweens! \nCelebrate the end of the summer reading program with us as we eat snacks\, play games\, and win prizes!
URL:https://otsegolibrary.org/event/indoor-campout-party/
CATEGORIES:Teen/Tween
END:VEVENT
BEGIN:VEVENT
DTSTART;TZID=America/Detroit:20240725T100000
DTEND;TZID=America/Detroit:20240725T100000
DTSTAMP:20260419T233205
CREATED:20240725T131920Z
LAST-MODIFIED:20240725T132334Z
UID:10072-1721901600-1721901600@otsegolibrary.org
SUMMARY:Let's Go On An Adventure!
DESCRIPTION:June 20 – July 25  (No meeting on July 4) \nThursdays at 10 AM \nPreschool through 5th grade \nEvery week we’ll go on a new adventure all while staying at the library! Let’s go biking\, camping\, hiking\, swimming\, and fishing. \n\nBiking week on June 20 will include bike safety with an Otsego Police Officer Michael Gudith\n\nFishing week on July 25 will include a visit from the Wolf Creek Fish Hatchery
URL:https://otsegolibrary.org/event/lets-go-on-an-adventure-9/
CATEGORIES:Children
END:VEVENT
BEGIN:VEVENT
DTSTART;TZID=America/Detroit:20240724T100000
DTEND;TZID=America/Detroit:20240724T100000
DTSTAMP:20260419T233205
CREATED:20240607T210036Z
LAST-MODIFIED:20240610T141958Z
UID:9717-1721815200-1721815200@otsegolibrary.org
SUMMARY:Adventurous Stories & Songs
DESCRIPTION:June 19 – July 24 \nWednesdays at 10 AM  \nAges 0-5 \nEach week we will focus on different adventures while we hear stories\, sing songs\, play games\, make a craft\, and have sensory activities.
URL:https://otsegolibrary.org/event/adventurous-stories-songs-6/
CATEGORIES:Preschool
END:VEVENT
BEGIN:VEVENT
DTSTART;TZID=America/Detroit:20240723T140000
DTEND;TZID=America/Detroit:20240723T140000
DTSTAMP:20260419T233205
CREATED:20240610T143242Z
LAST-MODIFIED:20240610T143643Z
UID:9752-1721743200-1721743200@otsegolibrary.org
SUMMARY:Felt Lumberjack Art
DESCRIPTION:Trailblazing Tuesdays are weekly craft events for middle school and high school aged teens/tweens! \nDesign your own scenic art piece.
URL:https://otsegolibrary.org/event/felt-lumberjack-art/
CATEGORIES:Teen/Tween
END:VEVENT
BEGIN:VEVENT
DTSTART;TZID=America/Detroit:20240723T100000
DTEND;TZID=America/Detroit:20240723T100000
DTSTAMP:20260419T233205
CREATED:20240603T211607Z
LAST-MODIFIED:20240603T212225Z
UID:9695-1721728800-1721728800@otsegolibrary.org
SUMMARY:Duct Tape Adventures - Joel Tacey
DESCRIPTION:Preschool – 5th Grade \nJoin in the fun as a REAL Duct Tape Artist teaches simply amazing\, yet amazingly simple duct tape crafts. All supplies are provided\, so you only need to bring yourself\, friends\, family\, and a sense of creativity!
URL:https://otsegolibrary.org/event/9695/
CATEGORIES:Children
END:VEVENT
BEGIN:VEVENT
DTSTART;TZID=America/Detroit:20240722T100000
DTEND;TZID=America/Detroit:20240722T110000
DTSTAMP:20260419T233205
CREATED:20240603T205827Z
LAST-MODIFIED:20240603T205827Z
UID:9681-1721642400-1721646000@otsegolibrary.org
SUMMARY:Stroller Adventure Walk
DESCRIPTION:(0 – 5 Years Old)\n \nJune 17 – July 22 \nMondays at 10 AM \nJoin your friends while we walk to Memorial Park and play at the park.
URL:https://otsegolibrary.org/event/stroller-adventure-walk-6/
CATEGORIES:Preschool
END:VEVENT
BEGIN:VEVENT
DTSTART;TZID=America/Detroit:20240718T140000
DTEND;TZID=America/Detroit:20240718T140000
DTSTAMP:20260419T233205
CREATED:20240610T144308Z
LAST-MODIFIED:20240610T144317Z
UID:9771-1721311200-1721311200@otsegolibrary.org
SUMMARY:Team Adventure!
DESCRIPTION:Thrilling Thursdays are weekly events that feature guests or special activities for middle school and high school aged teens/tweens! \nGet ready for epic outdoor activities that will be fun and challenging.  
URL:https://otsegolibrary.org/event/team-adventure/
CATEGORIES:Teen/Tween
END:VEVENT
BEGIN:VEVENT
DTSTART;TZID=America/Detroit:20240718T100000
DTEND;TZID=America/Detroit:20240718T100000
DTSTAMP:20260419T233205
CREATED:20240607T210346Z
LAST-MODIFIED:20240607T210346Z
UID:9727-1721296800-1721296800@otsegolibrary.org
SUMMARY:Let’s Go on an Adventure
DESCRIPTION:June 20 – July 25  (No meeting on July 4) \nThursdays at 10 AM \nPreschool through 5th grade \nEvery week we’ll go on a new adventure all while staying at the library! Let’s go biking\, camping\, hiking\, swimming\, and fishing. \n\nBiking week on June 20 will include bike safety with an Otsego Police Officer Michael Gudith\n\nFishing week on July 25 will include a visit from the Wolf Creek Fish Hatchery
URL:https://otsegolibrary.org/event/lets-go-on-an-adventure-4/
CATEGORIES:Children
END:VEVENT
BEGIN:VEVENT
DTSTART;TZID=America/Detroit:20240717T173000
DTEND;TZID=America/Detroit:20240717T173000
DTSTAMP:20260419T233205
CREATED:20240312T134953Z
LAST-MODIFIED:20240813T140220Z
UID:9482-1721237400-1721237400@otsegolibrary.org
SUMMARY:Library Board Meeting
DESCRIPTION:The Library Board of Trustees meets on a monthly basis to discuss library business and housekeeping. Meetings are open to the public and include a period of time for patrons to discuss comments and concerns. \nThese meetings are held once a month on Wednesdays at 5:30 PM.
URL:https://otsegolibrary.org/event/library-board-meeting-23/
CATEGORIES:Library Board
END:VEVENT
BEGIN:VEVENT
DTSTART;TZID=America/Detroit:20240717T100000
DTEND;TZID=America/Detroit:20240717T100000
DTSTAMP:20260419T233205
CREATED:20240607T205834Z
LAST-MODIFIED:20240610T141954Z
UID:9715-1721210400-1721210400@otsegolibrary.org
SUMMARY:Adventurous Stories & Songs
DESCRIPTION:June 19 – July 24 \nWednesdays at 10 AM  \nAges 0-5 \nEach week we will focus on different adventures while we hear stories\, sing songs\, play games\, make a craft\, and have sensory activities.
URL:https://otsegolibrary.org/event/adventurous-stories-songs-5/
CATEGORIES:Preschool
END:VEVENT
BEGIN:VEVENT
DTSTART;TZID=America/Detroit:20240716T140000
DTEND;TZID=America/Detroit:20240716T140000
DTSTAMP:20260419T233205
CREATED:20240610T143200Z
LAST-MODIFIED:20240610T143636Z
UID:9750-1721138400-1721138400@otsegolibrary.org
SUMMARY:Silicone Keychains
DESCRIPTION:Trailblazing Tuesdays are weekly craft events for middle school and high school aged teens/tweens!\n \nMake a custom keychain out of silicone beads.
URL:https://otsegolibrary.org/event/silicone-keychains/
CATEGORIES:Teen/Tween
END:VEVENT
BEGIN:VEVENT
DTSTART;TZID=America/Detroit:20240716T100000
DTEND;TZID=America/Detroit:20240716T100000
DTSTAMP:20260419T233205
CREATED:20240607T205327Z
LAST-MODIFIED:20240607T205405Z
UID:9705-1721124000-1721124000@otsegolibrary.org
SUMMARY:Backyard Safari Adventure with Outdoor Discovery Center
DESCRIPTION:Have you ever explored your backyard jungle? Rolled over a log? Or turned over a rock? Come join the Outdoor Discovery Center as we go on an adventure and explore our wild backyards with the help of our captive animal ambassadors.
URL:https://otsegolibrary.org/event/backyard-safari-adventure-with-outdoor-discovery-center-2/
CATEGORIES:Children
END:VEVENT
BEGIN:VEVENT
DTSTART;TZID=America/Detroit:20240715T100000
DTEND;TZID=America/Detroit:20240715T110000
DTSTAMP:20260419T233205
CREATED:20240603T205744Z
LAST-MODIFIED:20240603T205758Z
UID:9679-1721037600-1721041200@otsegolibrary.org
SUMMARY:Stroller Adventure Walk
DESCRIPTION:(0 – 5 Years Old)\n \nJune 17 – July 22 \nMondays at 10 AM \nJoin your friends while we walk to Memorial Park and play at the park.
URL:https://otsegolibrary.org/event/stroller-adventure-walk-5/
CATEGORIES:Preschool
END:VEVENT
BEGIN:VEVENT
DTSTART;TZID=America/Detroit:20240711T140000
DTEND;TZID=America/Detroit:20240711T140000
DTSTAMP:20260419T233205
CREATED:20240610T144211Z
LAST-MODIFIED:20240610T144216Z
UID:9769-1720706400-1720706400@otsegolibrary.org
SUMMARY:Nature Bookmark Prints - Chula Vista Garden Club
DESCRIPTION:Thrilling Thursdays are weekly events that feature guests or special activities for middle school and high school aged teens/tweens! \nChula Vista Garden Club volunteers will teach you about the flowers and leaves used to design beautiful nature print bookmarks. Create these with a pounding method.
URL:https://otsegolibrary.org/event/nature-bookmark-prints-chula-vista-garden-club/
CATEGORIES:Teen/Tween
END:VEVENT
BEGIN:VEVENT
DTSTART;TZID=America/Detroit:20240711T100000
DTEND;TZID=America/Detroit:20240711T100000
DTSTAMP:20260419T233205
CREATED:20240607T210323Z
LAST-MODIFIED:20240607T210323Z
UID:9725-1720692000-1720692000@otsegolibrary.org
SUMMARY:Let’s Go on an Adventure
DESCRIPTION:June 20 – July 25  (No meeting on July 4) \nThursdays at 10 AM \nPreschool through 5th grade \nEvery week we’ll go on a new adventure all while staying at the library! Let’s go biking\, camping\, hiking\, swimming\, and fishing. \n\nBiking week on June 20 will include bike safety with an Otsego Police Officer Michael Gudith\n\nFishing week on July 25 will include a visit from the Wolf Creek Fish Hatchery
URL:https://otsegolibrary.org/event/lets-go-on-an-adventure-3/
CATEGORIES:Children
END:VEVENT
BEGIN:VEVENT
DTSTART;TZID=America/Detroit:20240710T180000
DTEND;TZID=America/Detroit:20240710T180000
DTSTAMP:20260419T233205
CREATED:20231203T151748Z
LAST-MODIFIED:20231203T151748Z
UID:9152-1720634400-1720634400@otsegolibrary.org
SUMMARY:Non-Fiction Book Club
DESCRIPTION:Meets on the 2nd Wednesday at 6 PM \nJanuary 10\nRubicon by Tom Holland \nFebruary 14\nThe Making of the Atomic Bomb by Richard Rhodes \nMarch 11\nBecoming Charlemagne by Jeff Sypeck \nApril 10\nThomas Jefferson: The Art of Power by John Meacham \nMay 8\nThe Rise & Reign of the Mammals by Steve Brusatte \nJune 12\nThe Last Castle by Denise Kiernan \nJuly 10\nThe Year of Lear: Shakespeare in 1606 by James Shapiro \nAugust 14\nBlue Highways: A Journey into America by William Least Heat-Moon
URL:https://otsegolibrary.org/event/non-fiction-book-club-27/
CATEGORIES:Book Club
END:VEVENT
BEGIN:VEVENT
DTSTART;TZID=America/Detroit:20240710T140000
DTEND;TZID=America/Detroit:20240710T140000
DTSTAMP:20260419T233205
CREATED:20240610T145042Z
LAST-MODIFIED:20240610T145335Z
UID:9783-1720620000-1720620000@otsegolibrary.org
SUMMARY:Outdoor Book Club
DESCRIPTION:June 26 & July 10 – Wednesdays @ 2 PM \nShare what you are reading or your favorite book with other teens and tweens. \nThis book club is for teens and tweens.
URL:https://otsegolibrary.org/event/outdoor-book-club-2/
CATEGORIES:Teen/Tween
END:VEVENT
BEGIN:VEVENT
DTSTART;TZID=America/Detroit:20240710T100000
DTEND;TZID=America/Detroit:20240710T100000
DTSTAMP:20260419T233205
CREATED:20240607T205815Z
LAST-MODIFIED:20240610T141951Z
UID:9713-1720605600-1720605600@otsegolibrary.org
SUMMARY:Adventurous Stories & Songs
DESCRIPTION:June 19 – July 24 \nWednesdays at 10 AM  \nAges 0-5 \nEach week we will focus on different adventures while we hear stories\, sing songs\, play games\, make a craft\, and have sensory activities.
URL:https://otsegolibrary.org/event/adventurous-stories-songs-4/
CATEGORIES:Preschool
END:VEVENT
BEGIN:VEVENT
DTSTART;TZID=America/Detroit:20240709T140000
DTEND;TZID=America/Detroit:20240709T140000
DTSTAMP:20260419T233205
CREATED:20240610T143119Z
LAST-MODIFIED:20240610T143632Z
UID:9748-1720533600-1720533600@otsegolibrary.org
SUMMARY:Sunset Dot Painting
DESCRIPTION:Trailblazing Tuesdays are weekly craft events for middle school and high school aged teens/tweens! \nUse pointillism – a technique of applying small dots of color in patterns – to create a beautiful painting.
URL:https://otsegolibrary.org/event/sunset-dot-painting/
CATEGORIES:Teen/Tween
END:VEVENT
BEGIN:VEVENT
DTSTART;TZID=America/Detroit:20240709T100000
DTEND;TZID=America/Detroit:20240709T100000
DTSTAMP:20260419T233205
CREATED:20240607T205224Z
LAST-MODIFIED:20240607T205231Z
UID:9702-1720519200-1720519200@otsegolibrary.org
SUMMARY:Sled Dog Adventures with Crystal Blue Sled Dogs
DESCRIPTION:Get up close and personal with these sled dogs and then learn all about dog sledding! \nProgram will be outdoors in rain or shine.
URL:https://otsegolibrary.org/event/sled-dog-adventures-with-crystal-blue-sled-dogs-2/
CATEGORIES:Children
END:VEVENT
BEGIN:VEVENT
DTSTART;TZID=America/Detroit:20240708T140000
DTEND;TZID=America/Detroit:20240708T140000
DTSTAMP:20260419T233205
CREATED:20231202T040644Z
LAST-MODIFIED:20231202T040644Z
UID:9133-1720447200-1720447200@otsegolibrary.org
SUMMARY:2nd Monday Book Club
DESCRIPTION:Meets on the 2nd Monday at 2 PM \nJanuary 8\nProject Hail Mary by Andy Weir \nFebruary 12\nThe Bookwoman of Troublesome Creek by Kim Michele Richardson \nMarch 11\nThe Great Alone by Kristin Hannah \nApril 8\nMr. Penumbra’s 24 Hour Bookstore by Marianne Cronin \nMay 13\nThe Lilac Girls by Martha Hall Kelly \nJune 10\nBorn A Crime by Trevor Noah \nJuly 8\nThe Nickle Boys by Colson Whitehead \nAugust 12\nRainy Day Friends by Jill Shalvis
URL:https://otsegolibrary.org/event/2nd-monday-book-club-31/
CATEGORIES:Book Club
END:VEVENT
BEGIN:VEVENT
DTSTART;TZID=America/Detroit:20240708T100000
DTEND;TZID=America/Detroit:20240708T110000
DTSTAMP:20260419T233205
CREATED:20240603T205648Z
LAST-MODIFIED:20240603T205648Z
UID:9677-1720432800-1720436400@otsegolibrary.org
SUMMARY:Stroller Adventure Walk
DESCRIPTION:(0 – 5 Years Old)\n \nJune 17 – July 22 \nMondays at 10 AM \nJoin your friends while we walk to Memorial Park and play at the park.
URL:https://otsegolibrary.org/event/stroller-adventure-walk-4/
CATEGORIES:Preschool
END:VEVENT
BEGIN:VEVENT
DTSTART;VALUE=DATE:20240704
DTEND;VALUE=DATE:20240705
DTSTAMP:20260419T233205
CREATED:20231203T193707Z
LAST-MODIFIED:20231203T193707Z
UID:9312-1720051200-1720137599@otsegolibrary.org
SUMMARY:LIBRARY CLOSED
DESCRIPTION:The library will be closed for the holiday. \nCLOSED:\nIndependence Day\nThursday\, July 4 \nHave a safe and happy holiday with your family and friends!
URL:https://otsegolibrary.org/event/library-closed-19/
CATEGORIES:Notice/Closing
END:VEVENT
BEGIN:VEVENT
DTSTART;TZID=America/Detroit:20240703T140000
DTEND;TZID=America/Detroit:20240703T140000
DTSTAMP:20260419T233205
CREATED:20240610T144825Z
LAST-MODIFIED:20240610T144842Z
UID:9778-1720015200-1720015200@otsegolibrary.org
SUMMARY:Adventurer's Writing Club
DESCRIPTION:June 19 & July 3 – Wednesdays @ 2 PM \nExplore different writing styles and share your latest writings with other young authors. \nThis writing club is for teens/tweens.
URL:https://otsegolibrary.org/event/adventurers-writing-club-2/
CATEGORIES:Teen/Tween
END:VEVENT
BEGIN:VEVENT
DTSTART;TZID=America/Detroit:20240703T100000
DTEND;TZID=America/Detroit:20240703T100000
DTSTAMP:20260419T233205
CREATED:20240607T205757Z
LAST-MODIFIED:20240610T141945Z
UID:9711-1720000800-1720000800@otsegolibrary.org
SUMMARY:Adventurous Stories & Songs
DESCRIPTION:June 19 – July 24 \nWednesdays at 10 AM  \nAges 0-5 \nEach week we will focus on different adventures while we hear stories\, sing songs\, play games\, make a craft\, and have sensory activities.
URL:https://otsegolibrary.org/event/adventurous-stories-songs-3/
CATEGORIES:Preschool
END:VEVENT
END:VCALENDAR