BEGIN:VCALENDAR
VERSION:2.0
PRODID:-//Otsego District Public Library - ECPv6.15.20//NONSGML v1.0//EN
CALSCALE:GREGORIAN
METHOD:PUBLISH
X-WR-CALNAME:Otsego District Public Library
X-ORIGINAL-URL:https://otsegolibrary.org
X-WR-CALDESC:Events for Otsego District Public Library
REFRESH-INTERVAL;VALUE=DURATION:PT1H
X-Robots-Tag:noindex
X-PUBLISHED-TTL:PT1H
BEGIN:VTIMEZONE
TZID:America/Detroit
BEGIN:DAYLIGHT
TZOFFSETFROM:-0500
TZOFFSETTO:-0400
TZNAME:EDT
DTSTART:20230312T070000
END:DAYLIGHT
BEGIN:STANDARD
TZOFFSETFROM:-0400
TZOFFSETTO:-0500
TZNAME:EST
DTSTART:20231105T060000
END:STANDARD
BEGIN:DAYLIGHT
TZOFFSETFROM:-0500
TZOFFSETTO:-0400
TZNAME:EDT
DTSTART:20240310T070000
END:DAYLIGHT
BEGIN:STANDARD
TZOFFSETFROM:-0400
TZOFFSETTO:-0500
TZNAME:EST
DTSTART:20241103T060000
END:STANDARD
BEGIN:DAYLIGHT
TZOFFSETFROM:-0500
TZOFFSETTO:-0400
TZNAME:EDT
DTSTART:20250309T070000
END:DAYLIGHT
BEGIN:STANDARD
TZOFFSETFROM:-0400
TZOFFSETTO:-0500
TZNAME:EST
DTSTART:20251102T060000
END:STANDARD
END:VTIMEZONE
BEGIN:VEVENT
DTSTART;TZID=America/Detroit:20240307T100000
DTEND;TZID=America/Detroit:20240307T100000
DTSTAMP:20260420T022316
CREATED:20231203T190410Z
LAST-MODIFIED:20231203T190410Z
UID:9279-1709805600-1709805600@otsegolibrary.org
SUMMARY:Storytime
DESCRIPTION:February 1 – May 9\n(Special Pajama Storytime on April 3 – See Spring Break Info)\nThursdays at 10 AM\nAges 0-5 \nEach session includes a fun theme with stories\, songs\, and a craft.
URL:https://otsegolibrary.org/event/storytime-55/
CATEGORIES:Preschool
END:VEVENT
BEGIN:VEVENT
DTSTART;TZID=America/Detroit:20240306T100000
DTEND;TZID=America/Detroit:20240306T100000
DTSTAMP:20260420T022316
CREATED:20231203T181850Z
LAST-MODIFIED:20231203T181850Z
UID:9249-1709719200-1709719200@otsegolibrary.org
SUMMARY:Music & Movement
DESCRIPTION:January 31 – May 8 (No meet-up on April 3)\nWednesdays at 10 AM\nAges 0-5 \nRelieve cabin fever with singing\, dancing\, movement activities\, and sensory play!
URL:https://otsegolibrary.org/event/music-movement-37/
CATEGORIES:Preschool
END:VEVENT
BEGIN:VEVENT
DTSTART;TZID=America/Detroit:20240305T100000
DTEND;TZID=America/Detroit:20240305T100000
DTSTAMP:20260420T022316
CREATED:20231203T165830Z
LAST-MODIFIED:20231203T165830Z
UID:9219-1709632800-1709632800@otsegolibrary.org
SUMMARY:Tiny Tots
DESCRIPTION:January 30 – May 7 (No meet-up on April 2)\nTuesdays at 10 AM\nAges 0-24 Months \nSing\, read\, and play with your little ones and friends!
URL:https://otsegolibrary.org/event/tiny-tots-54/
CATEGORIES:Preschool
END:VEVENT
BEGIN:VEVENT
DTSTART;TZID=America/Detroit:20240304T110000
DTEND;TZID=America/Detroit:20240304T160000
DTSTAMP:20260420T022316
CREATED:20231202T023742Z
LAST-MODIFIED:20231202T023742Z
UID:9075-1709550000-1709568000@otsegolibrary.org
SUMMARY:American Red Cross Blood Drive
DESCRIPTION:Be a hero and donate blood! \nMake your appointment at www.redcrossblood.org or call 1-800-RED-CROSS.
URL:https://otsegolibrary.org/event/american-red-cross-blood-drive-3/
CATEGORIES:Adult
END:VEVENT
BEGIN:VEVENT
DTSTART;TZID=America/Detroit:20240229T100000
DTEND;TZID=America/Detroit:20240229T100000
DTSTAMP:20260420T022316
CREATED:20231203T190137Z
LAST-MODIFIED:20231203T190137Z
UID:9275-1709200800-1709200800@otsegolibrary.org
SUMMARY:Storytime
DESCRIPTION:February 1 – May 9\n(Special Pajama Storytime on April 3 – See Spring Break Info)\nThursdays at 10 AM\nAges 0-5 \nEach session includes a fun theme with stories\, songs\, and a craft.
URL:https://otsegolibrary.org/event/storytime-53/
CATEGORIES:Preschool
END:VEVENT
BEGIN:VEVENT
DTSTART;TZID=America/Detroit:20240228T130000
DTEND;TZID=America/Detroit:20240228T130000
DTSTAMP:20260420T022316
CREATED:20231202T034246Z
LAST-MODIFIED:20231202T034246Z
UID:9113-1709125200-1709125200@otsegolibrary.org
SUMMARY:Crafting Corner
DESCRIPTION:January – May\n4th Wednesday at 1 PM \nBring your knitting\, crochet\, coloring\, needlepoint\, cross-stitch\, or other personal crafting projects from home. \nEnjoy a cup of coffee while you are working and sit by the fireplace crafting with friends.
URL:https://otsegolibrary.org/event/crafting-corner-15/
CATEGORIES:Adult
END:VEVENT
BEGIN:VEVENT
DTSTART;TZID=America/Detroit:20240228T100000
DTEND;TZID=America/Detroit:20240228T100000
DTSTAMP:20260420T022316
CREATED:20231203T181442Z
LAST-MODIFIED:20231203T181442Z
UID:9247-1709114400-1709114400@otsegolibrary.org
SUMMARY:Music & Movement
DESCRIPTION:January 31 – May 8 (No meet-up on April 3)\nWednesdays at 10 AM\nAges 0-5 \nRelieve cabin fever with singing\, dancing\, movement activities\, and sensory play!
URL:https://otsegolibrary.org/event/music-movement-36/
CATEGORIES:Preschool
END:VEVENT
BEGIN:VEVENT
DTSTART;TZID=America/Detroit:20240227T100000
DTEND;TZID=America/Detroit:20240227T100000
DTSTAMP:20260420T022316
CREATED:20231203T165625Z
LAST-MODIFIED:20231203T165625Z
UID:9217-1709028000-1709028000@otsegolibrary.org
SUMMARY:Tiny Tots
DESCRIPTION:January 30 – May 7 (No meet-up on April 2)\nTuesdays at 10 AM\nAges 0-24 Months \nSing\, read\, and play with your little ones and friends!
URL:https://otsegolibrary.org/event/tiny-tots-53/
CATEGORIES:Preschool
END:VEVENT
BEGIN:VEVENT
DTSTART;TZID=America/Detroit:20240222T183000
DTEND;TZID=America/Detroit:20240222T183000
DTSTAMP:20260420T022316
CREATED:20231130T205132Z
LAST-MODIFIED:20231130T205140Z
UID:9070-1708626600-1708626600@otsegolibrary.org
SUMMARY:Strange Automotive Tales Old\, Obscure\, and Outrageous Car History
DESCRIPTION:Jay Follis\, Historian with the Gilmore Car Museum \nAs always\, Jay Follis is engaging\, informative\, and entertaining. He will share some of the lesser known and bizarre automotive stories from the public’s general response to the first motor cars\, shocking auto advertising\, really poor ideas\, and car companies that failed. A noted historian\, Follis has served as a consultant for automotive restorers and television productions including PBS\, NPR\, History Channel plus more!
URL:https://otsegolibrary.org/event/strange-automotive-tales-old-obscure-and-outrageous-car-history/
CATEGORIES:Adult
END:VEVENT
BEGIN:VEVENT
DTSTART;TZID=America/Detroit:20240222T160000
DTEND;TZID=America/Detroit:20240222T160000
DTSTAMP:20260420T022316
CREATED:20231203T154433Z
LAST-MODIFIED:20231203T154433Z
UID:9174-1708617600-1708617600@otsegolibrary.org
SUMMARY:Sweet & Salty Book Club
DESCRIPTION:February 22\, March 28\, and April 25\n4th Thursday at 4 PM \nDiscuss what we are reading over snacks! Choose any book to read and share with the group! Ask a staff member about new/popular book suggestions!
URL:https://otsegolibrary.org/event/sweet-salty-book-club-15/
CATEGORIES:Teen/Tween
END:VEVENT
BEGIN:VEVENT
DTSTART;TZID=America/Detroit:20240222T100000
DTEND;TZID=America/Detroit:20240222T100000
DTSTAMP:20260420T022316
CREATED:20231203T185838Z
LAST-MODIFIED:20231203T185838Z
UID:9273-1708596000-1708596000@otsegolibrary.org
SUMMARY:Storytime
DESCRIPTION:February 1 – May 9\n(Special Pajama Storytime on April 3 – See Spring Break Info)\nThursdays at 10 AM\nAges 0-5 \nEach session includes a fun theme with stories\, songs\, and a craft.
URL:https://otsegolibrary.org/event/storytime-52/
CATEGORIES:Preschool
END:VEVENT
BEGIN:VEVENT
DTSTART;TZID=America/Detroit:20240221T173000
DTEND;TZID=America/Detroit:20240221T173000
DTSTAMP:20260420T022316
CREATED:20240312T133002Z
LAST-MODIFIED:20240813T140142Z
UID:9474-1708536600-1708536600@otsegolibrary.org
SUMMARY:Library Board Meeting
DESCRIPTION:The Library Board of Trustees meets on a monthly basis to discuss library business and housekeeping. Meetings are open to the public and include a period of time for patrons to discuss comments and concerns. \nThese meetings are held once a month on Wednesdays at 5:30 PM.
URL:https://otsegolibrary.org/event/library-board-meeting-19/
CATEGORIES:Library Board
END:VEVENT
BEGIN:VEVENT
DTSTART;TZID=America/Detroit:20240221T100000
DTEND;TZID=America/Detroit:20240221T100000
DTSTAMP:20260420T022316
CREATED:20231203T181049Z
LAST-MODIFIED:20231203T181049Z
UID:9245-1708509600-1708509600@otsegolibrary.org
SUMMARY:Music & Movement
DESCRIPTION:January 31 – May 8 (No meet-up on April 3)\nWednesdays at 10 AM\nAges 0-5 \nRelieve cabin fever with singing\, dancing\, movement activities\, and sensory play!
URL:https://otsegolibrary.org/event/music-movement-35/
CATEGORIES:Preschool
END:VEVENT
BEGIN:VEVENT
DTSTART;TZID=America/Detroit:20240220T100000
DTEND;TZID=America/Detroit:20240220T100000
DTSTAMP:20260420T022316
CREATED:20231203T165356Z
LAST-MODIFIED:20231203T165522Z
UID:9215-1708423200-1708423200@otsegolibrary.org
SUMMARY:Tiny Tots
DESCRIPTION:January 30 – May 7 (No meet-up on April 2)\nTuesdays at 10 AM\nAges 0-24 Months \nSing\, read\, and play with your little ones and friends!
URL:https://otsegolibrary.org/event/tiny-tots-52/
CATEGORIES:Preschool
END:VEVENT
BEGIN:VEVENT
DTSTART;VALUE=DATE:20240219
DTEND;VALUE=DATE:20240220
DTSTAMP:20260420T022316
CREATED:20231203T193153Z
LAST-MODIFIED:20231203T193206Z
UID:9306-1708300800-1708387199@otsegolibrary.org
SUMMARY:LIBRARY CLOSED
DESCRIPTION:The library will be closed for the holiday. \nCLOSED:\nPresident’s Day/Staff Training\nMonday\, February 19 \nHave a safe and happy holiday with your family and friends!
URL:https://otsegolibrary.org/event/library-closed-16/
CATEGORIES:Notice/Closing
END:VEVENT
BEGIN:VEVENT
DTSTART;TZID=America/Detroit:20240216T130000
DTEND;TZID=America/Detroit:20240216T130000
DTSTAMP:20260420T022316
CREATED:20231202T032454Z
LAST-MODIFIED:20231202T032520Z
UID:9102-1708088400-1708088400@otsegolibrary.org
SUMMARY:Get Crafty – Make & Take Crafts
DESCRIPTION:February – May\n3rd Friday at 1 PM \nCreate a fun craft for free! Each month you will be able to make a fun decoration that you can proudly take home to display.
URL:https://otsegolibrary.org/event/get-crafty-make-take-crafts-4/
CATEGORIES:Adult
END:VEVENT
BEGIN:VEVENT
DTSTART;TZID=America/Detroit:20240216T100000
DTEND;TZID=America/Detroit:20240216T100000
DTSTAMP:20260420T022316
CREATED:20231202T031749Z
LAST-MODIFIED:20231202T031749Z
UID:9094-1708077600-1708077600@otsegolibrary.org
SUMMARY:Coffee & Conversation
DESCRIPTION:January – May\n3rd Friday at 10 AM \nLet’s build community by sharing coffee and\nconversations! Coffee and refreshments (provided by the Friends of the Otsego Library) will be ready for you to enjoy at the library while we discuss current topics or anything else you would like to discuss.
URL:https://otsegolibrary.org/event/coffee-conversation/
CATEGORIES:Adult
END:VEVENT
BEGIN:VEVENT
DTSTART;TZID=America/Detroit:20240215T160000
DTEND;TZID=America/Detroit:20240215T160000
DTSTAMP:20260420T022316
CREATED:20231203T153542Z
LAST-MODIFIED:20231203T153720Z
UID:9166-1708012800-1708012800@otsegolibrary.org
SUMMARY:Creative Writing Club
DESCRIPTION:February 15\, March 21\, and April 18\n3rd Thursday at 4 PM \nDo you LOVE to write? Join us as we write together and share short stories\, original writing pieces\, and ideas. All writing styles are welcome.
URL:https://otsegolibrary.org/event/creative-writing-club-8/
CATEGORIES:Teen/Tween
END:VEVENT
BEGIN:VEVENT
DTSTART;TZID=America/Detroit:20240215T100000
DTEND;TZID=America/Detroit:20240215T100000
DTSTAMP:20260420T022316
CREATED:20231203T185547Z
LAST-MODIFIED:20231203T185745Z
UID:9271-1707991200-1707991200@otsegolibrary.org
SUMMARY:Storytime
DESCRIPTION:February 1 – May 9\n(Special Pajama Storytime on April 3 – See Spring Break Info)\nThursdays at 10 AM\nAges 0-5 \nEach session includes a fun theme with stories\, songs\, and a craft.
URL:https://otsegolibrary.org/event/storytime-51/
CATEGORIES:Preschool
END:VEVENT
BEGIN:VEVENT
DTSTART;TZID=America/Detroit:20240214T180000
DTEND;TZID=America/Detroit:20240214T180000
DTSTAMP:20260420T022316
CREATED:20231202T040757Z
LAST-MODIFIED:20231202T041940Z
UID:9135-1707933600-1707933600@otsegolibrary.org
SUMMARY:Non-Fiction Book Club
DESCRIPTION:Meets on the 2nd Wednesday at 6 PM \nJanuary 10\nRubicon by Tom Holland \nFebruary 14\nThe Making of the Atomic Bomb by Richard Rhodes \nMarch 13\nBecoming Charlemagne by Jeff Sypeck \nApril 10\nThomas Jefferson: The Art of Power by John Meacham \nMay 8\nThe Rise & Reign of the Mammals by Steve Brusatte \nJune 12\nThe Last Castle by Denise Kiernan \nJuly 10\nThe Year of Lear: Shakespeare in 1606 by James Shapiro \nAugust 14\nBlue Highways: A Journey into America by William Least Heat-Moon
URL:https://otsegolibrary.org/event/2nd-monday-book-club-32/
CATEGORIES:Book Club
END:VEVENT
BEGIN:VEVENT
DTSTART;TZID=America/Detroit:20240214T100000
DTEND;TZID=America/Detroit:20240214T100000
DTSTAMP:20260420T022316
CREATED:20231203T180918Z
LAST-MODIFIED:20231203T180918Z
UID:9243-1707904800-1707904800@otsegolibrary.org
SUMMARY:Music & Movement
DESCRIPTION:January 31 – May 8 (No meet-up on April 3)\nWednesdays at 10 AM\nAges 0-5 \nRelieve cabin fever with singing\, dancing\, movement activities\, and sensory play!
URL:https://otsegolibrary.org/event/music-movement-34/
CATEGORIES:Preschool
END:VEVENT
BEGIN:VEVENT
DTSTART;TZID=America/Detroit:20240213T100000
DTEND;TZID=America/Detroit:20240213T110000
DTSTAMP:20260420T022316
CREATED:20231203T165233Z
LAST-MODIFIED:20231203T165233Z
UID:9213-1707818400-1707822000@otsegolibrary.org
SUMMARY:Tiny Tots
DESCRIPTION:January 30 – May 7 (No meet-up on April 2)\nTuesdays at 10 AM\nAges 0-24 Months \nSing\, read\, and play with your little ones and friends!
URL:https://otsegolibrary.org/event/tiny-tots-51/
CATEGORIES:Preschool
END:VEVENT
BEGIN:VEVENT
DTSTART;TZID=America/Detroit:20240212T140000
DTEND;TZID=America/Detroit:20240212T140000
DTSTAMP:20260420T022316
CREATED:20231202T035527Z
LAST-MODIFIED:20231202T035527Z
UID:9121-1707746400-1707746400@otsegolibrary.org
SUMMARY:2nd Monday Book Club
DESCRIPTION:2nd Monday Book Club\nMeets on the 2nd Monday at 2 PM \nJanuary 8\nProject Hail Mary by Andy Weir \nFebruary 12\nThe Bookwoman of Troublesome Creek by Kim Michele Richardson \nMarch 11\nThe Great Alone by Kristin Hannah \nApril 8\nMr. Penumbra’s 24 Hour Bookstore by Marianne Cronin \nMay 13\nThe Lilac Girls by Martha Hall Kelly \nJune 10\nBorn A Crime by Trevor Noah \nJuly 8\nThe Nickle Boys by Colson Whitehead \nAugust 12\nRainy Day Friends by Jill Shalvis
URL:https://otsegolibrary.org/event/2nd-monday-book-club-25/
CATEGORIES:Book Club
END:VEVENT
BEGIN:VEVENT
DTSTART;TZID=America/Detroit:20240208T160000
DTEND;TZID=America/Detroit:20240208T160000
DTSTAMP:20260420T022316
CREATED:20231203T152320Z
LAST-MODIFIED:20231203T152645Z
UID:9156-1707408000-1707408000@otsegolibrary.org
SUMMARY:Valentine’s Day Art Party
DESCRIPTION:Get your friends together to celebrate Valentine’s Day with a little extra pizazz! \nCreate a custom Valentine’s Day craft\, enjoy valentine themed treats and refreshments provided by the library. Attendees will also be entered in a drawing to win prizes – you don’t want to miss this fabulous event!
URL:https://otsegolibrary.org/event/valentines-day-art-party/
CATEGORIES:Teen/Tween
END:VEVENT
BEGIN:VEVENT
DTSTART;TZID=America/Detroit:20240208T100000
DTEND;TZID=America/Detroit:20240208T100000
DTSTAMP:20260420T022316
CREATED:20231203T185153Z
LAST-MODIFIED:20231203T185153Z
UID:9269-1707386400-1707386400@otsegolibrary.org
SUMMARY:Storytime
DESCRIPTION:February 1 – May 9\n(Special Pajama Storytime on April 3 – See Spring Break Info)\nThursdays at 10 AM\nAges 0-5 \nEach session includes a fun theme with stories\, songs\, and a craft.
URL:https://otsegolibrary.org/event/storytime-50/
CATEGORIES:Preschool
END:VEVENT
BEGIN:VEVENT
DTSTART;TZID=America/Detroit:20240207T100000
DTEND;TZID=America/Detroit:20240207T100000
DTSTAMP:20260420T022316
CREATED:20231203T180817Z
LAST-MODIFIED:20231203T180817Z
UID:9241-1707300000-1707300000@otsegolibrary.org
SUMMARY:Music & Movement
DESCRIPTION:January 31 – May 8 (No meet-up on April 3)\nWednesdays at 10 AM\nAges 0-5 \nRelieve cabin fever with singing\, dancing\, movement activities\, and sensory play!
URL:https://otsegolibrary.org/event/music-movement-33/
CATEGORIES:Preschool
END:VEVENT
BEGIN:VEVENT
DTSTART;TZID=America/Detroit:20240206T100000
DTEND;TZID=America/Detroit:20240206T100000
DTSTAMP:20260420T022316
CREATED:20231203T165148Z
LAST-MODIFIED:20231203T165148Z
UID:9211-1707213600-1707213600@otsegolibrary.org
SUMMARY:Tiny Tots
DESCRIPTION:January 30 – May 7 (No meet-up on April 2)\nTuesdays at 10 AM\nAges 0-24 Months \nSing\, read\, and play with your little ones and friends!
URL:https://otsegolibrary.org/event/tiny-tots-50/
CATEGORIES:Preschool
END:VEVENT
BEGIN:VEVENT
DTSTART;TZID=America/Detroit:20240201T160000
DTEND;TZID=America/Detroit:20240201T160000
DTSTAMP:20260420T022316
CREATED:20231203T152915Z
LAST-MODIFIED:20231203T152915Z
UID:9158-1706803200-1706803200@otsegolibrary.org
SUMMARY:Teen Scene
DESCRIPTION:February 1 and March 7\n(Special Spring Break Event – April 4) \nHang out with us – play games\, watch movies\, and eat snacks. Featuring Nintendo Switch consoles and fun tabletop games.
URL:https://otsegolibrary.org/event/teen-scene-20/
CATEGORIES:Teen/Tween
END:VEVENT
BEGIN:VEVENT
DTSTART;TZID=America/Detroit:20240201T100000
DTEND;TZID=America/Detroit:20240201T100000
DTSTAMP:20260420T022316
CREATED:20231203T184919Z
LAST-MODIFIED:20231203T184919Z
UID:9267-1706781600-1706781600@otsegolibrary.org
SUMMARY:Storytime
DESCRIPTION:February 1 – May 9\n(Special Pajama Storytime on April 3 – See Spring Break Info)\nThursdays at 10 AM\nAges 0-5 \nEach session includes a fun theme with stories\, songs\, and a craft.
URL:https://otsegolibrary.org/event/storytime-49/
CATEGORIES:Preschool
END:VEVENT
BEGIN:VEVENT
DTSTART;TZID=America/Detroit:20240131T100000
DTEND;TZID=America/Detroit:20240131T100000
DTSTAMP:20260420T022316
CREATED:20231203T175539Z
LAST-MODIFIED:20231203T175539Z
UID:9239-1706695200-1706695200@otsegolibrary.org
SUMMARY:Music & Movement
DESCRIPTION:January 31 – May 8 (No meet-up on April 3)\nWednesdays at 10 AM\nAges 0-5 \nRelieve cabin fever with singing\, dancing\, movement activities\, and sensory play!
URL:https://otsegolibrary.org/event/music-movement-32/
CATEGORIES:Preschool
END:VEVENT
END:VCALENDAR