BEGIN:VCALENDAR
VERSION:2.0
PRODID:-//Otsego District Public Library - ECPv6.15.20//NONSGML v1.0//EN
CALSCALE:GREGORIAN
METHOD:PUBLISH
X-WR-CALNAME:Otsego District Public Library
X-ORIGINAL-URL:https://otsegolibrary.org
X-WR-CALDESC:Events for Otsego District Public Library
REFRESH-INTERVAL;VALUE=DURATION:PT1H
X-Robots-Tag:noindex
X-PUBLISHED-TTL:PT1H
BEGIN:VTIMEZONE
TZID:America/Detroit
BEGIN:DAYLIGHT
TZOFFSETFROM:-0500
TZOFFSETTO:-0400
TZNAME:EDT
DTSTART:20230312T070000
END:DAYLIGHT
BEGIN:STANDARD
TZOFFSETFROM:-0400
TZOFFSETTO:-0500
TZNAME:EST
DTSTART:20231105T060000
END:STANDARD
BEGIN:DAYLIGHT
TZOFFSETFROM:-0500
TZOFFSETTO:-0400
TZNAME:EDT
DTSTART:20240310T070000
END:DAYLIGHT
BEGIN:STANDARD
TZOFFSETFROM:-0400
TZOFFSETTO:-0500
TZNAME:EST
DTSTART:20241103T060000
END:STANDARD
BEGIN:DAYLIGHT
TZOFFSETFROM:-0500
TZOFFSETTO:-0400
TZNAME:EDT
DTSTART:20250309T070000
END:DAYLIGHT
BEGIN:STANDARD
TZOFFSETFROM:-0400
TZOFFSETTO:-0500
TZNAME:EST
DTSTART:20251102T060000
END:STANDARD
END:VTIMEZONE
BEGIN:VEVENT
DTSTART;TZID=America/Detroit:20241121T100000
DTEND;TZID=America/Detroit:20241121T100000
DTSTAMP:20260419T193301
CREATED:20240705T200421Z
LAST-MODIFIED:20240705T200421Z
UID:9949-1732183200-1732183200@otsegolibrary.org
SUMMARY:Storytime
DESCRIPTION:Thursdays at 10 AM\nSeptember 12 – November 21 \nAges 0 – 5\nStories\, songs\, and a craft all focusing on a new weekly theme.
URL:https://otsegolibrary.org/event/storytime-71/
CATEGORIES:Preschool
END:VEVENT
BEGIN:VEVENT
DTSTART;TZID=America/Detroit:20241120T173000
DTEND;TZID=America/Detroit:20241120T173000
DTSTAMP:20260419T193301
CREATED:20240312T140411Z
LAST-MODIFIED:20240813T140307Z
UID:9501-1732123800-1732123800@otsegolibrary.org
SUMMARY:Library Board Meeting
DESCRIPTION:The Library Board of Trustees meets on a monthly basis to discuss library business and housekeeping. Meetings are open to the public and include a period of time for patrons to discuss comments and concerns. \nThese meetings are held once a month on Wednesdays at 5:30 PM.
URL:https://otsegolibrary.org/event/library-board-meeting-31/
CATEGORIES:Library Board
END:VEVENT
BEGIN:VEVENT
DTSTART;TZID=America/Detroit:20241120T100000
DTEND;TZID=America/Detroit:20241120T100000
DTSTAMP:20260419T193301
CREATED:20240702T165336Z
LAST-MODIFIED:20240702T165507Z
UID:9911-1732096800-1732096800@otsegolibrary.org
SUMMARY:Music and Movement
DESCRIPTION:Wednesdays at 10 AM\nSeptember 11 – November 20\nAges 0 – 5\nMovin’ and Groovin’ fun with songs\, stories\, interactive play\, and sensory activities.
URL:https://otsegolibrary.org/event/music-and-movement-28/
CATEGORIES:Preschool
END:VEVENT
BEGIN:VEVENT
DTSTART;TZID=America/Detroit:20241119T160000
DTEND;TZID=America/Detroit:20241119T160000
DTSTAMP:20260419T193301
CREATED:20240705T201048Z
LAST-MODIFIED:20240705T201048Z
UID:9971-1732032000-1732032000@otsegolibrary.org
SUMMARY:Construct and Create
DESCRIPTION:Tuesdays at 4 PM\nSeptember 10 – November 19\nAges 4 Years Old – 5th Grade \nJoin your friends after school to build great structures and create beautiful art projects. Each week there will be different building sets and art materials so you can use your imagination and get your creative juices flowing!
URL:https://otsegolibrary.org/event/construct-and-create-11/
CATEGORIES:Children
END:VEVENT
BEGIN:VEVENT
DTSTART;TZID=America/Detroit:20241119T100000
DTEND;TZID=America/Detroit:20241119T100000
DTSTAMP:20260419T193301
CREATED:20240702T164634Z
LAST-MODIFIED:20240702T165459Z
UID:9887-1732010400-1732010400@otsegolibrary.org
SUMMARY:Tiny Tots
DESCRIPTION:Tuesdays at 10 AM\nSeptember 10 – November 19\nAges 0 – 24 Months\nSing\, read\, and play with your little ones and friends!
URL:https://otsegolibrary.org/event/tiny-tots-73/
CATEGORIES:Preschool
END:VEVENT
BEGIN:VEVENT
DTSTART;TZID=America/Detroit:20241118T130000
DTEND;TZID=America/Detroit:20241118T130000
DTSTAMP:20260419T193301
CREATED:20240705T202121Z
LAST-MODIFIED:20240705T202121Z
UID:9979-1731934800-1731934800@otsegolibrary.org
SUMMARY:Friends Meeting
DESCRIPTION:The Friends of the Library will be meeting to discuss volunteer and library related business. \n“The Friends”  are always looking for new members. The Friends run a used bookstore and volunteer at library programs. Your donations of gently used books and DVDs help support the many wonderful programs offered at the library!
URL:https://otsegolibrary.org/event/friends-meeting-2/
CATEGORIES:Friends of the Library
END:VEVENT
BEGIN:VEVENT
DTSTART;TZID=America/Detroit:20241115T130000
DTEND;TZID=America/Detroit:20241115T130000
DTSTAMP:20260419T193301
CREATED:20240702T153824Z
LAST-MODIFIED:20241122T141632Z
UID:9827-1731675600-1731675600@otsegolibrary.org
SUMMARY:Get Crafty – Make & Take Crafts for Adults
DESCRIPTION:Create a fun craft for free! This month you will be creating some holiday home decor that you can proudly take home to display.
URL:https://otsegolibrary.org/event/get-crafty-make-take-crafts-10/
CATEGORIES:Adult
END:VEVENT
BEGIN:VEVENT
DTSTART;TZID=America/Detroit:20241115T100000
DTEND;TZID=America/Detroit:20241115T100000
DTSTAMP:20260419T193301
CREATED:20240702T155618Z
LAST-MODIFIED:20240702T155618Z
UID:9841-1731664800-1731664800@otsegolibrary.org
SUMMARY:Coffee and Conversations
DESCRIPTION:Join your community friends for some coffee\, tea\, and yummy treats while having lively discussions.
URL:https://otsegolibrary.org/event/coffee-and-conversations-11/
CATEGORIES:Adult
END:VEVENT
BEGIN:VEVENT
DTSTART;TZID=America/Detroit:20241114T160000
DTEND;TZID=America/Detroit:20241114T160000
DTSTAMP:20260419T193301
CREATED:20240702T161252Z
LAST-MODIFIED:20240702T161252Z
UID:9853-1731600000-1731600000@otsegolibrary.org
SUMMARY:Creative Writing Club
DESCRIPTION:Do you LOVE to write? Let’s write together and share short stories\, original writing pieces\, and ideas. We welcome all writing styles – poetry\, memoir\, non-fiction\, fiction\, and prose.
URL:https://otsegolibrary.org/event/creative-writing-club-13/
CATEGORIES:Teen/Tween
END:VEVENT
BEGIN:VEVENT
DTSTART;TZID=America/Detroit:20241114T100000
DTEND;TZID=America/Detroit:20241114T100000
DTSTAMP:20260419T193301
CREATED:20240705T200343Z
LAST-MODIFIED:20240705T200343Z
UID:9947-1731578400-1731578400@otsegolibrary.org
SUMMARY:Storytime
DESCRIPTION:Thursdays at 10 AM\nSeptember 12 – November 21 \nAges 0 – 5\nStories\, songs\, and a craft all focusing on a new weekly theme.
URL:https://otsegolibrary.org/event/storytime-70/
CATEGORIES:Preschool
END:VEVENT
BEGIN:VEVENT
DTSTART;TZID=America/Detroit:20241113T180000
DTEND;TZID=America/Detroit:20241113T180000
DTSTAMP:20260419T193301
CREATED:20240708T183654Z
LAST-MODIFIED:20240822T163932Z
UID:10020-1731520800-1731520800@otsegolibrary.org
SUMMARY:Non-Fiction Book Club
DESCRIPTION:The Non-Fiction Book Club meets on the 2nd Wednesday of each month at 6 PM. \nSeptember 11\nA Walk in the Woods by Bill Bryson \nOctober 9\nGuardians of the Trees by Kinari Webb \nNovember 13\nThe Splendid and the Vile by Erik Larson \nDecember 11\nChoose Your Own Book \nJanuary 8\nKillers of the Flower Moon by David Grann
URL:https://otsegolibrary.org/event/non-fiction-book-club-30/
CATEGORIES:Book Club
END:VEVENT
BEGIN:VEVENT
DTSTART;TZID=America/Detroit:20241113T140000
DTEND;TZID=America/Detroit:20241113T140000
DTSTAMP:20260419T193301
CREATED:20240702T152108Z
LAST-MODIFIED:20240702T152108Z
UID:9821-1731506400-1731506400@otsegolibrary.org
SUMMARY:Cricut Maker 101 Classes
DESCRIPTION:Attend either class to learn about the library’s Cricut Maker\, Heat Press\, and the Design Space software. This beginner’s level class will feature permanent vinyl and heat transfer vinyl.
URL:https://otsegolibrary.org/event/cricut-maker-101-classes-2/
CATEGORIES:Adult
END:VEVENT
BEGIN:VEVENT
DTSTART;TZID=America/Detroit:20241113T100000
DTEND;TZID=America/Detroit:20241113T100000
DTSTAMP:20260419T193301
CREATED:20240702T165313Z
LAST-MODIFIED:20240702T165556Z
UID:9909-1731492000-1731492000@otsegolibrary.org
SUMMARY:Music and Movement
DESCRIPTION:Wednesdays at 10 AM\nSeptember 11 – November 20\nAges 0 – 5\nMovin’ and Groovin’ fun with songs\, stories\, interactive play\, and sensory activities.
URL:https://otsegolibrary.org/event/music-and-movement-27/
CATEGORIES:Preschool
END:VEVENT
BEGIN:VEVENT
DTSTART;TZID=America/Detroit:20241112T160000
DTEND;TZID=America/Detroit:20241112T160000
DTSTAMP:20260419T193301
CREATED:20240705T201026Z
LAST-MODIFIED:20240705T201026Z
UID:9969-1731427200-1731427200@otsegolibrary.org
SUMMARY:Construct and Create
DESCRIPTION:Tuesdays at 4 PM\nSeptember 10 – November 19\nAges 4 Years Old – 5th Grade \nJoin your friends after school to build great structures and create beautiful art projects. Each week there will be different building sets and art materials so you can use your imagination and get your creative juices flowing!
URL:https://otsegolibrary.org/event/construct-and-create-10/
CATEGORIES:Children
END:VEVENT
BEGIN:VEVENT
DTSTART;TZID=America/Detroit:20241112T100000
DTEND;TZID=America/Detroit:20241112T100000
DTSTAMP:20260419T193301
CREATED:20240702T164511Z
LAST-MODIFIED:20240702T165607Z
UID:9885-1731405600-1731405600@otsegolibrary.org
SUMMARY:Tiny Tots
DESCRIPTION:Tuesdays at 10 AM\nSeptember 10 – November 19\nAges 0 – 24 Months\nSing\, read\, and play with your little ones and friends!
URL:https://otsegolibrary.org/event/tiny-tots-72/
CATEGORIES:Preschool
END:VEVENT
BEGIN:VEVENT
DTSTART;TZID=America/Detroit:20241111T140000
DTEND;TZID=America/Detroit:20241111T140000
DTSTAMP:20260419T193301
CREATED:20240708T182933Z
LAST-MODIFIED:20240708T182936Z
UID:10014-1731333600-1731333600@otsegolibrary.org
SUMMARY:2nd Monday Book Club
DESCRIPTION:The 2nd Monday Book Club meets on the 2nd Monday of each at 2 PM. \nSeptember 9\nThe Handmaid’s Tale by Margaret Atwood \nOctober 14\nTin Camp Road by Ellen Airgood \nNovember 11\nOn Mystic Lake by Kristin Hannah \nDecember 9\nChoose A Holiday Book \nJanuary 13\nEggsecutive Orders by Julie Hyzy
URL:https://otsegolibrary.org/event/2nd-monday-book-club-39/
CATEGORIES:Book Club
END:VEVENT
BEGIN:VEVENT
DTSTART;TZID=America/Detroit:20241107T183000
DTEND;TZID=America/Detroit:20241107T183000
DTSTAMP:20260419T193301
CREATED:20240702T151652Z
LAST-MODIFIED:20240702T151652Z
UID:9817-1731004200-1731004200@otsegolibrary.org
SUMMARY:Understanding and Creating Your Estate Plan
DESCRIPTION:Elizabeth Robinson\, Attorney at Law\nGinger Titus\, CFP® Financial Advisor – Edward Jones \nEveryone has an estate. What happens to your estate when you pass at any age can either be decided by you or by others. Come and learn how to understand all of the options to create your estate plan!
URL:https://otsegolibrary.org/event/understanding-and-creating-your-estate-plan/
CATEGORIES:Adult
END:VEVENT
BEGIN:VEVENT
DTSTART;TZID=America/Detroit:20241107T160000
DTEND;TZID=America/Detroit:20241107T160000
DTSTAMP:20260419T193301
CREATED:20240702T160946Z
LAST-MODIFIED:20240702T160946Z
UID:9847-1730995200-1730995200@otsegolibrary.org
SUMMARY:Teen Scene
DESCRIPTION:Play games\, watch movies\, eat snacks\, and create some lasting memories. We will be featuring several Nintendo Switch consoles and awesome new tabletop games.
URL:https://otsegolibrary.org/event/teen-scene-24/
CATEGORIES:Teen/Tween
END:VEVENT
BEGIN:VEVENT
DTSTART;TZID=America/Detroit:20241107T100000
DTEND;TZID=America/Detroit:20241107T100000
DTSTAMP:20260419T193301
CREATED:20240705T200257Z
LAST-MODIFIED:20240705T200257Z
UID:9945-1730973600-1730973600@otsegolibrary.org
SUMMARY:Storytime
DESCRIPTION:Thursdays at 10 AM\nSeptember 12 – November 21 \nAges 0 – 5\nStories\, songs\, and a craft all focusing on a new weekly theme.
URL:https://otsegolibrary.org/event/storytime-69/
CATEGORIES:Preschool
END:VEVENT
BEGIN:VEVENT
DTSTART;TZID=America/Detroit:20241106T100000
DTEND;TZID=America/Detroit:20241106T100000
DTSTAMP:20260419T193301
CREATED:20240702T165251Z
LAST-MODIFIED:20240702T165622Z
UID:9907-1730887200-1730887200@otsegolibrary.org
SUMMARY:Music and Movement
DESCRIPTION:Wednesdays at 10 AM\nSeptember 11 – November 20\nAges 0 – 5\nMovin’ and Groovin’ fun with songs\, stories\, interactive play\, and sensory activities.
URL:https://otsegolibrary.org/event/music-and-movement-26/
CATEGORIES:Preschool
END:VEVENT
BEGIN:VEVENT
DTSTART;TZID=America/Detroit:20241105T160000
DTEND;TZID=America/Detroit:20241105T160000
DTSTAMP:20260419T193301
CREATED:20240705T200958Z
LAST-MODIFIED:20240705T200958Z
UID:9967-1730822400-1730822400@otsegolibrary.org
SUMMARY:Construct and Create
DESCRIPTION:Tuesdays at 4 PM\nSeptember 10 – November 19\nAges 4 Years Old – 5th Grade \nJoin your friends after school to build great structures and create beautiful art projects. Each week there will be different building sets and art materials so you can use your imagination and get your creative juices flowing!
URL:https://otsegolibrary.org/event/construct-and-create-9/
CATEGORIES:Children
END:VEVENT
BEGIN:VEVENT
DTSTART;TZID=America/Detroit:20241105T100000
DTEND;TZID=America/Detroit:20241105T100000
DTSTAMP:20260419T193301
CREATED:20240702T164446Z
LAST-MODIFIED:20240702T165631Z
UID:9883-1730800800-1730800800@otsegolibrary.org
SUMMARY:Tiny Tots
DESCRIPTION:Tuesdays at 10 AM\nSeptember 10 – November 19\nAges 0 – 24 Months\nSing\, read\, and play with your little ones and friends!
URL:https://otsegolibrary.org/event/tiny-tots-71/
CATEGORIES:Preschool
END:VEVENT
BEGIN:VEVENT
DTSTART;TZID=America/Detroit:20241102T093000
DTEND;TZID=America/Detroit:20241102T120000
DTSTAMP:20260419T193301
CREATED:20240702T151436Z
LAST-MODIFIED:20240702T151436Z
UID:9815-1730539800-1730548800@otsegolibrary.org
SUMMARY:Creative Café - Alpaca Wet Felting
DESCRIPTION:Carla Chase with CanDo Acres \nA Saturday class will open from 1 – 3:30 PM if the above classes fill. \nLearn the technique of wet felting using fiber from alpacas. You can turn fiber into fabric by using warm\, soapy water and a little friction. You will create two small vessels that you can use for succulent planters or decorations. \nClass size is limited to 25 participants (ADULTS ONLY). \nCost is $20 and pre-registration is required (nonrefundable).\nCost covers instruction\, supplies\, your finished products\, and refreshments
URL:https://otsegolibrary.org/event/creative-cafe-alpaca-wet-felting-2/
CATEGORIES:Adult
END:VEVENT
BEGIN:VEVENT
DTSTART;TZID=America/Detroit:20241101T130000
DTEND;TZID=America/Detroit:20241101T153000
DTSTAMP:20260419T193301
CREATED:20240702T151246Z
LAST-MODIFIED:20240702T151257Z
UID:9813-1730466000-1730475000@otsegolibrary.org
SUMMARY:Creative Café - Alpaca Wet Felting
DESCRIPTION:Carla Chase with CanDo Acres \nA Saturday class will open from 1 – 3:30 PM if the above classes fill. \nLearn the technique of wet felting using fiber from alpacas. You can turn fiber into fabric by using warm\, soapy water and a little friction. You will create two small vessels that you can use for succulent planters or decorations. \nClass size is limited to 25 participants (ADULTS ONLY). \nCost is $20 and pre-registration is required (nonrefundable).\nCost covers instruction\, supplies\, your finished products\, and refreshments.
URL:https://otsegolibrary.org/event/creative-cafe-alpaca-wet-felting/
CATEGORIES:Adult
END:VEVENT
BEGIN:VEVENT
DTSTART;TZID=America/Detroit:20241031T100000
DTEND;TZID=America/Detroit:20241031T100000
DTSTAMP:20260419T193301
CREATED:20240705T200222Z
LAST-MODIFIED:20240705T200222Z
UID:9943-1730368800-1730368800@otsegolibrary.org
SUMMARY:Halloween Storytime
DESCRIPTION:Thursdays at 10 AM\nSeptember 12 – November 21 \nSpecial Halloween Storytime – Wear your costume! \nAges 0 – 5\nStories\, songs\, and a craft all focusing on a new weekly theme.
URL:https://otsegolibrary.org/event/halloween-storytime/
CATEGORIES:Preschool
END:VEVENT
BEGIN:VEVENT
DTSTART;TZID=America/Detroit:20241030T100000
DTEND;TZID=America/Detroit:20241030T100000
DTSTAMP:20260419T193301
CREATED:20240702T165227Z
LAST-MODIFIED:20240702T165643Z
UID:9905-1730282400-1730282400@otsegolibrary.org
SUMMARY:Music and Movement
DESCRIPTION:Wednesdays at 10 AM\nSeptember 11 – November 20\nAges 0 – 5\nMovin’ and Groovin’ fun with songs\, stories\, interactive play\, and sensory activities.
URL:https://otsegolibrary.org/event/music-and-movement-25/
CATEGORIES:Preschool
END:VEVENT
BEGIN:VEVENT
DTSTART;TZID=America/Detroit:20241029T160000
DTEND;TZID=America/Detroit:20241029T160000
DTSTAMP:20260419T193301
CREATED:20240705T200930Z
LAST-MODIFIED:20240705T200930Z
UID:9965-1730217600-1730217600@otsegolibrary.org
SUMMARY:Construct and Create
DESCRIPTION:Tuesdays at 4 PM\nSeptember 10 – November 19\nAges 4 Years Old – 5th Grade \nJoin your friends after school to build great structures and create beautiful art projects. Each week there will be different building sets and art materials so you can use your imagination and get your creative juices flowing!
URL:https://otsegolibrary.org/event/construct-and-create-8/
CATEGORIES:Children
END:VEVENT
BEGIN:VEVENT
DTSTART;TZID=America/Detroit:20241029T100000
DTEND;TZID=America/Detroit:20241029T100000
DTSTAMP:20260419T193301
CREATED:20240702T164402Z
LAST-MODIFIED:20240702T165650Z
UID:9881-1730196000-1730196000@otsegolibrary.org
SUMMARY:Tiny Tots
DESCRIPTION:Tuesdays at 10 AM\nSeptember 10 – November 19\nAges 0 – 24 Months\nSing\, read\, and play with your little ones and friends!
URL:https://otsegolibrary.org/event/tiny-tots-70/
CATEGORIES:Preschool
END:VEVENT
BEGIN:VEVENT
DTSTART;TZID=America/Detroit:20241025T180000
DTEND;TZID=America/Detroit:20241025T200000
DTSTAMP:20260419T193301
CREATED:20240705T203236Z
LAST-MODIFIED:20240705T203236Z
UID:9985-1729879200-1729886400@otsegolibrary.org
SUMMARY:Ghostly Gala Halloween Party
DESCRIPTION:After-Hours Event \nFriday\, October 25 from 6 – 8 PM \nBeware and attend if you dare! You’re sure to have a hauntingly good time with pizza\, refreshments\, games\, hide-and-seek in the dark\, costume contest\, and of course… CANDY! \nThis special after-hours ghostly gala is just for teens and tweens – all are welcome – no registration necessary.
URL:https://otsegolibrary.org/event/ghostly-gala-halloween-party/
CATEGORIES:Teen/Tween
END:VEVENT
BEGIN:VEVENT
DTSTART;TZID=America/Detroit:20241024T160000
DTEND;TZID=America/Detroit:20241024T160000
DTSTAMP:20260419T193301
CREATED:20240702T163132Z
LAST-MODIFIED:20240702T163132Z
UID:9865-1729785600-1729785600@otsegolibrary.org
SUMMARY:Sweet & Salty Book Club
DESCRIPTION:Let’s get together and discuss what we are reading over snacks! Not everyone likes to read the same books\, so we let you choose the book you want to read and share. \nNeed a few new book suggestions? Ask a staff member about new and popular book titles in the juvenile and young adult sections!
URL:https://otsegolibrary.org/event/sweet-salty-book-club-19/
CATEGORIES:Teen/Tween
END:VEVENT
END:VCALENDAR