BEGIN:VCALENDAR
VERSION:2.0
PRODID:-//Otsego District Public Library - ECPv6.15.20//NONSGML v1.0//EN
CALSCALE:GREGORIAN
METHOD:PUBLISH
X-WR-CALNAME:Otsego District Public Library
X-ORIGINAL-URL:https://otsegolibrary.org
X-WR-CALDESC:Events for Otsego District Public Library
REFRESH-INTERVAL;VALUE=DURATION:PT1H
X-Robots-Tag:noindex
X-PUBLISHED-TTL:PT1H
BEGIN:VTIMEZONE
TZID:America/Detroit
BEGIN:DAYLIGHT
TZOFFSETFROM:-0500
TZOFFSETTO:-0400
TZNAME:EDT
DTSTART:20200308T070000
END:DAYLIGHT
BEGIN:STANDARD
TZOFFSETFROM:-0400
TZOFFSETTO:-0500
TZNAME:EST
DTSTART:20201101T060000
END:STANDARD
BEGIN:DAYLIGHT
TZOFFSETFROM:-0500
TZOFFSETTO:-0400
TZNAME:EDT
DTSTART:20210314T070000
END:DAYLIGHT
BEGIN:STANDARD
TZOFFSETFROM:-0400
TZOFFSETTO:-0500
TZNAME:EST
DTSTART:20211107T060000
END:STANDARD
BEGIN:DAYLIGHT
TZOFFSETFROM:-0500
TZOFFSETTO:-0400
TZNAME:EDT
DTSTART:20220313T070000
END:DAYLIGHT
BEGIN:STANDARD
TZOFFSETFROM:-0400
TZOFFSETTO:-0500
TZNAME:EST
DTSTART:20221106T060000
END:STANDARD
BEGIN:DAYLIGHT
TZOFFSETFROM:-0500
TZOFFSETTO:-0400
TZNAME:EDT
DTSTART:20230312T070000
END:DAYLIGHT
BEGIN:STANDARD
TZOFFSETFROM:-0400
TZOFFSETTO:-0500
TZNAME:EST
DTSTART:20231105T060000
END:STANDARD
END:VTIMEZONE
BEGIN:VEVENT
DTSTART;TZID=America/Detroit:20220212T100000
DTEND;TZID=America/Detroit:20220212T100000
DTSTAMP:20260423T055933
CREATED:20220511T145159Z
LAST-MODIFIED:20220515T125155Z
UID:6538-1644660000-1644660000@otsegolibrary.org
SUMMARY:For the Love of Tattoos with Author\, Abby Lyne
DESCRIPTION:Saturday\, February 12 from 10 AM – Noon \nAbby Lyne Sisson (Otsego District Library’s Clerk) has written a beautiful children’s book\, My Aunt has Tattoos. When Jem’s Aunt Amy comes home from the Army\, she has love to give and stories to tell…about her tattoos! \nJoin Jem as she learns about why grown-ups get tattooed\, and how some stories are told on a living canvas of memories. \nThere will be a special reading of the book by the author\, signed books to purchase\, a temporary tattoo station\, snacks\, plus a craft station where you can share your love for others by making your own Valentines!
URL:https://otsegolibrary.org/event/for-the-love-of-tattoos-with-abby-lyne-author/
CATEGORIES:Family
END:VEVENT
BEGIN:VEVENT
DTSTART;TZID=America/Detroit:20220210T160000
DTEND;TZID=America/Detroit:20220210T160000
DTSTAMP:20260423T055933
CREATED:20220511T184741Z
LAST-MODIFIED:20220511T184741Z
UID:6663-1644508800-1644508800@otsegolibrary.org
SUMMARY:Art Hub
DESCRIPTION:Teen/Tween Art Club\nFebruary – May\n2nd Thursday at 4 PM\nMiddle School – High School \nCreate beautiful and fun pieces of art at this art club. Join us for drawing\, painting\, crafting and more! The projects at these meet-ups are more advanced and picked with teens and tweens in mind.
URL:https://otsegolibrary.org/event/art-hub/
CATEGORIES:Teen/Tween
END:VEVENT
BEGIN:VEVENT
DTSTART;TZID=America/Detroit:20220210T100000
DTEND;TZID=America/Detroit:20220210T100000
DTSTAMP:20260423T055933
CREATED:20220511T160851Z
LAST-MODIFIED:20220511T162457Z
UID:6578-1644487200-1644487200@otsegolibrary.org
SUMMARY:Storytime
DESCRIPTION:Thursdays at 10 AM\nFebruary 3 – May 12\nAges 2-5 \nEach session includes stories\, songs\, and a craft. \nFebruary – Winter Wonderland\nMarch Spring – Surprises\nApril/May – Feathered Friends
URL:https://otsegolibrary.org/event/storytime-2/
CATEGORIES:Preschool
END:VEVENT
BEGIN:VEVENT
DTSTART;TZID=America/Detroit:20220209T180000
DTEND;TZID=America/Detroit:20220209T180000
DTSTAMP:20260423T055933
CREATED:20220511T144718Z
LAST-MODIFIED:20220511T144914Z
UID:6526-1644429600-1644429600@otsegolibrary.org
SUMMARY:Non-Fiction Book Club
DESCRIPTION:The Non-Fiction Book Club meets on the 2nd Wednesday of each month at 6 PM\nNewcomers are always welcome and encouraged to attend! \nJanuary 12 – Legends and Lies by Bill O’Reilly\nFebruary 9 – Andrew Jackson and the Miracle of New Orleans by Brian Kilmeade\nMarch 9 – The Ride of Her Life by Elizabeth Letts\nApril 13 – Clementine: The Life of Mrs. Winston Churchill by Sonia Purnell
URL:https://otsegolibrary.org/event/non-fiction-book-club-3/
CATEGORIES:Book Club
END:VEVENT
BEGIN:VEVENT
DTSTART;TZID=America/Detroit:20220209T100000
DTEND;TZID=America/Detroit:20220209T100000
DTSTAMP:20260423T055933
CREATED:20220510T184119Z
LAST-MODIFIED:20220515T125223Z
UID:6455-1644400800-1644400800@otsegolibrary.org
SUMMARY:Music & Movement
DESCRIPTION:Wednesdays at 10 AM\nFebruary 2 – May 11\nAges 0-5 \nMovin’ & groovin’ fun with sensoryWednesdays at 10 AM\nFebruary 2 – May 11\nAges 0-5 \nMovin’ & groovin’ fun with sensory play! play!
URL:https://otsegolibrary.org/event/music-movement-2/
CATEGORIES:Preschool
END:VEVENT
BEGIN:VEVENT
DTSTART;TZID=America/Detroit:20220208T160000
DTEND;TZID=America/Detroit:20220208T160000
DTSTAMP:20260423T055933
CREATED:20220511T164620Z
LAST-MODIFIED:20220515T125252Z
UID:6608-1644336000-1644336000@otsegolibrary.org
SUMMARY:STEAM
DESCRIPTION:Tuesdays at 4 PM\nFebruary 1 – May 10\n(No meetings February 15 or April 5)\nKindergarten – 5th Graders \nDrop in each week and choose one or several stations to investigate and discover new STEAM (Science\, Technology\, Engineering\, Art and Math) related ideas.
URL:https://otsegolibrary.org/event/steam-2/
CATEGORIES:Children
END:VEVENT
BEGIN:VEVENT
DTSTART;TZID=America/Detroit:20220208T100000
DTEND;TZID=America/Detroit:20220208T100000
DTSTAMP:20260423T055933
CREATED:20220511T153701Z
LAST-MODIFIED:20220511T153701Z
UID:6547-1644314400-1644314400@otsegolibrary.org
SUMMARY:Tiny Tots
DESCRIPTION:Tuesdays at 10 AM\nFebruary 1 – May 10\nAges 0-24 months\nSing\, read\, and play with your little ones and friends!
URL:https://otsegolibrary.org/event/tiny-tots-2/
CATEGORIES:Preschool
END:VEVENT
BEGIN:VEVENT
DTSTART;TZID=America/Detroit:20220203T160000
DTEND;TZID=America/Detroit:20220203T160000
DTSTAMP:20260423T055933
CREATED:20220511T182020Z
LAST-MODIFIED:20220511T182020Z
UID:6645-1643904000-1643904000@otsegolibrary.org
SUMMARY:Teen Scene
DESCRIPTION:February – May\n1st & 3rd Thursday at 4 PM\nMiddle School – High School \nHang out with us each week as we play games\, eat snacks\, and create lasting memories. We will be featuring several Nintendo Switch consoles and awesome new tabletop games. \nThere is no Teen Scene during Spring Break – check out the special Spring Break Events the first week of April.
URL:https://otsegolibrary.org/event/teen-scene/
CATEGORIES:Teen/Tween
END:VEVENT
BEGIN:VEVENT
DTSTART;TZID=America/Detroit:20220203T100000
DTEND;TZID=America/Detroit:20220203T100000
DTSTAMP:20260423T055933
CREATED:20220511T160745Z
LAST-MODIFIED:20220511T160745Z
UID:6576-1643882400-1643882400@otsegolibrary.org
SUMMARY:Storytime
DESCRIPTION:Thursdays at 10 AM\nFebruary 3 – May 12\nAges 2-5 \nEach session includes stories\, songs\, and a craft. \nFebruary – Winter Wonderland\nMarch Spring – Surprises\nApril/May – Feathered Friends
URL:https://otsegolibrary.org/event/storytime/
CATEGORIES:Preschool
END:VEVENT
BEGIN:VEVENT
DTSTART;TZID=America/Detroit:20220202T100000
DTEND;TZID=America/Detroit:20220202T100000
DTSTAMP:20260423T055933
CREATED:20220510T152045Z
LAST-MODIFIED:20220515T125341Z
UID:6443-1643796000-1643796000@otsegolibrary.org
SUMMARY:Music & Movement
DESCRIPTION:Wednesdays at 10 AM February 2 – May 11 Ages 0-5 \nMovin’ & groovin’ fun with sensory play!
URL:https://otsegolibrary.org/event/music-movement/
CATEGORIES:Preschool
END:VEVENT
BEGIN:VEVENT
DTSTART;TZID=America/Detroit:20220201T160000
DTEND;TZID=America/Detroit:20220201T160000
DTSTAMP:20260423T055933
CREATED:20220511T164538Z
LAST-MODIFIED:20220511T164538Z
UID:6606-1643731200-1643731200@otsegolibrary.org
SUMMARY:STEAM
DESCRIPTION:Tuesdays at 4 PM\nFebruary 1 – May 10\n(No meetings February 15 or April 5)\nKindergarten – 5th Graders \nDrop in each week and choose one or several stations to investigate and discover new STEAM (Science\, Technology\, Engineering\, Art and Math) related ideas.
URL:https://otsegolibrary.org/event/steam/
CATEGORIES:Children
END:VEVENT
BEGIN:VEVENT
DTSTART;TZID=America/Detroit:20220201T100000
DTEND;TZID=America/Detroit:20220201T100000
DTSTAMP:20260423T055933
CREATED:20220511T153624Z
LAST-MODIFIED:20220511T153624Z
UID:6545-1643709600-1643709600@otsegolibrary.org
SUMMARY:Tiny Tots
DESCRIPTION:Tuesdays at 10 AM\nFebruary 1 – May 10\nAges 0-24 months\nSing\, read\, and play with your little ones and friends!
URL:https://otsegolibrary.org/event/tiny-tots/
CATEGORIES:Preschool
END:VEVENT
BEGIN:VEVENT
DTSTART;TZID=America/Detroit:20220120T160000
DTEND;TZID=America/Detroit:20220120T160000
DTSTAMP:20260423T055933
CREATED:20220511T181737Z
LAST-MODIFIED:20220511T181737Z
UID:6641-1642694400-1642694400@otsegolibrary.org
SUMMARY:Where's Waldo?
DESCRIPTION:This event is for middle school and high school aged teens/tweens. \nWaldo is hiding in the library! Grab your friends\, check in at the circulation desk to get your tally sheet\, and help us find WALDO! \n 
URL:https://otsegolibrary.org/event/wheres-waldo/
CATEGORIES:Teen/Tween
END:VEVENT
BEGIN:VEVENT
DTSTART;TZID=America/Detroit:20220112T180000
DTEND;TZID=America/Detroit:20220112T180000
DTSTAMP:20260423T055933
CREATED:20220511T144636Z
LAST-MODIFIED:20220515T125448Z
UID:6524-1642010400-1642010400@otsegolibrary.org
SUMMARY:Non-Fiction Book Club
DESCRIPTION:The Non-Fiction Book Club meets on the 2nd Wednesday of each month at 6 PM\nNewcomers are always welcome and encouraged to attend! \nJanuary 12 – Legends and Lies by Bill O’Reilly\nFebruary 9 – Andrew Jackson and the Miracle of New Orleans by Brian Kilmeade\nMarch 9 – The Ride of Her Life by Elizabeth Letts\nApril 13 – Clementine: The Life of Mrs. Winston Churchill by Sonia Purnell
URL:https://otsegolibrary.org/event/non-fiction-book-club-2/
CATEGORIES:Book Club
END:VEVENT
BEGIN:VEVENT
DTSTART;TZID=America/Detroit:20220110T140000
DTEND;TZID=America/Detroit:20220110T140000
DTSTAMP:20260423T055933
CREATED:20220511T143154Z
LAST-MODIFIED:20220515T125422Z
UID:6505-1641823200-1641823200@otsegolibrary.org
SUMMARY:2nd Monday Book Club
DESCRIPTION:The 2nd Monday book club meets on the 2nd Monday of each month at 2 PM\nNewcomers are always welcome and encouraged to attend! \nJanuary 10 – Crazy Rich Asians by Kevin Kwan\nFebruary 14 – Girl Waits with Gun by Amy Stewart\nMarch 14 – The Weight of Ink by Rachael Kadish\nApril 11 – Salt to the Sea by Ruta Sepetys\nMay 9 – Tangerine by Christina Mangan\nJune 13 – All the Light We Cannot See by Anthony Doerr\nJuly 11 – The Husband’s Secret by Liane Moriarty\nAugust 8 – Educated by Tara Westover
URL:https://otsegolibrary.org/event/2nd-monday-book-club/
CATEGORIES:Book Club
END:VEVENT
BEGIN:VEVENT
DTSTART;VALUE=DATE:20220101
DTEND;VALUE=DATE:20220401
DTSTAMP:20260423T055933
CREATED:20220510T214856Z
LAST-MODIFIED:20220510T214856Z
UID:6500-1640995200-1648771199@otsegolibrary.org
SUMMARY:Read & Dine - Adult Winter Reading Program
DESCRIPTION:January – March \nSign up to be part of Read & Dine Adult Winter Reading Program this winter! Read ten books and you can enter a drawing to possibly win a Kindle Fire or a $25 gift card to a local restaurant.\nReading logs will be available at the circulation desk or at our drive-thru pickup window. ALL Participants who finish reading all 10 books will receive a cookbook (while supplies last). Thank you to the Friends of the Library (Kindle and cookbooks) and local restaurants for sponsoring this program!
URL:https://otsegolibrary.org/event/read-dine-adult-winter-reading-program/
CATEGORIES:Adult
END:VEVENT
BEGIN:VEVENT
DTSTART;VALUE=DATE:20211227
DTEND;VALUE=DATE:20220123
DTSTAMP:20260423T055933
CREATED:20220511T145429Z
LAST-MODIFIED:20220511T145429Z
UID:6541-1640563200-1642895999@otsegolibrary.org
SUMMARY:Where's Waldo - Winter Early Literacy Fundraiser
DESCRIPTION:Monday\, December 27 – Saturday\, January 22 \nWaldo is hiding in eight different scenes\, so come to find him during library open hours. Check in at the circulation desk to get your tally sheet. \nParticipation to play will be by freewill donation. All donations will go towards purchasing new books to “STOCK THE SHELVES”\nfor the children’s collection.
URL:https://otsegolibrary.org/event/wheres-waldo-winter-early-literacy-fundraiser/
CATEGORIES:Family
END:VEVENT
END:VCALENDAR