BEGIN:VCALENDAR
VERSION:2.0
PRODID:-//Otsego District Public Library - ECPv6.15.20//NONSGML v1.0//EN
CALSCALE:GREGORIAN
METHOD:PUBLISH
X-WR-CALNAME:Otsego District Public Library
X-ORIGINAL-URL:https://otsegolibrary.org
X-WR-CALDESC:Events for Otsego District Public Library
REFRESH-INTERVAL;VALUE=DURATION:PT1H
X-Robots-Tag:noindex
X-PUBLISHED-TTL:PT1H
BEGIN:VTIMEZONE
TZID:America/Detroit
BEGIN:DAYLIGHT
TZOFFSETFROM:-0500
TZOFFSETTO:-0400
TZNAME:EDT
DTSTART:20210314T070000
END:DAYLIGHT
BEGIN:STANDARD
TZOFFSETFROM:-0400
TZOFFSETTO:-0500
TZNAME:EST
DTSTART:20211107T060000
END:STANDARD
BEGIN:DAYLIGHT
TZOFFSETFROM:-0500
TZOFFSETTO:-0400
TZNAME:EDT
DTSTART:20220313T070000
END:DAYLIGHT
BEGIN:STANDARD
TZOFFSETFROM:-0400
TZOFFSETTO:-0500
TZNAME:EST
DTSTART:20221106T060000
END:STANDARD
BEGIN:DAYLIGHT
TZOFFSETFROM:-0500
TZOFFSETTO:-0400
TZNAME:EDT
DTSTART:20230312T070000
END:DAYLIGHT
BEGIN:STANDARD
TZOFFSETFROM:-0400
TZOFFSETTO:-0500
TZNAME:EST
DTSTART:20231105T060000
END:STANDARD
END:VTIMEZONE
BEGIN:VEVENT
DTSTART;TZID=America/Detroit:20220317T100000
DTEND;TZID=America/Detroit:20220317T100000
DTSTAMP:20260423T041928
CREATED:20220511T163659Z
LAST-MODIFIED:20220511T163659Z
UID:6590-1647511200-1647511200@otsegolibrary.org
SUMMARY:Storytime
DESCRIPTION:Thursdays at 10 AM\nFebruary 3 – May 12\nAges 2-5 \nEach session includes stories\, songs\, and a craft. \nFebruary – Winter Wonderland\nMarch Spring – Surprises\nApril/May – Feathered Friends
URL:https://otsegolibrary.org/event/storytime-8/
CATEGORIES:Preschool
END:VEVENT
BEGIN:VEVENT
DTSTART;TZID=America/Detroit:20220316T100000
DTEND;TZID=America/Detroit:20220316T100000
DTSTAMP:20260423T041928
CREATED:20220510T193422Z
LAST-MODIFIED:20220515T124532Z
UID:6469-1647424800-1647424800@otsegolibrary.org
SUMMARY:Music & Movement
DESCRIPTION:Wednesdays at 10 AM\nFebruary 2 – May 11\nAges 0-5 \nMovin’ & groovin’ fun with sensory play!
URL:https://otsegolibrary.org/event/music-movement-8/
CATEGORIES:Preschool
END:VEVENT
BEGIN:VEVENT
DTSTART;TZID=America/Detroit:20220315T160000
DTEND;TZID=America/Detroit:20220315T160000
DTSTAMP:20260423T041928
CREATED:20220511T172907Z
LAST-MODIFIED:20220511T172907Z
UID:6619-1647360000-1647360000@otsegolibrary.org
SUMMARY:STEAM
DESCRIPTION:Tuesdays at 4 PM\nFebruary 1 – May 10\n(No meetings February 15 or April 5)\nKindergarten – 5th Graders \nDrop in each week and choose one or several stations to investigate and discover new STEAM (Science\, Technology\, Engineering\, Art and Math) related ideas.
URL:https://otsegolibrary.org/event/steam-7/
CATEGORIES:Children
END:VEVENT
BEGIN:VEVENT
DTSTART;TZID=America/Detroit:20220315T100000
DTEND;TZID=America/Detroit:20220315T100000
DTSTAMP:20260423T041928
CREATED:20220511T154434Z
LAST-MODIFIED:20220511T154434Z
UID:6557-1647338400-1647338400@otsegolibrary.org
SUMMARY:Tiny Tots
DESCRIPTION:Tuesdays at 10 AM\nFebruary 1 – May 10\nAges 0-24 months\nSing\, read\, and play with your little ones and friends!
URL:https://otsegolibrary.org/event/tiny-tots-7/
CATEGORIES:Preschool
END:VEVENT
BEGIN:VEVENT
DTSTART;TZID=America/Detroit:20220314T140000
DTEND;TZID=America/Detroit:20220314T140000
DTSTAMP:20260423T041928
CREATED:20220511T143401Z
LAST-MODIFIED:20220515T124610Z
UID:6509-1647266400-1647266400@otsegolibrary.org
SUMMARY:2nd Monday Book Club
DESCRIPTION:The 2nd Monday book club meets on the 2nd Monday of each month at 2 PM\nNewcomers are always welcome and encouraged to attend! \nJanuary 10 – Crazy Rich Asians by Kevin Kwan\nFebruary 14 – Girl Waits with Gun by Amy Stewart\nMarch 14 – The Weight of Ink by Rachael Kadish\nApril 11 – Salt to the Sea by Ruta Sepetys\nMay 9 – Tangerine by Christina Mangan\nJune 13 – All the Light We Cannot See by Anthony Doerr\nJuly 11 – The Husband’s Secret by Liane Moriarty\nAugust 8 – Educated by Tara Westover
URL:https://otsegolibrary.org/event/2nd-monday-book-club-3/
CATEGORIES:Book Club
END:VEVENT
BEGIN:VEVENT
DTSTART;TZID=America/Detroit:20220312T100000
DTEND;TZID=America/Detroit:20220312T120000
DTSTAMP:20260423T041928
CREATED:20220511T145540Z
LAST-MODIFIED:20220511T145540Z
UID:6543-1647079200-1647086400@otsegolibrary.org
SUMMARY:Woolbur with Author Leslie Helakoski
DESCRIPTION:Saturday\, March 12 from 10 AM – Noon \nLeslie Helakoski\, award-winning children’s author and illustrator\, says her books are for laughing\, living and learning. If you’ve read any of her books including Big Chickens and her newest\ntitle\, Are Your Stars Like My Stars?\, then you will have to agree. \nFor this program we will focus on Woolbur\, the fun-filled story of a sheep that bleats to his own beat. We will begin our morning with a presentation by Leslie and then be able to meet a live Woolbur\, make a wooly craft\, and have a snack that’s not baaaaaa…d.
URL:https://otsegolibrary.org/event/woolbur-with-author-leslie-helakoski/
CATEGORIES:Family
END:VEVENT
BEGIN:VEVENT
DTSTART;TZID=America/Detroit:20220310T160000
DTEND;TZID=America/Detroit:20220310T160000
DTSTAMP:20260423T041928
CREATED:20220511T184822Z
LAST-MODIFIED:20220511T184822Z
UID:6665-1646928000-1646928000@otsegolibrary.org
SUMMARY:Art Hub
DESCRIPTION:Teen/Tween Art Club\nFebruary – May\n2nd Thursday at 4 PM\nMiddle School – High School \nCreate beautiful and fun pieces of art at this art club. Join us for drawing\, painting\, crafting and more! The projects at these meet-ups are more advanced and picked with teens and tweens in mind.
URL:https://otsegolibrary.org/event/art-hub-2/
CATEGORIES:Teen/Tween
END:VEVENT
BEGIN:VEVENT
DTSTART;TZID=America/Detroit:20220310T100000
DTEND;TZID=America/Detroit:20220310T100000
DTSTAMP:20260423T041928
CREATED:20220511T162736Z
LAST-MODIFIED:20220511T163539Z
UID:6586-1646906400-1646906400@otsegolibrary.org
SUMMARY:Storytime
DESCRIPTION:Thursdays at 10 AM\nFebruary 3 – May 12\nAges 2-5 \nEach session includes stories\, songs\, and a craft. \nFebruary – Winter Wonderland\nMarch Spring – Surprises\nApril/May – Feathered Friends
URL:https://otsegolibrary.org/event/storytime-6/
CATEGORIES:Preschool
END:VEVENT
BEGIN:VEVENT
DTSTART;TZID=America/Detroit:20220309T180000
DTEND;TZID=America/Detroit:20220309T180000
DTSTAMP:20260423T041928
CREATED:20220511T144840Z
LAST-MODIFIED:20220515T124651Z
UID:6528-1646848800-1646848800@otsegolibrary.org
SUMMARY:Non-Fiction Book Club
DESCRIPTION:The Non-Fiction Book Club meets on the 2nd Wednesday of each month at 6 PM\nNewcomers are always welcome and encouraged to attend! \nJanuary 12 – Legends and Lies by Bill O’Reilly\nFebruary 9 – Andrew Jackson and the Miracle of New Orleans by Brian Kilmeade\nMarch 9 – The Ride of Her Life by Elizabeth Letts\nApril 13 – Clementine: The Life of Mrs. Winston Churchill by Sonia Purnell
URL:https://otsegolibrary.org/event/non-fiction-book-club-4/
CATEGORIES:Book Club
END:VEVENT
BEGIN:VEVENT
DTSTART;TZID=America/Detroit:20220309T100000
DTEND;TZID=America/Detroit:20220309T100000
DTSTAMP:20260423T041928
CREATED:20220510T193331Z
LAST-MODIFIED:20220515T124720Z
UID:6467-1646820000-1646820000@otsegolibrary.org
SUMMARY:Music & Movement
DESCRIPTION:Wednesdays at 10 AM\nFebruary 2 – May 11\nAges 0-5 \nMovin’ & groovin’ fun with sensory play!
URL:https://otsegolibrary.org/event/music-movement-7/
CATEGORIES:Preschool
END:VEVENT
BEGIN:VEVENT
DTSTART;TZID=America/Detroit:20220308T160000
DTEND;TZID=America/Detroit:20220308T160000
DTSTAMP:20260423T041928
CREATED:20220511T172821Z
LAST-MODIFIED:20220511T172821Z
UID:6617-1646755200-1646755200@otsegolibrary.org
SUMMARY:STEAM
DESCRIPTION:Tuesdays at 4 PM\nFebruary 1 – May 10\n(No meetings February 15 or April 5)\nKindergarten – 5th Graders \nDrop in each week and choose one or several stations to investigate and discover new STEAM (Science\, Technology\, Engineering\, Art and Math) related ideas.
URL:https://otsegolibrary.org/event/steam-6/
CATEGORIES:Children
END:VEVENT
BEGIN:VEVENT
DTSTART;TZID=America/Detroit:20220308T100000
DTEND;TZID=America/Detroit:20220308T100000
DTSTAMP:20260423T041928
CREATED:20220511T153940Z
LAST-MODIFIED:20220511T153940Z
UID:6555-1646733600-1646733600@otsegolibrary.org
SUMMARY:Tiny Tots
DESCRIPTION:Tuesdays at 10 AM\nFebruary 1 – May 10\nAges 0-24 months\nSing\, read\, and play with your little ones and friends!
URL:https://otsegolibrary.org/event/tiny-tots-6/
CATEGORIES:Preschool
END:VEVENT
BEGIN:VEVENT
DTSTART;VALUE=DATE:20220307
DTEND;VALUE=DATE:20220308
DTSTAMP:20260423T041928
CREATED:20220511T191045Z
LAST-MODIFIED:20220511T191045Z
UID:6687-1646611200-1646697599@otsegolibrary.org
SUMMARY:Overstock Book Sale
DESCRIPTION:The Overstock Book Sale takes place during library hours: 9 AM – 6 PM. \nPrices:\nAdult books – 3/$1 and Kids books – 4/$1 \nWho doesn’t like book bargains?! \nThe Friends of the Library are holding an Overstock Book Sale every few months during library hours. Books will be on sale for 3/$1 in front of the bookstore. (We might even have some special deals that day!) Grab your book bags and stock up for birthdays\, holidays\, and your own bookshelf! \nShelves inside the bookstore will be restocked with new titles after each sale.
URL:https://otsegolibrary.org/event/overstock-book-sale-3/
CATEGORIES:Friends of the Library
END:VEVENT
BEGIN:VEVENT
DTSTART;TZID=America/Detroit:20220303T190000
DTEND;TZID=America/Detroit:20220303T190000
DTSTAMP:20260423T041928
CREATED:20220510T200118Z
LAST-MODIFIED:20220510T201159Z
UID:6489-1646334000-1646334000@otsegolibrary.org
SUMMARY:THYME to learn about Herbs!
DESCRIPTION:Presented by Judi Roberts\, Master Gardener \nDo you want to start your own herb garden? Learn all of the ins and outs of planting and preserving herbs. Free seed packets will be available thanks to a donation from Plainwell Home Depot!
URL:https://otsegolibrary.org/event/thyme-to-learn-about-herbs/
CATEGORIES:Adult
END:VEVENT
BEGIN:VEVENT
DTSTART;TZID=America/Detroit:20220303T160000
DTEND;TZID=America/Detroit:20220303T160000
DTSTAMP:20260423T041928
CREATED:20220511T182148Z
LAST-MODIFIED:20220511T182148Z
UID:6649-1646323200-1646323200@otsegolibrary.org
SUMMARY:Teen Scene
DESCRIPTION:February – May\n1st & 3rd Thursday at 4 PM\nMiddle School – High School \nHang out with us each week as we play games\, eat snacks\, and create lasting memories. We will be featuring several Nintendo Switch consoles and awesome new tabletop games. \nThere is no Teen Scene during Spring Break – check out the special Spring Break Events the first week of April.
URL:https://otsegolibrary.org/event/teen-scene-3/
CATEGORIES:Teen/Tween
END:VEVENT
BEGIN:VEVENT
DTSTART;TZID=America/Detroit:20220303T100000
DTEND;TZID=America/Detroit:20220303T100000
DTSTAMP:20260423T041928
CREATED:20220511T162658Z
LAST-MODIFIED:20220511T162658Z
UID:6584-1646301600-1646301600@otsegolibrary.org
SUMMARY:Storytime
DESCRIPTION:Thursdays at 10 AM\nFebruary 3 – May 12\nAges 2-5 \nEach session includes stories\, songs\, and a craft. \nFebruary – Winter Wonderland\nMarch Spring – Surprises\nApril/May – Feathered Friends
URL:https://otsegolibrary.org/event/storytime-5/
CATEGORIES:Preschool
END:VEVENT
BEGIN:VEVENT
DTSTART;TZID=America/Detroit:20220302T100000
DTEND;TZID=America/Detroit:20220302T100000
DTSTAMP:20260423T041928
CREATED:20220510T193259Z
LAST-MODIFIED:20220515T124756Z
UID:6465-1646215200-1646215200@otsegolibrary.org
SUMMARY:Music & Movement
DESCRIPTION:Wednesdays at 10 AM\nFebruary 2 – May 11\nAges 0-5 \nMovin’ & groovin’ fun with sensory play!
URL:https://otsegolibrary.org/event/music-movement-6/
CATEGORIES:Preschool
END:VEVENT
BEGIN:VEVENT
DTSTART;TZID=America/Detroit:20220301T160000
DTEND;TZID=America/Detroit:20220301T160000
DTSTAMP:20260423T041928
CREATED:20220511T165525Z
LAST-MODIFIED:20220511T171509Z
UID:6614-1646150400-1646150400@otsegolibrary.org
SUMMARY:STEAM
DESCRIPTION:Tuesdays at 4 PM\nFebruary 1 – May 10\n(No meetings February 15 or April 5)\nKindergarten – 5th Graders \nDrop in each week and choose one or several stations to investigate and discover new STEAM (Science\, Technology\, Engineering\, Art and Math) related ideas.
URL:https://otsegolibrary.org/event/steam-5/
CATEGORIES:Children
END:VEVENT
BEGIN:VEVENT
DTSTART;TZID=America/Detroit:20220301T100000
DTEND;TZID=America/Detroit:20220301T100000
DTSTAMP:20260423T041928
CREATED:20220511T153901Z
LAST-MODIFIED:20220511T153901Z
UID:6553-1646128800-1646128800@otsegolibrary.org
SUMMARY:Tiny Tots
DESCRIPTION:Tuesdays at 10 AM\nFebruary 1 – May 10\nAges 0-24 months\nSing\, read\, and play with your little ones and friends!
URL:https://otsegolibrary.org/event/tiny-tots-5/
CATEGORIES:Preschool
END:VEVENT
BEGIN:VEVENT
DTSTART;TZID=America/Detroit:20220224T160000
DTEND;TZID=America/Detroit:20220224T160000
DTSTAMP:20260423T041928
CREATED:20220511T185556Z
LAST-MODIFIED:20220511T185628Z
UID:6671-1645718400-1645718400@otsegolibrary.org
SUMMARY:Sweet & Salty Book Club
DESCRIPTION:February – May\n4th Thursday at 4 PM\nMiddle School – High School\nBooks can be sweet… and some characters are salty! \nLet’s get together to discuss what we are reading with sweet and salty snacks! Not everyone likes to read the same book\, so choose the book you want to read and share with the group – your books\, your choice! \nAsk a staff member about new and popular book titles in the young adult\, juvenile\, and graphic novel sections!
URL:https://otsegolibrary.org/event/sweet-salty-book-club/
CATEGORIES:Teen/Tween
END:VEVENT
BEGIN:VEVENT
DTSTART;TZID=America/Detroit:20220224T100000
DTEND;TZID=America/Detroit:20220224T100000
DTSTAMP:20260423T041928
CREATED:20220511T162613Z
LAST-MODIFIED:20220511T162613Z
UID:6582-1645696800-1645696800@otsegolibrary.org
SUMMARY:Storytime
DESCRIPTION:Thursdays at 10 AM\nFebruary 3 – May 12\nAges 2-5 \nEach session includes stories\, songs\, and a craft. \nFebruary – Winter Wonderland\nMarch Spring – Surprises\nApril/May – Feathered Friends
URL:https://otsegolibrary.org/event/storytime-4/
CATEGORIES:Preschool
END:VEVENT
BEGIN:VEVENT
DTSTART;TZID=America/Detroit:20220223T100000
DTEND;TZID=America/Detroit:20220223T100000
DTSTAMP:20260423T041928
CREATED:20220510T193210Z
LAST-MODIFIED:20220515T124839Z
UID:6463-1645610400-1645610400@otsegolibrary.org
SUMMARY:Music & Movement
DESCRIPTION:Wednesdays at 10 AM\nFebruary 2 – May 11\nAges 0-5 \nMovin’ & groovin’ fun with sensory play!
URL:https://otsegolibrary.org/event/music-movement-5/
CATEGORIES:Preschool
END:VEVENT
BEGIN:VEVENT
DTSTART;TZID=America/Detroit:20220222T160000
DTEND;TZID=America/Detroit:20220222T160000
DTSTAMP:20260423T041928
CREATED:20220511T165435Z
LAST-MODIFIED:20220511T165435Z
UID:6612-1645545600-1645545600@otsegolibrary.org
SUMMARY:STEAM
DESCRIPTION:Tuesdays at 4 PM\nFebruary 1 – May 10\n(No meetings February 15 or April 5)\nKindergarten – 5th Graders \nDrop in each week and choose one or several stations to investigate and discover new STEAM (Science\, Technology\, Engineering\, Art and Math) related ideas.
URL:https://otsegolibrary.org/event/steam-4/
CATEGORIES:Children
END:VEVENT
BEGIN:VEVENT
DTSTART;TZID=America/Detroit:20220222T100000
DTEND;TZID=America/Detroit:20220222T100000
DTSTAMP:20260423T041928
CREATED:20220511T153823Z
LAST-MODIFIED:20220511T153823Z
UID:6551-1645524000-1645524000@otsegolibrary.org
SUMMARY:Tiny Tots
DESCRIPTION:Tuesdays at 10 AM\nFebruary 1 – May 10\nAges 0-24 months\nSing\, read\, and play with your little ones and friends!
URL:https://otsegolibrary.org/event/tiny-tots-4/
CATEGORIES:Preschool
END:VEVENT
BEGIN:VEVENT
DTSTART;TZID=America/Detroit:20220217T190000
DTEND;TZID=America/Detroit:20220217T190000
DTSTAMP:20260423T041928
CREATED:20220510T195640Z
LAST-MODIFIED:20220515T124913Z
UID:6487-1645124400-1645124400@otsegolibrary.org
SUMMARY:How to Start Your Business
DESCRIPTION:Presented by George Fotis\nCertified Business Consultant\, Michigan Small Business Development Center \nThis seminar will help you assess your readiness for entrepreneurship\, evaluate the viability of your business concept\, understand the steps to starting a business\, and take advantage of business planning tools.
URL:https://otsegolibrary.org/event/how-to-start-your-business/
CATEGORIES:Adult
END:VEVENT
BEGIN:VEVENT
DTSTART;TZID=America/Detroit:20220217T160000
DTEND;TZID=America/Detroit:20220217T160000
DTSTAMP:20260423T041928
CREATED:20220511T182553Z
LAST-MODIFIED:20220511T182553Z
UID:6659-1645113600-1645113600@otsegolibrary.org
SUMMARY:Teen Scene
DESCRIPTION:February – May\n1st & 3rd Thursday at 4 PM\nMiddle School – High School \nHang out with us each week as we play games\, eat snacks\, and create lasting memories. We will be featuring several Nintendo Switch consoles and awesome new tabletop games. \nThere is no Teen Scene during Spring Break – check out the special Spring Break Events the first week of April.
URL:https://otsegolibrary.org/event/teen-scene-8/
CATEGORIES:Teen/Tween
END:VEVENT
BEGIN:VEVENT
DTSTART;TZID=America/Detroit:20220217T100000
DTEND;TZID=America/Detroit:20220217T100000
DTSTAMP:20260423T041928
CREATED:20220511T162538Z
LAST-MODIFIED:20220511T162538Z
UID:6580-1645092000-1645092000@otsegolibrary.org
SUMMARY:Storytime
DESCRIPTION:Thursdays at 10 AM\nFebruary 3 – May 12\nAges 2-5 \nEach session includes stories\, songs\, and a craft. \nFebruary – Winter Wonderland\nMarch Spring – Surprises\nApril/May – Feathered Friends
URL:https://otsegolibrary.org/event/storytime-3/
CATEGORIES:Preschool
END:VEVENT
BEGIN:VEVENT
DTSTART;TZID=America/Detroit:20220216T100000
DTEND;TZID=America/Detroit:20220216T100000
DTSTAMP:20260423T041928
CREATED:20220510T193129Z
LAST-MODIFIED:20220515T125016Z
UID:6461-1645005600-1645005600@otsegolibrary.org
SUMMARY:Music & Movement
DESCRIPTION:Wednesdays at 10 AM\nFebruary 2 – May 11\nAges 0-5 \nMovin’ & groovin’ fun with sensory play!
URL:https://otsegolibrary.org/event/music-movement-4/
CATEGORIES:Preschool
END:VEVENT
BEGIN:VEVENT
DTSTART;TZID=America/Detroit:20220215T100000
DTEND;TZID=America/Detroit:20220215T100000
DTSTAMP:20260423T041928
CREATED:20220511T153747Z
LAST-MODIFIED:20220511T153747Z
UID:6549-1644919200-1644919200@otsegolibrary.org
SUMMARY:Tiny Tots
DESCRIPTION:Tuesdays at 10 AM\nFebruary 1 – May 10\nAges 0-24 months\nSing\, read\, and play with your little ones and friends!
URL:https://otsegolibrary.org/event/tiny-tots-3/
CATEGORIES:Preschool
END:VEVENT
BEGIN:VEVENT
DTSTART;TZID=America/Detroit:20220214T140000
DTEND;TZID=America/Detroit:20220214T140000
DTSTAMP:20260423T041928
CREATED:20220511T143257Z
LAST-MODIFIED:20220515T125120Z
UID:6507-1644847200-1644847200@otsegolibrary.org
SUMMARY:2nd Monday Book Club
DESCRIPTION:The 2nd Monday book club meets on the 2nd Monday of each month at 2 PM\nNewcomers are always welcome and encouraged to attend! \nJanuary 10 – Crazy Rich Asians by Kevin Kwan\nFebruary 14 – Girl Waits with Gun by Amy Stewart\nMarch 14 – The Weight of Ink by Rachael Kadish\nApril 11 – Salt to the Sea by Ruta Sepetys\nMay 9 – Tangerine by Christina Mangan\nJune 13 – All the Light We Cannot See by Anthony Doerr\nJuly 11 – The Husband’s Secret by Liane Moriarty\nAugust 8 – Educated by Tara Westover
URL:https://otsegolibrary.org/event/2nd-monday-book-club-2/
CATEGORIES:Book Club
END:VEVENT
END:VCALENDAR