BEGIN:VCALENDAR
VERSION:2.0
PRODID:-//Otsego District Public Library - ECPv6.15.20//NONSGML v1.0//EN
CALSCALE:GREGORIAN
METHOD:PUBLISH
X-WR-CALNAME:Otsego District Public Library
X-ORIGINAL-URL:https://otsegolibrary.org
X-WR-CALDESC:Events for Otsego District Public Library
REFRESH-INTERVAL;VALUE=DURATION:PT1H
X-Robots-Tag:noindex
X-PUBLISHED-TTL:PT1H
BEGIN:VTIMEZONE
TZID:America/Detroit
BEGIN:DAYLIGHT
TZOFFSETFROM:-0500
TZOFFSETTO:-0400
TZNAME:EDT
DTSTART:20220313T070000
END:DAYLIGHT
BEGIN:STANDARD
TZOFFSETFROM:-0400
TZOFFSETTO:-0500
TZNAME:EST
DTSTART:20221106T060000
END:STANDARD
BEGIN:DAYLIGHT
TZOFFSETFROM:-0500
TZOFFSETTO:-0400
TZNAME:EDT
DTSTART:20230312T070000
END:DAYLIGHT
BEGIN:STANDARD
TZOFFSETFROM:-0400
TZOFFSETTO:-0500
TZNAME:EST
DTSTART:20231105T060000
END:STANDARD
BEGIN:DAYLIGHT
TZOFFSETFROM:-0500
TZOFFSETTO:-0400
TZNAME:EDT
DTSTART:20240310T070000
END:DAYLIGHT
BEGIN:STANDARD
TZOFFSETFROM:-0400
TZOFFSETTO:-0500
TZNAME:EST
DTSTART:20241103T060000
END:STANDARD
END:VTIMEZONE
BEGIN:VEVENT
DTSTART;TZID=America/Detroit:20230915T130000
DTEND;TZID=America/Detroit:20230915T130000
DTSTAMP:20260419T235719
CREATED:20230720T212112Z
LAST-MODIFIED:20230822T204200Z
UID:8631-1694782800-1694782800@otsegolibrary.org
SUMMARY:Get Crafty – Make & Take Crafts
DESCRIPTION:September 15\, October 20\, November 17 \n3rd Fridays of the Month at 1 PM \nCreate a fun craft for free! Each month you will be able to make a fun decoration that you can proudly take home to display.
URL:https://otsegolibrary.org/event/get-crafty-make-take-crafts-2/
CATEGORIES:Adult
END:VEVENT
BEGIN:VEVENT
DTSTART;TZID=America/Detroit:20230915T100000
DTEND;TZID=America/Detroit:20230915T100000
DTSTAMP:20260419T235719
CREATED:20230720T205711Z
LAST-MODIFIED:20230720T205711Z
UID:8622-1694772000-1694772000@otsegolibrary.org
SUMMARY:Coffee and Conversations
DESCRIPTION:September 15\, October 20\, November 17 \n3rd Fridays of the Month at 10 AM \nJoin your community friends for some coffee\, tea\, and yummy treats while having lively discussions.
URL:https://otsegolibrary.org/event/coffee-and-conversations-7/
CATEGORIES:Adult
END:VEVENT
BEGIN:VEVENT
DTSTART;TZID=America/Detroit:20230914T160000
DTEND;TZID=America/Detroit:20230914T160000
DTSTAMP:20260419T235719
CREATED:20230721T200013Z
LAST-MODIFIED:20230721T200046Z
UID:8704-1694707200-1694707200@otsegolibrary.org
SUMMARY:Art Hub
DESCRIPTION:September 14\, October 12\, & November 9 \n2nd Thursday at 4 PM  \nCreate beautiful and fun pieces of art at this art club! The crafts at these meetups are more advanced and picked for teens/tweens – drawing\, painting\, crafting and more!
URL:https://otsegolibrary.org/event/art-hub-9/
CATEGORIES:Teen/Tween
END:VEVENT
BEGIN:VEVENT
DTSTART;TZID=America/Detroit:20230914T100000
DTEND;TZID=America/Detroit:20230914T100000
DTSTAMP:20260419T235719
CREATED:20230811T195004Z
LAST-MODIFIED:20230811T195004Z
UID:8770-1694685600-1694685600@otsegolibrary.org
SUMMARY:Storytime
DESCRIPTION:September 14 – November 16 (No meeting on October 5)\nThursdays at 10 AM \nAges 0-5 \nStories\, songs\, and a craft all focusing on a new theme each week.
URL:https://otsegolibrary.org/event/storytime-40/
CATEGORIES:Preschool
END:VEVENT
BEGIN:VEVENT
DTSTART;TZID=America/Detroit:20230913T180000
DTEND;TZID=America/Detroit:20230913T180000
DTSTAMP:20260419T235719
CREATED:20230721T144501Z
LAST-MODIFIED:20230721T144501Z
UID:8663-1694628000-1694628000@otsegolibrary.org
SUMMARY:Non Fiction Book Club
DESCRIPTION:2nd Wednesday at 6 PM \nJuly 12\nTrail of Tears by John Ehle \nAugust 9\nThe Falcon Thief by Joshua Hammer \nSeptember 13\nNew Women in the Old West by Winifred Gallagher \nOctober 11\nThe Soul of an Octopus by Sy Montgomery \nNovember 8\nFirst on the Moon by Armstrong\, Collins\, and Aldrin \nDecember 13\nThe Bad-Ass Librarians of Timbuktu by Joshua Hammer \nJanuary 10\nRubicon by Tom Holland
URL:https://otsegolibrary.org/event/non-fiction-book-club-18/
CATEGORIES:Book Club
END:VEVENT
BEGIN:VEVENT
DTSTART;TZID=America/Detroit:20230913T160000
DTEND;TZID=America/Detroit:20230913T160000
DTSTAMP:20260419T235719
CREATED:20230721T184650Z
LAST-MODIFIED:20230721T185130Z
UID:8681-1694620800-1694620800@otsegolibrary.org
SUMMARY:Kids & Teens Who Code!
DESCRIPTION:Led by Liliana Gonzalez\, Cinthia Williams\, and Doriane Le Bourse\, PhD\, with Perrigo  \nSeptember 13 – November 15 (No Meeting October 4)\nWednesdays at 4 PM \nLearn to code with fun online tutorials and activities that will help build animations\, games\, apps\, and other things that you dream up! Discover the impact that computer science can have on our community. Registration is encouraged\, but not required.
URL:https://otsegolibrary.org/event/kids-teens-who-code/
CATEGORIES:Children,Teen/Tween
END:VEVENT
BEGIN:VEVENT
DTSTART;TZID=America/Detroit:20230913T100000
DTEND;TZID=America/Detroit:20230913T100000
DTSTAMP:20260419T235719
CREATED:20230721T204307Z
LAST-MODIFIED:20230814T190722Z
UID:8742-1694599200-1694599200@otsegolibrary.org
SUMMARY:Music & Movement
DESCRIPTION:September 13 – November 15 (No meeting on October 4) \nWednesdays at 10 AM \nAges 0-5 \nMovin’ and Groovin’ fun with songs\, stories\, interactive play\, and sensory activities.
URL:https://otsegolibrary.org/event/music-and-movement-12/
CATEGORIES:Preschool
END:VEVENT
BEGIN:VEVENT
DTSTART;TZID=America/Detroit:20230912T160000
DTEND;TZID=America/Detroit:20230912T160000
DTSTAMP:20260419T235719
CREATED:20230921T132624Z
LAST-MODIFIED:20230921T132624Z
UID:8964-1694534400-1694534400@otsegolibrary.org
SUMMARY:Construct & Create
DESCRIPTION:September 12 – November 14 (No meeting on October 3 & 31)\nTuesdays at 4 PM\nFor Kindergarten – 5th Grade \nJoin your friends after school to build great structures and create beautiful art projects. Each week there will be different building sets and art materials so you can use your imagination and get your creative juices flowing!
URL:https://otsegolibrary.org/event/construct-create-8/
CATEGORIES:Children
END:VEVENT
BEGIN:VEVENT
DTSTART;TZID=America/Detroit:20230912T100000
DTEND;TZID=America/Detroit:20230912T100000
DTSTAMP:20260419T235719
CREATED:20230721T201058Z
LAST-MODIFIED:20230721T201058Z
UID:8722-1694512800-1694512800@otsegolibrary.org
SUMMARY:Tiny Tots
DESCRIPTION:September 12 – November 14 (No meeting on October 3) \nTuesdays at 10 AM  \nAges 0-24 Months \nSing\, read\, and play with your little ones and friends!
URL:https://otsegolibrary.org/event/tiny-tots-40/
CATEGORIES:Preschool
END:VEVENT
BEGIN:VEVENT
DTSTART;TZID=America/Detroit:20230911T140000
DTEND;TZID=America/Detroit:20230911T140000
DTSTAMP:20260419T235719
CREATED:20230721T143732Z
LAST-MODIFIED:20230721T143946Z
UID:8652-1694440800-1694440800@otsegolibrary.org
SUMMARY:2nd Monday Book Club
DESCRIPTION:Meets on the 2nd Monday of each month at 2 PM \nJuly 10\nLittle Fires Everywhere by Celeste Ng \nAugust 14\nThe Orphan Train by Christina Baker Kline \nSeptember 11\nThe Boston Girl by Anita Diamante \nOctober 9\nThe Maidens by Alex Michaelides \nNovember 13\nNever Let Me Go by Kazuo Ishiguro \nDecember 11\nChoose A Holiday Book \nJanuary 8\nProject Hail Mary by Andy Weir
URL:https://otsegolibrary.org/event/2nd-monday-book-club-23/
CATEGORIES:Adult
END:VEVENT
BEGIN:VEVENT
DTSTART;TZID=America/Detroit:20230911T110000
DTEND;TZID=America/Detroit:20230911T160000
DTSTAMP:20260419T235719
CREATED:20230720T204802Z
LAST-MODIFIED:20230720T204802Z
UID:8616-1694430000-1694448000@otsegolibrary.org
SUMMARY:American Red Cross Blood Drive
DESCRIPTION:Monday\, September 11 from 11 AM – 4:15 PM\nMake your appointment at redcrossblood.org or call 1-800-RED-CROSS.
URL:https://otsegolibrary.org/event/american-red-cross-blood-drive-2/
CATEGORIES:Adult
END:VEVENT
BEGIN:VEVENT
DTSTART;TZID=America/Detroit:20230907T160000
DTEND;TZID=America/Detroit:20230907T160000
DTSTAMP:20260419T235719
CREATED:20230721T195849Z
LAST-MODIFIED:20230721T195849Z
UID:8700-1694102400-1694102400@otsegolibrary.org
SUMMARY:Teen Scene
DESCRIPTION:September 7 & November 2\n(No meeting October 5)\n\n1st Thursday at 4 PM \nHang out with us – play games\, watch movies\, and eat snacks. Featuring Nintendo Switch consoles and fun new tabletop games.
URL:https://otsegolibrary.org/event/teen-scene-18/
CATEGORIES:Teen/Tween
END:VEVENT
BEGIN:VEVENT
DTSTART;VALUE=DATE:20230902
DTEND;VALUE=DATE:20230905
DTSTAMP:20260419T235719
CREATED:20221110T195110Z
LAST-MODIFIED:20221110T200026Z
UID:7574-1693612800-1693871999@otsegolibrary.org
SUMMARY:LIBRARY CLOSED
DESCRIPTION:The library will be closed for the holiday. \nCLOSED:\nLabor Day Weekend\nSaturday\, September 2 – Monday\, September 4 \nHave a safe and happy holiday with your family and friends!
URL:https://otsegolibrary.org/event/library-closed-13/
CATEGORIES:Notice/Closing
END:VEVENT
BEGIN:VEVENT
DTSTART;TZID=America/Detroit:20230831T190000
DTEND;TZID=America/Detroit:20230831T190000
DTSTAMP:20260419T235719
CREATED:20230720T203422Z
LAST-MODIFIED:20230720T203422Z
UID:8598-1693508400-1693508400@otsegolibrary.org
SUMMARY:Lyrics on the Lawn - Erin Zindle and the Ragbirds
DESCRIPTION:THURSDAYS IN AUGUST AT 7 PM \n\nVisit the library FIVE Thursday evenings in August for an outdoor concert on the lawn. Bring a lawn chair or blanket\, and your family and friends to enjoy some great FREE entertainment. Popcorn will be provided by the Friends of the Library\, and bottled water will be available for $1/bottle.\n\nErin Zindle and the Ragbirds • Folk Rock\nAugust 31 @ 7 PM\nSinger-songwriter and multi-instrumentalist Erin Zindle joins us from Ann Arbor\, Michigan. Erin Zindle & The Ragbirds are a four-piece\, female-led\, folk-rock-world fusion. They describe their music as “infectious global groove”. The musical roots of this group are complex – with Gypsy\, Middle-Eastern\, Americana\, rock\, and Latin influences\, all stirred with a Celtic fiddler’s bow.\nIn live performances\, the band incorporates variations on traditional African drum pieces; each member trading their instrument for a hand drum. The songs carry a positive message and include both pop hooks and improvised solos. The Ragbirds make use of numerous traditional folk instruments\, blending them with modern sounds to create an infectious world groove rooted in the traditions of many cultures and eras.\nThe group has released five full-length studio albums\, two live records\, and one single; all self-produced and independently released. Their latest album\, The Threshold & The Hearth\, was released March 25\, 2016 via Rock Ridge Music. Don’t miss out on the groove as Erin Zindle and the Ragbirds put on the grand finale of Lyrics on the Lawn 2023!
URL:https://otsegolibrary.org/event/lyrics-on-the-lawn-erin-zindle-and-the-ragbirds/
CATEGORIES:Lyrics on the Lawn - Free Concerts
END:VEVENT
BEGIN:VEVENT
DTSTART;TZID=America/Detroit:20230824T190000
DTEND;TZID=America/Detroit:20230824T190000
DTSTAMP:20260419T235719
CREATED:20230720T203252Z
LAST-MODIFIED:20230720T203327Z
UID:8596-1692903600-1692903600@otsegolibrary.org
SUMMARY:Lyrics on the Lawn - Moxie Strings
DESCRIPTION:THURSDAYS IN AUGUST AT 7 PM\n\nVisit the library FIVE Thursday evenings in August for an outdoor concert on the lawn. Bring a lawn chair or blanket\, and your family and friends to enjoy some great FREE entertainment. Popcorn will be provided by the Friends of the Library\, and bottled water will be available for $1/bottle.\n\nThe Moxie Strings • Feel Good Melodies/Rock Influenced\nAugust 24 @ 7 PM\nJoining us from Nashville\, Moxie Strings is celebrating their newest album Live & Plugged In debuting at #1 on the Billboard Classical Crossover Charts. Hailed by The Grand Rapids Press as “top-notch\, instrumental wizardry\,” The Moxie Strings offer listeners the unique opportunity to experience some of the world’s best-known instruments through an electric\, innovative lens.\nDiana Ladio and Alison Lynn make up Moxie Strings. Alison performs on a newly-invented\, electric cello\, and Diana on a contemporary 5-string violin. Both use a variety of audio effects pedals. The Moxie Strings compose the majority of their pieces and arrange melodies from many countries\, resulting in a genre-blurring blend of ear-catching\, mainstream melodies and foot-stomping\, rock-influenced rhythms.\n\nThe band’s polished\, high-energy show continues to redefine strings’ role in contemporary music\, and offers audience members a diverse\, fun\, musical experience. Moxie Strings have released 5 albums. You really don’t want to miss this amazing night of music.\n\n\nUp and Coming Concert:\nErin Zindle and the Ragbirds • Folk Rock\nAugust 31 @ 7 PM
URL:https://otsegolibrary.org/event/lyrics-on-the-lawn-moxie-strings/
CATEGORIES:Lyrics on the Lawn - Free Concerts
END:VEVENT
BEGIN:VEVENT
DTSTART;TZID=America/Detroit:20230823T173000
DTEND;TZID=America/Detroit:20230823T173000
DTSTAMP:20260419T235719
CREATED:20221110T193455Z
LAST-MODIFIED:20230802T162321Z
UID:7548-1692811800-1692811800@otsegolibrary.org
SUMMARY:Library Board Meeting
DESCRIPTION:The Library Board of Trustees meets on a monthly basis to discuss library business and housekeeping. Meetings are open to the public and include a period of time for patrons to discuss comments and concerns. \n\nPLEASE NOTE THAT THE AUGUST BOARD MEETING HAS BEEN MOVED FROM WEDNESDAY\, AUGUST 16 TO WEDNESDAY\, AUGUST 23.\n\nThese meetings are held once a month on Wednesdays at 5:30 PM. The board meetings are tentative and could be subject to change at any time. Keep an eye out for deviations in scheduled dates/times of these meetings.
URL:https://otsegolibrary.org/event/library-board-meeting-7/
CATEGORIES:Library Board
END:VEVENT
BEGIN:VEVENT
DTSTART;TZID=America/Detroit:20230821T130000
DTEND;TZID=America/Detroit:20230821T130000
DTSTAMP:20260419T235719
CREATED:20230814T161424Z
LAST-MODIFIED:20230814T161424Z
UID:8786-1692622800-1692622800@otsegolibrary.org
SUMMARY:Friends of the Library Meeting
DESCRIPTION:The Friends of the Library will be meeting to discuss volunteer and library related business. \n“The Friends”  are always looking for new members. The Friends run a used bookstore and volunteer at library programs. Your donations of gently used books and DVDs help support the many wonderful programs offered at the library!
URL:https://otsegolibrary.org/event/friends-of-the-library-meeting-3/
CATEGORIES:Friends of the Library
END:VEVENT
BEGIN:VEVENT
DTSTART;TZID=America/Detroit:20230817T190000
DTEND;TZID=America/Detroit:20230817T190000
DTSTAMP:20260419T235719
CREATED:20230720T203107Z
LAST-MODIFIED:20230720T203107Z
UID:8590-1692298800-1692298800@otsegolibrary.org
SUMMARY:Lyrics on the Lawn - Blueback
DESCRIPTION:THURSDAYS IN AUGUST AT 7 PM\nVisit the library FIVE Thursday evenings in August for an outdoor concert on the lawn. Bring a lawn chair or blanket\, and your family and friends to enjoy some great FREE entertainment.\nPopcorn will be provided by the Friends of the Library\, and bottled water will be available for $1/bottle.\n\nBlueback • Blues/Americana\nAugust 17 @ 7 PM\nThis performance is sponsored by the Friends of the Library!\nBlueback quartet plays in the Kalamazoo area. They perform the full range of Americana music: blues\, country\, folk\, jump\, swing\, and roots rock music. The mood of the evening is fun when Blueback performs; be sure to come check them out!\n\nUp and Coming Performances:\nMoxie Strings • Feel Good Melodies/Rock Influenced\nAugust 24 @ 7 PM \n\nErin Zindle and the Ragbirds • Folk Rock\nAugust 31 @ 7 PM
URL:https://otsegolibrary.org/event/lyrics-on-the-lawn-blueback/
CATEGORIES:Lyrics on the Lawn - Free Concerts
END:VEVENT
BEGIN:VEVENT
DTSTART;TZID=America/Detroit:20230814T140000
DTEND;TZID=America/Detroit:20230814T140000
DTSTAMP:20260419T235719
CREATED:20221222T204515Z
LAST-MODIFIED:20221222T204515Z
UID:7700-1692021600-1692021600@otsegolibrary.org
SUMMARY:2nd Monday Book Club
DESCRIPTION:Meets on the 2nd Monday at 2 PM\nNewcomers are always welcome! \nJanuary 9 Mysterious Death of Miss Jane Austen by Lindsay Ashford \nFebruary 13 The Silent Patient by Alex Michaelides \nMarch 13 One Perfect Lie by Lisa Scottoline \nApril 10 The One Hundred Years of Lenni & Margot by Marianne Cronin \nMay 8 Dearest Mother & Dad by Christina Thompson \nJune 12 Gentleman In Moscow by Amor Towles \nJuly 10 Little Fires Everywhere by Celesste Ng \nAugust 14 The Orphan Train by Christina Baker Kline
URL:https://otsegolibrary.org/event/2nd-monday-book-club-20/
CATEGORIES:Book Club
END:VEVENT
BEGIN:VEVENT
DTSTART;TZID=America/Detroit:20230810T190000
DTEND;TZID=America/Detroit:20230810T190000
DTSTAMP:20260419T235719
CREATED:20230720T202941Z
LAST-MODIFIED:20230720T203058Z
UID:8587-1691694000-1691694000@otsegolibrary.org
SUMMARY:Lyrics on the Lawn - Elvis & Friends
DESCRIPTION:THURSDAYS IN AUGUST AT 7 PM \n  \n\nVisit the library FIVE Thursday evenings in August for an outdoor concert on the lawn. Bring a lawn chair or blanket\, and your family and friends to enjoy some great FREE entertainment. Popcorn will be provided by the Friends of the Library\, and bottled water will be available for $1/bottle.\n\nElvis and Friends • Ron Short Entertainment • Elvis Impersonator\nAugust 10 @ 7 PM\nThis performance is sponsored by the Friends of the Library!\nJoin us for a fun night of Elvis tunes with Ron Short performing your favorite hits. There will be costume changes\, and Ron’s wife performing as June Carter! Ron is a top quality entertainer who has performed as Elvis\, Neil Diamond\, Johnny Cash\, Roy Orbison\, Country Legends\, James Bond (Ron Bond)\, and more!\n\n\nUp and Coming Performances:\nBlueback • Blues/Americana\nAugust 17 @ 7 PM\nThis performance is sponsored by the Friends of the Library!\nMoxie Strings • Feel Good Melodies/Rock Influenced\nAugust 24 @ 7 PM  \n\nErin Zindle and the Ragbirds • Folk Rock\nAugust 31 @ 7 PM
URL:https://otsegolibrary.org/event/elvis-friends/
CATEGORIES:Lyrics on the Lawn - Free Concerts
END:VEVENT
BEGIN:VEVENT
DTSTART;TZID=America/Detroit:20230809T180000
DTEND;TZID=America/Detroit:20230809T180000
DTSTAMP:20260419T235719
CREATED:20221222T205104Z
LAST-MODIFIED:20221222T205104Z
UID:7714-1691604000-1691604000@otsegolibrary.org
SUMMARY:Non-Fiction Book Club
DESCRIPTION:Meets on the 2nd Wednesday at 6 PM\nNewcomers are always welcome! \nJanuary 11 The Nine by Jeffrey Toobin \nFebruary 8 Lincoln on the Verge by Ted Widmer \nMarch 8 Boys in the Boat by Daniel James Brown \nApril 12 Rough Magic by Lara Prior-Palmer \nMay 10 Team of Rivals by Doris Kearns Goodwin \nJune 14 The Planets by Dava Sobel \nJuly 12 Trail of Tears by John Ehle \nAugust 9 The Falcon Thief by Joshua Hammer
URL:https://otsegolibrary.org/event/non-fiction-book-club-17/
CATEGORIES:Book Club
END:VEVENT
BEGIN:VEVENT
DTSTART;TZID=America/Detroit:20230803T190000
DTEND;TZID=America/Detroit:20230803T190000
DTSTAMP:20260419T235719
CREATED:20230720T202715Z
LAST-MODIFIED:20230720T203149Z
UID:8585-1691089200-1691089200@otsegolibrary.org
SUMMARY:Lyrics on the Lawn - Otsego Jazz Band
DESCRIPTION:THURSDAYS IN AUGUST AT 7 PM\n\nVisit the library FIVE Thursday evenings in August for an outdoor concert on the lawn. Bring a lawn chair or blanket\, and your family and friends to enjoy some great FREE entertainment. Popcorn will be provided by the Friends of the Library\, and bottled water will be available for $1/bottle.\n\nOtsego Jazz Ensemble • Jazz/Big Band\nAugust 3 @ 7 PM\nThis performance is sponsored by the Friends of the Library!\nThese local musicians: five saxes\, four trombones\, four trumpets and a full rhythm section will perform music from the big band era. You don’t want to miss the performance of these top notch musicians as we kick off our ninth annual Lyrics on the Lawn!\n\nUp and Coming Performances:\nElvis and Friends • Ron Short Entertainment • Elvis Impersonator\nAugust 10 @ 7 PM\nThis performance is sponsored by the Friends of the Library!\nBlueback • Blues/Americana\nAugust 17 @ 7 PM\nThis performance is sponsored by the Friends of the Library!\nMoxie Strings • Feel Good Melodies/Rock Influenced\nAugust 24 @ 7 PM\nErin Zindle and the Ragbirds • Folk Rock\nAugust 31 @ 7 PM
URL:https://otsegolibrary.org/event/otsego-jazz-band/
CATEGORIES:Lyrics on the Lawn - Free Concerts
END:VEVENT
BEGIN:VEVENT
DTSTART;TZID=America/Detroit:20230729T100000
DTEND;TZID=America/Detroit:20230729T100000
DTSTAMP:20260419T235719
CREATED:20230519T150155Z
LAST-MODIFIED:20230519T150155Z
UID:8281-1690624800-1690624800@otsegolibrary.org
SUMMARY:Sweet Family Yoga
DESCRIPTION:Presented by Kaitlyn Johns of River Bend Yoga \nThis class is going to be sweet for the whole family!!! Please bring your yoga mats if you have them.
URL:https://otsegolibrary.org/event/sweet-family-yoga/
END:VEVENT
BEGIN:VEVENT
DTSTART;TZID=America/Detroit:20230727T140000
DTEND;TZID=America/Detroit:20230727T140000
DTSTAMP:20260419T235719
CREATED:20230519T153309Z
LAST-MODIFIED:20230705T182450Z
UID:8330-1690466400-1690466400@otsegolibrary.org
SUMMARY:Donuts Make Me Go Nuts Party (Teen/Tween)
DESCRIPTION:Party with us as we snack on Sweetwater Donuts and make fun donut art. \nThis event is for middle school and high school aged teens/tweens.
URL:https://otsegolibrary.org/event/donuts-make-me-go-nuts-party/
END:VEVENT
BEGIN:VEVENT
DTSTART;TZID=America/Detroit:20230727T100000
DTEND;TZID=America/Detroit:20230727T120000
DTSTAMP:20260419T235719
CREATED:20230519T151003Z
LAST-MODIFIED:20230519T151003Z
UID:8305-1690452000-1690459200@otsegolibrary.org
SUMMARY:Sizzling Summer Stations
DESCRIPTION:June 22 – July 27\nThursdays from 10 AM – Noon\nPreschool through 5th Grade \nDrop in for fun summer stations including crafts\, games and activities all based around sweet treats!
URL:https://otsegolibrary.org/event/sizzling-summer-stations-6/
END:VEVENT
BEGIN:VEVENT
DTSTART;TZID=America/Detroit:20230726T173000
DTEND;TZID=America/Detroit:20230726T173000
DTSTAMP:20260419T235719
CREATED:20221110T193106Z
LAST-MODIFIED:20240813T135719Z
UID:7546-1690392600-1690392600@otsegolibrary.org
SUMMARY:Library Board Meeting
DESCRIPTION:The Library Board of Trustees meets on a monthly basis to discuss library business and housekeeping. Meetings are open to the public and include a period of time for patrons to discuss comments and concerns. \nThe ODL Board’s Regular Board meeting for July and Annual Budget Hearing has been moved from July 19 to July 26 at 5:30 PM.  \n\nThese meetings are held once a month on Wednesdays at 5:30 PM.
URL:https://otsegolibrary.org/event/library-board-meeting-13/
CATEGORIES:Library Board
END:VEVENT
BEGIN:VEVENT
DTSTART;TZID=America/Detroit:20230726T100000
DTEND;TZID=America/Detroit:20230726T100000
DTSTAMP:20260419T235719
CREATED:20230519T150701Z
LAST-MODIFIED:20230519T150701Z
UID:8293-1690365600-1690365600@otsegolibrary.org
SUMMARY:Sweet Silly Songs
DESCRIPTION:June 21 – July 26\nWednesdays at 10 AM\nAges 0-5 \nSongs\, stories\, sensory\, and silly activities all focusing on your favorite treats!
URL:https://otsegolibrary.org/event/sweet-silly-songs-6/
END:VEVENT
BEGIN:VEVENT
DTSTART;TZID=America/Detroit:20230725T140000
DTEND;TZID=America/Detroit:20230725T140000
DTSTAMP:20260419T235719
CREATED:20230519T152231Z
LAST-MODIFIED:20230519T152254Z
UID:8321-1690293600-1690293600@otsegolibrary.org
SUMMARY:Sweet Yoga (Teen/Tween)
DESCRIPTION:Presented by Kaitlyn Johns of River Bend Yoga \nThis sweet yoga program is going to be for your mind and body. Please bring your yoga mats if you have them. \n\nThis event is for middle school and high school aged teens/tweens.
URL:https://otsegolibrary.org/event/sweet-yoga-teen-tween/
END:VEVENT
BEGIN:VEVENT
DTSTART;TZID=America/Detroit:20230725T110000
DTEND;TZID=America/Detroit:20230725T110000
DTSTAMP:20260419T235719
CREATED:20230519T145804Z
LAST-MODIFIED:20230519T145804Z
UID:8279-1690282800-1690282800@otsegolibrary.org
SUMMARY:Sweet Yoga
DESCRIPTION:Presented by Kaitlyn Johns of River Bend Yoga \n*** Please note that this program starts at 11 AM *** \nYoga poses for kids are a lot like yoga for adults\, but more fun as we incorporate large motor skills like dancing and playing. This class is going to be sweet!!! Please bring your yoga mats if you have them. \nKaitlyn will also teach a class on Saturday\, July 29 at 10 AM for parents and their children to have sweet yoga family fun!
URL:https://otsegolibrary.org/event/sweet-yoga/
END:VEVENT
BEGIN:VEVENT
DTSTART;TZID=America/Detroit:20230724T100000
DTEND;TZID=America/Detroit:20230724T100000
DTSTAMP:20260419T235719
CREATED:20230519T145239Z
LAST-MODIFIED:20230519T145239Z
UID:8269-1690192800-1690192800@otsegolibrary.org
SUMMARY:Sweet Tots
DESCRIPTION:Ages 0-24 months \nMondays\, June 19 – July 24 at 10 AM\n(No meeting on July 3) \nEnjoy super sweet songs\, a story\, and playtime with your friends.
URL:https://otsegolibrary.org/event/sweet-tots-5/
END:VEVENT
END:VCALENDAR