BEGIN:VCALENDAR
VERSION:2.0
PRODID:-//Otsego District Public Library - ECPv6.15.20//NONSGML v1.0//EN
CALSCALE:GREGORIAN
METHOD:PUBLISH
X-WR-CALNAME:Otsego District Public Library
X-ORIGINAL-URL:https://otsegolibrary.org
X-WR-CALDESC:Events for Otsego District Public Library
REFRESH-INTERVAL;VALUE=DURATION:PT1H
X-Robots-Tag:noindex
X-PUBLISHED-TTL:PT1H
BEGIN:VTIMEZONE
TZID:America/Detroit
BEGIN:DAYLIGHT
TZOFFSETFROM:-0500
TZOFFSETTO:-0400
TZNAME:EDT
DTSTART:20220313T070000
END:DAYLIGHT
BEGIN:STANDARD
TZOFFSETFROM:-0400
TZOFFSETTO:-0500
TZNAME:EST
DTSTART:20221106T060000
END:STANDARD
BEGIN:DAYLIGHT
TZOFFSETFROM:-0500
TZOFFSETTO:-0400
TZNAME:EDT
DTSTART:20230312T070000
END:DAYLIGHT
BEGIN:STANDARD
TZOFFSETFROM:-0400
TZOFFSETTO:-0500
TZNAME:EST
DTSTART:20231105T060000
END:STANDARD
BEGIN:DAYLIGHT
TZOFFSETFROM:-0500
TZOFFSETTO:-0400
TZNAME:EDT
DTSTART:20240310T070000
END:DAYLIGHT
BEGIN:STANDARD
TZOFFSETFROM:-0400
TZOFFSETTO:-0500
TZNAME:EST
DTSTART:20241103T060000
END:STANDARD
END:VTIMEZONE
BEGIN:VEVENT
DTSTART;TZID=America/Detroit:20230221T100000
DTEND;TZID=America/Detroit:20230221T100000
DTSTAMP:20260420T010946
CREATED:20221222T213210Z
LAST-MODIFIED:20221222T213358Z
UID:7773-1676973600-1676973600@otsegolibrary.org
SUMMARY:Tiny Tots
DESCRIPTION:Tuesdays at 10 AM\nJanuary 31 – May 9 (No meeting on April 4)\nAges 0 – 24 months \nSongs\, books\, rhymes\, and fun group play for our youngest patrons!
URL:https://otsegolibrary.org/event/tiny-tots-30/
CATEGORIES:Preschool
END:VEVENT
BEGIN:VEVENT
DTSTART;VALUE=DATE:20230220
DTEND;VALUE=DATE:20230221
DTSTAMP:20260420T010946
CREATED:20221110T194128Z
LAST-MODIFIED:20221110T200005Z
UID:7560-1676851200-1676937599@otsegolibrary.org
SUMMARY:LIBRARY CLOSED
DESCRIPTION:The library will be closed for the holiday. \nCLOSED:\nPresident’s Day/Staff Training\nMonday\, February 20 \nHave a safe and happy holiday with your family and friends!
URL:https://otsegolibrary.org/event/library-closed-9/
CATEGORIES:Notice/Closing
END:VEVENT
BEGIN:VEVENT
DTSTART;TZID=America/Detroit:20230217T170000
DTEND;TZID=America/Detroit:20230217T170000
DTSTAMP:20260420T010946
CREATED:20221222T200300Z
LAST-MODIFIED:20221222T200300Z
UID:7668-1676653200-1676653200@otsegolibrary.org
SUMMARY:Social Scene
DESCRIPTION:Adults – Post High School through Mid-30s\nFebruary – May\n3rd Friday at 5 PM \nTired of trying to find something to do with other adults your age? Gather with other young adults for games\, activities and social time! Light snacks and refreshments will be provided.
URL:https://otsegolibrary.org/event/social-scene/
CATEGORIES:Adult
END:VEVENT
BEGIN:VEVENT
DTSTART;TZID=America/Detroit:20230217T100000
DTEND;TZID=America/Detroit:20230217T100000
DTSTAMP:20260420T010946
CREATED:20221222T195926Z
LAST-MODIFIED:20221222T195926Z
UID:7660-1676628000-1676628000@otsegolibrary.org
SUMMARY:Coffee and Conversations
DESCRIPTION:January – May\n3rd Friday at 10 AM \nLet’s build community by sharing coffee and conversations!\nCoffee and light refreshments (provided by the Friends of the Library) will be ready for you to enjoy at the library while we discuss current topics or anything else you would like to discuss.
URL:https://otsegolibrary.org/event/coffee-and-conversations-3/
CATEGORIES:Adult
END:VEVENT
BEGIN:VEVENT
DTSTART;TZID=America/Detroit:20230216T183000
DTEND;TZID=America/Detroit:20230216T183000
DTSTAMP:20260420T010946
CREATED:20221222T194433Z
LAST-MODIFIED:20221222T194433Z
UID:7630-1676572200-1676572200@otsegolibrary.org
SUMMARY:Abraham Lincoln A New Birth of Freedom
DESCRIPTION:Presented by Kevin Wood \nPresident Abraham Lincoln\, in period dress\, talks about his own life and the history of the USA from Independence through the Civil War\, with a special emphasis on 12 turbulent years from 1854 to 1865 which nearly destroyed our young nation but instead eventually resulted in a “new birth of freedom”. \nPresident Lincoln is portrayed by Kevin Wood\, a professional Lincoln portrayer\, who bears a remarkable resemblance to The Great Emancipator and who is extremely knowledgeable about his life and times. For more info about the presenter and the program\, visit mrlincoln.com.
URL:https://otsegolibrary.org/event/abraham-lincoln-a-new-birth-of-freedom/
CATEGORIES:Adult
END:VEVENT
BEGIN:VEVENT
DTSTART;TZID=America/Detroit:20230216T160000
DTEND;TZID=America/Detroit:20230216T160000
DTSTAMP:20260420T010946
CREATED:20221222T210246Z
LAST-MODIFIED:20221222T210246Z
UID:7732-1676563200-1676563200@otsegolibrary.org
SUMMARY:Creative Writing Club
DESCRIPTION:Thursday\, February 16 – May 18\n3rd Thursday at 4 PM \nDo you LOVE to write? Join us each month to share short stories\, original writing pieces\, and ideas. \nWe welcome all writing styles – poetry\, memoir\, graphic novel\, non-fiction\, fiction\, and prose.
URL:https://otsegolibrary.org/event/creative-writing-club/
CATEGORIES:Teen/Tween
END:VEVENT
BEGIN:VEVENT
DTSTART;TZID=America/Detroit:20230216T100000
DTEND;TZID=America/Detroit:20230216T100000
DTSTAMP:20260420T010946
CREATED:20221222T215513Z
LAST-MODIFIED:20221222T215513Z
UID:7834-1676541600-1676541600@otsegolibrary.org
SUMMARY:Storytime
DESCRIPTION:Thursdays at 10 AM\nFebruary 2 – May 11 (No meeting on April 6)\nAges 0 – 5 \nEach week will have a new theme while we read stories\, sing songs\, and make a themed craft!
URL:https://otsegolibrary.org/event/storytime-28/
CATEGORIES:Preschool
END:VEVENT
BEGIN:VEVENT
DTSTART;TZID=America/Detroit:20230215T100000
DTEND;TZID=America/Detroit:20230215T100000
DTSTAMP:20260420T010946
CREATED:20221222T214532Z
LAST-MODIFIED:20221222T214532Z
UID:7806-1676455200-1676455200@otsegolibrary.org
SUMMARY:Music & Movement
DESCRIPTION:Wednesdays at 10 AM\nFebruary 1 – May 10 (No meeting on April 5)\nAges 0-5 \nJoin us for a wild adventure each week while we sing\, dance\, move\, and experience sensory play!
URL:https://otsegolibrary.org/event/music-movement-27/
CATEGORIES:Preschool
END:VEVENT
BEGIN:VEVENT
DTSTART;TZID=America/Detroit:20230214T160000
DTEND;TZID=America/Detroit:20230214T160000
DTSTAMP:20260420T010946
CREATED:20221222T220728Z
LAST-MODIFIED:20221222T220728Z
UID:7880-1676390400-1676390400@otsegolibrary.org
SUMMARY:STEAM
DESCRIPTION:Tuesdays at 4 PM\nJanuary 31 – May 9 (No meetup on April 4)\nFor Kindergarten – 5th Grade \nDrop in each week and choose one or several stations to investigate and discover new STEAM (Science\, Technology\, Engineering\, Art and Math) concepts.
URL:https://otsegolibrary.org/event/steam-16/
CATEGORIES:Children
END:VEVENT
BEGIN:VEVENT
DTSTART;TZID=America/Detroit:20230214T100000
DTEND;TZID=America/Detroit:20230214T100000
DTSTAMP:20260420T010946
CREATED:20221222T213256Z
LAST-MODIFIED:20221222T213337Z
UID:7777-1676368800-1676368800@otsegolibrary.org
SUMMARY:Tiny Tots
DESCRIPTION:Tuesdays at 10 AM\nJanuary 31 – May 9 (No meeting on April 4)\nAges 0 – 24 months \nSongs\, books\, rhymes\, and fun group play for our youngest patrons!
URL:https://otsegolibrary.org/event/tiny-tots-31/
CATEGORIES:Preschool
END:VEVENT
BEGIN:VEVENT
DTSTART;TZID=America/Detroit:20230213T140000
DTEND;TZID=America/Detroit:20230213T140000
DTSTAMP:20260420T010946
CREATED:20221222T204002Z
LAST-MODIFIED:20221222T204012Z
UID:7688-1676296800-1676296800@otsegolibrary.org
SUMMARY:2nd Monday Book Club
DESCRIPTION:Meets on the 2nd Monday at 2 PM\nNewcomers are always welcome! \nJanuary 9 Mysterious Death of Miss Jane Austen by Lindsay Ashford \nFebruary 13 The Silent Patient by Alex Michaelides \nMarch 13 One Perfect Lie by Lisa Scottoline \nApril 10 The One Hundred Years of Lenni & Margot by Marianne Cronin \nMay 8 Dearest Mother & Dad by Christina Thompson \nJune 12 Gentleman In Moscow by Amor Towles \nJuly 10 Little Fires Everywhere by Celesste Ng \nAugust 14 The Orphan Train by Christina Baker Kline
URL:https://otsegolibrary.org/event/2nd-monday-book-club-15/
CATEGORIES:Book Club
END:VEVENT
BEGIN:VEVENT
DTSTART;TZID=America/Detroit:20230211T100000
DTEND;TZID=America/Detroit:20230211T120000
DTSTAMP:20260420T010946
CREATED:20221222T220551Z
LAST-MODIFIED:20221222T220551Z
UID:7874-1676109600-1676116800@otsegolibrary.org
SUMMARY:Valentine Make & Take
DESCRIPTION:Children of all ages can drop in during this time to create valentines for their loved ones. \nThe library will provide all of the materials and take care of the mess! Special Valentine snacks will be provided.
URL:https://otsegolibrary.org/event/valentine-make-take/
CATEGORIES:Children
END:VEVENT
BEGIN:VEVENT
DTSTART;TZID=America/Detroit:20230210T160000
DTEND;TZID=America/Detroit:20230210T160000
DTSTAMP:20260420T010946
CREATED:20221222T211002Z
LAST-MODIFIED:20221222T211002Z
UID:7751-1676044800-1676044800@otsegolibrary.org
SUMMARY:Anti-Valentine’s Day Party
DESCRIPTION:Love is in the air… well… maybe it’s not at your age! \nJoin us for treats as we make Valentine’s Day cards\, play games\, and win prizes!
URL:https://otsegolibrary.org/event/anti-valentines-day-party/
CATEGORIES:Teen/Tween
END:VEVENT
BEGIN:VEVENT
DTSTART;TZID=America/Detroit:20230209T160000
DTEND;TZID=America/Detroit:20230209T160000
DTSTAMP:20260420T010946
CREATED:20221222T205843Z
LAST-MODIFIED:20221222T205843Z
UID:7724-1675958400-1675958400@otsegolibrary.org
SUMMARY:Art Hub
DESCRIPTION:Thursday\, February 9 – May 11\n2nd Thursday at 4 PM \nCreate beautiful and fun pieces of art at this art club! Join us for drawing\, painting\, crafting and more! \nThe crafts at these classes are more advanced and picked with teens and tweens in mind. Registration is not required.
URL:https://otsegolibrary.org/event/art-hub-5/
CATEGORIES:Teen/Tween
END:VEVENT
BEGIN:VEVENT
DTSTART;TZID=America/Detroit:20230209T100000
DTEND;TZID=America/Detroit:20230209T100000
DTSTAMP:20260420T010946
CREATED:20221222T215447Z
LAST-MODIFIED:20221222T215447Z
UID:7832-1675936800-1675936800@otsegolibrary.org
SUMMARY:Storytime
DESCRIPTION:Thursdays at 10 AM\nFebruary 2 – May 11 (No meeting on April 6)\nAges 0 – 5 \nEach week will have a new theme while we read stories\, sing songs\, and make a themed craft!
URL:https://otsegolibrary.org/event/storytime-27/
CATEGORIES:Preschool
END:VEVENT
BEGIN:VEVENT
DTSTART;TZID=America/Detroit:20230208T180000
DTEND;TZID=America/Detroit:20230208T180000
DTSTAMP:20260420T010946
CREATED:20221222T204743Z
LAST-MODIFIED:20221222T204743Z
UID:7702-1675879200-1675879200@otsegolibrary.org
SUMMARY:Non-Fiction Book Club
DESCRIPTION:Meets on the 2nd Wednesday at 6 PM\nNewcomers are always welcome! \nJanuary 11 The Nine by Jeffrey Toobin \nFebruary 8 Lincoln on the Verge by Ted Widmer \nMarch 8 Boys in the Boat by Daniel James Brown \nApril 12 Rough Magic by Lara Prior-Palmer \nMay 10 Team of Rivals by Doris Kearns Goodwin \nJune 14 The Planets by Dava Sobel \nJuly 12 Trail of Tears by John Ehle \nAugust 9 The Falcon Thief by Joshua Hammer
URL:https://otsegolibrary.org/event/non-fiction-book-club-11/
CATEGORIES:Book Club
END:VEVENT
BEGIN:VEVENT
DTSTART;TZID=America/Detroit:20230208T173000
DTEND;TZID=America/Detroit:20230208T173000
DTSTAMP:20260420T010946
CREATED:20221110T192842Z
LAST-MODIFIED:20221110T193225Z
UID:7538-1675877400-1675877400@otsegolibrary.org
SUMMARY:Library Board Meeting
DESCRIPTION:The Library Board of Trustees meets on a monthly basis to discuss library business and housekeeping. Meetings are open to the public and include a period of time for patrons to discuss comments and concerns. \n\nThese meetings are held once a month on Wednesdays at 5:30 PM. The board meetings are tentative and could be subject to change at any time. Keep an eye out for deviations in scheduled dates/times of these meetings.
URL:https://otsegolibrary.org/event/library-board-meeting-9/
CATEGORIES:Library Board
END:VEVENT
BEGIN:VEVENT
DTSTART;TZID=America/Detroit:20230208T130000
DTEND;TZID=America/Detroit:20230208T130000
DTSTAMP:20260420T010946
CREATED:20221222T194312Z
LAST-MODIFIED:20221222T194312Z
UID:7626-1675861200-1675861200@otsegolibrary.org
SUMMARY:Cricut Maker 101
DESCRIPTION:Wednesday\, February 8 and March 8 at 1 PM \nChoose either date to come and learn about the library’s Cricut Maker cutting machine. This class will showcase the basics of the Cricut Design Space software and how to create your own project. \nThe Cricut is available for patron use any time the library is open. You can purchase a variety of supplies from the library or provide your own.
URL:https://otsegolibrary.org/event/cricut-maker-101/
CATEGORIES:Adult
END:VEVENT
BEGIN:VEVENT
DTSTART;TZID=America/Detroit:20230208T100000
DTEND;TZID=America/Detroit:20230208T100000
DTSTAMP:20260420T010946
CREATED:20221222T214501Z
LAST-MODIFIED:20221222T214501Z
UID:7804-1675850400-1675850400@otsegolibrary.org
SUMMARY:Music & Movement
DESCRIPTION:Wednesdays at 10 AM\nFebruary 1 – May 10 (No meeting on April 5)\nAges 0-5 \nJoin us for a wild adventure each week while we sing\, dance\, move\, and experience sensory play!
URL:https://otsegolibrary.org/event/music-movement-26/
CATEGORIES:Preschool
END:VEVENT
BEGIN:VEVENT
DTSTART;TZID=America/Detroit:20230207T160000
DTEND;TZID=America/Detroit:20230207T160000
DTSTAMP:20260420T010946
CREATED:20221222T220708Z
LAST-MODIFIED:20221222T220708Z
UID:7878-1675785600-1675785600@otsegolibrary.org
SUMMARY:STEAM
DESCRIPTION:Tuesdays at 4 PM\nJanuary 31 – May 9 (No meetup on April 4)\nFor Kindergarten – 5th Grade \nDrop in each week and choose one or several stations to investigate and discover new STEAM (Science\, Technology\, Engineering\, Art and Math) concepts.
URL:https://otsegolibrary.org/event/steam-10/
CATEGORIES:Children
END:VEVENT
BEGIN:VEVENT
DTSTART;TZID=America/Detroit:20230207T100000
DTEND;TZID=America/Detroit:20230207T100000
DTSTAMP:20260420T010946
CREATED:20221222T213104Z
LAST-MODIFIED:20221222T213104Z
UID:7767-1675764000-1675764000@otsegolibrary.org
SUMMARY:Tiny Tots
DESCRIPTION:Tuesdays at 10 AM\nJanuary 31 – May 9 (No meeting on April 4)\nAges 0 – 24 months \nSongs\, books\, rhymes\, and fun group play for our youngest patrons!
URL:https://otsegolibrary.org/event/tiny-tots-27/
CATEGORIES:Preschool
END:VEVENT
BEGIN:VEVENT
DTSTART;TZID=America/Detroit:20230203T130000
DTEND;TZID=America/Detroit:20230203T150000
DTSTAMP:20260420T010946
CREATED:20221222T195545Z
LAST-MODIFIED:20221222T195545Z
UID:7650-1675429200-1675436400@otsegolibrary.org
SUMMARY:Mixed Media Madness
DESCRIPTION:February – May\n1st Friday from 1 – 3 PM \nDrop in to create a unique piece of art using the library’s resources and a variety of media. Each month you will be making a seasonal/holiday craft you will be proud to display!
URL:https://otsegolibrary.org/event/mixed-media-madness/
CATEGORIES:Adult
END:VEVENT
BEGIN:VEVENT
DTSTART;TZID=America/Detroit:20230202T160000
DTEND;TZID=America/Detroit:20230202T160000
DTSTAMP:20260420T010946
CREATED:20221222T205206Z
LAST-MODIFIED:20221222T205206Z
UID:7716-1675353600-1675353600@otsegolibrary.org
SUMMARY:Teen Scene
DESCRIPTION:Thursday\, February 2 – May 4 (No meeting on April 6)\n1st Thursday at 4 PM \nHang out with us each week to play games\, eat snacks\, and create some lasting memories. We will be featuring several Nintendo Switch consoles and awesome new tabletop games.
URL:https://otsegolibrary.org/event/teen-scene-15/
CATEGORIES:Teen/Tween
END:VEVENT
BEGIN:VEVENT
DTSTART;TZID=America/Detroit:20230202T100000
DTEND;TZID=America/Detroit:20230202T100000
DTSTAMP:20260420T010946
CREATED:20221222T215408Z
LAST-MODIFIED:20221222T215408Z
UID:7830-1675332000-1675332000@otsegolibrary.org
SUMMARY:Storytime
DESCRIPTION:Thursdays at 10 AM\nFebruary 2 – May 11 (No meeting on April 6)\nAges 0 – 5 \nEach week will have a new theme while we read stories\, sing songs\, and make a themed craft!
URL:https://otsegolibrary.org/event/storytime-26/
CATEGORIES:Preschool
END:VEVENT
BEGIN:VEVENT
DTSTART;TZID=America/Detroit:20230201T100000
DTEND;TZID=America/Detroit:20230201T100000
DTSTAMP:20260420T010946
CREATED:20221222T214358Z
LAST-MODIFIED:20221222T220057Z
UID:7802-1675245600-1675245600@otsegolibrary.org
SUMMARY:Music & Movement
DESCRIPTION:Wednesdays at 10 AM\nFebruary 1 – May 10 (No meeting on April 5)\nAges 0-5 \nJoin us for a wild adventure each week while we sing\, dance\, move\, and experience sensory play!
URL:https://otsegolibrary.org/event/music-and-movement/
CATEGORIES:Preschool
END:VEVENT
BEGIN:VEVENT
DTSTART;TZID=America/Detroit:20230131T160000
DTEND;TZID=America/Detroit:20230131T160000
DTSTAMP:20260420T010946
CREATED:20221222T220643Z
LAST-MODIFIED:20221222T220643Z
UID:7876-1675180800-1675180800@otsegolibrary.org
SUMMARY:STEAM
DESCRIPTION:Tuesdays at 4 PM\nJanuary 31 – May 9 (No meetup on April 4)\nFor Kindergarten – 5th Grade\nDrop in each week and choose one or several stations to investigate and discover new STEAM (Science\, Technology\, Engineering\, Art and Math) concepts.
URL:https://otsegolibrary.org/event/steam-3/
CATEGORIES:Children
END:VEVENT
BEGIN:VEVENT
DTSTART;TZID=America/Detroit:20230131T100000
DTEND;TZID=America/Detroit:20230131T100000
DTSTAMP:20260420T010946
CREATED:20221222T213038Z
LAST-MODIFIED:20221222T213038Z
UID:7765-1675159200-1675159200@otsegolibrary.org
SUMMARY:Tiny Tots
DESCRIPTION:Tuesdays at 10 AM\nJanuary 31 – May 9 (No meeting on April 4)\nAges 0 – 24 months \nSongs\, books\, rhymes\, and fun group play for our youngest patrons!
URL:https://otsegolibrary.org/event/tiny-tots-26/
CATEGORIES:Preschool
END:VEVENT
BEGIN:VEVENT
DTSTART;TZID=America/Detroit:20230125T130000
DTEND;TZID=America/Detroit:20230125T130000
DTSTAMP:20260420T010946
CREATED:20221222T200624Z
LAST-MODIFIED:20221222T200708Z
UID:7676-1674651600-1674651600@otsegolibrary.org
SUMMARY:Crafting Corner
DESCRIPTION:January – May\n4th Wednesday at 1 PM \nCrafting in community… come create and work on your projects with your friends and neighbors while enjoying a cup of coffee if you like. \nBring along your own projects (that you can do on your lap) and supplies – knitting\, crocheting\, cross-stitching\, coloring\, sketching\, etc. We will gather on the comfortable chairs in the corner of the library by the fireplace and chat while we create.
URL:https://otsegolibrary.org/event/crafting-corner-5/
CATEGORIES:Adult
END:VEVENT
BEGIN:VEVENT
DTSTART;TZID=America/Detroit:20230120T100000
DTEND;TZID=America/Detroit:20230120T100000
DTSTAMP:20260420T010946
CREATED:20221222T195905Z
LAST-MODIFIED:20221222T195905Z
UID:7658-1674208800-1674208800@otsegolibrary.org
SUMMARY:Coffee and Conversations
DESCRIPTION:January – May\n3rd Friday at 10 AM \nLet’s build community by sharing coffee and conversations!\nCoffee and light refreshments (provided by the Friends of the Library) will be ready for you to enjoy at the library while we discuss current topics or anything else you would like to discuss.
URL:https://otsegolibrary.org/event/coffee-and-conversations-2/
CATEGORIES:Adult
END:VEVENT
BEGIN:VEVENT
DTSTART;TZID=America/Detroit:20230111T173000
DTEND;TZID=America/Detroit:20230111T173000
DTSTAMP:20260420T010946
CREATED:20221110T192806Z
LAST-MODIFIED:20221110T193153Z
UID:7536-1673458200-1673458200@otsegolibrary.org
SUMMARY:Library Board Meeting
DESCRIPTION:The Library Board of Trustees meets on a monthly basis to discuss library business and housekeeping. Meetings are open to the public and include a period of time for patrons to discuss comments and concerns. \n\nThese meetings are held once a month on Wednesdays at 5:30 PM. The board meetings are tentative and could be subject to change at any time. Keep an eye out for deviations in scheduled dates/times of these meetings.
URL:https://otsegolibrary.org/event/library-board-meeting-8/
CATEGORIES:Library Board
END:VEVENT
END:VCALENDAR