BEGIN:VCALENDAR
VERSION:2.0
PRODID:-//Otsego District Public Library - ECPv6.15.20//NONSGML v1.0//EN
CALSCALE:GREGORIAN
METHOD:PUBLISH
X-WR-CALNAME:Otsego District Public Library
X-ORIGINAL-URL:https://otsegolibrary.org
X-WR-CALDESC:Events for Otsego District Public Library
REFRESH-INTERVAL;VALUE=DURATION:PT1H
X-Robots-Tag:noindex
X-PUBLISHED-TTL:PT1H
BEGIN:VTIMEZONE
TZID:America/Detroit
BEGIN:DAYLIGHT
TZOFFSETFROM:-0500
TZOFFSETTO:-0400
TZNAME:EDT
DTSTART:20210314T070000
END:DAYLIGHT
BEGIN:STANDARD
TZOFFSETFROM:-0400
TZOFFSETTO:-0500
TZNAME:EST
DTSTART:20211107T060000
END:STANDARD
BEGIN:DAYLIGHT
TZOFFSETFROM:-0500
TZOFFSETTO:-0400
TZNAME:EDT
DTSTART:20220313T070000
END:DAYLIGHT
BEGIN:STANDARD
TZOFFSETFROM:-0400
TZOFFSETTO:-0500
TZNAME:EST
DTSTART:20221106T060000
END:STANDARD
BEGIN:DAYLIGHT
TZOFFSETFROM:-0500
TZOFFSETTO:-0400
TZNAME:EDT
DTSTART:20230312T070000
END:DAYLIGHT
BEGIN:STANDARD
TZOFFSETFROM:-0400
TZOFFSETTO:-0500
TZNAME:EST
DTSTART:20231105T060000
END:STANDARD
END:VTIMEZONE
BEGIN:VEVENT
DTSTART;VALUE=DATE:20220416
DTEND;VALUE=DATE:20220417
DTSTAMP:20260423T061918
CREATED:20220511T191732Z
LAST-MODIFIED:20220511T191753Z
UID:6693-1650067200-1650153599@otsegolibrary.org
SUMMARY:LIBRARY CLOSED
DESCRIPTION:The library will be closed for the Easter holiday weekend. \nHave a safe and happy holiday with your family and friends!
URL:https://otsegolibrary.org/event/library-closed/
CATEGORIES:Notice/Closing
END:VEVENT
BEGIN:VEVENT
DTSTART;TZID=America/Detroit:20220414T160000
DTEND;TZID=America/Detroit:20220414T160000
DTSTAMP:20260423T061918
CREATED:20220511T184913Z
LAST-MODIFIED:20220516T143739Z
UID:6667-1649952000-1649952000@otsegolibrary.org
SUMMARY:Art Hub
DESCRIPTION:Teen/Tween Art Club\nFebruary – May\n2nd Thursday at 4 PM\nMiddle School – High School \nCreate beautiful and fun pieces of art at this art club. Join us for drawing\, painting\, crafting and more! The projects at these meet-ups are more advanced and picked with teens and tweens in mind.
URL:https://otsegolibrary.org/event/art-hub-3/
CATEGORIES:Teen/Tween
END:VEVENT
BEGIN:VEVENT
DTSTART;TZID=America/Detroit:20220414T100000
DTEND;TZID=America/Detroit:20220414T100000
DTSTAMP:20260423T061918
CREATED:20220511T163940Z
LAST-MODIFIED:20220511T163940Z
UID:6596-1649930400-1649930400@otsegolibrary.org
SUMMARY:Storytime
DESCRIPTION:Thursdays at 10 AM\nFebruary 3 – May 12\nAges 2-5 \nEach session includes stories\, songs\, and a craft. \nFebruary – Winter Wonderland\nMarch Spring – Surprises\nApril/May – Feathered Friends
URL:https://otsegolibrary.org/event/storytime-11/
CATEGORIES:Preschool
END:VEVENT
BEGIN:VEVENT
DTSTART;TZID=America/Detroit:20220413T100000
DTEND;TZID=America/Detroit:20220413T100000
DTSTAMP:20260423T061918
CREATED:20220510T195113Z
LAST-MODIFIED:20220515T124209Z
UID:6479-1649844000-1649844000@otsegolibrary.org
SUMMARY:Music & Movement
DESCRIPTION:Wednesdays at 10 AM\nFebruary 2 – May 11\nAges 0-5 \nMovin’ & groovin’ fun with sensory play!
URL:https://otsegolibrary.org/event/music-movement-12/
CATEGORIES:Preschool
END:VEVENT
BEGIN:VEVENT
DTSTART;TZID=America/Detroit:20220412T160000
DTEND;TZID=America/Detroit:20220412T160000
DTSTAMP:20260423T061918
CREATED:20220511T180324Z
LAST-MODIFIED:20220511T180334Z
UID:6627-1649779200-1649779200@otsegolibrary.org
SUMMARY:STEAM
DESCRIPTION:Tuesdays at 4 PM\nFebruary 1 – May 10\n(No meetings February 15 or April 5)\nKindergarten – 5th Graders \nDrop in each week and choose one or several stations to investigate and discover new STEAM (Science\, Technology\, Engineering\, Art and Math) related ideas.
URL:https://otsegolibrary.org/event/steam-11/
CATEGORIES:Children
END:VEVENT
BEGIN:VEVENT
DTSTART;TZID=America/Detroit:20220412T100000
DTEND;TZID=America/Detroit:20220412T100000
DTSTAMP:20260423T061918
CREATED:20220511T154737Z
LAST-MODIFIED:20220511T154737Z
UID:6565-1649757600-1649757600@otsegolibrary.org
SUMMARY:Tiny Tots
DESCRIPTION:Tuesdays at 10 AM\nFebruary 1 – May 10\nAges 0-24 months\nSing\, read\, and play with your little ones and friends!
URL:https://otsegolibrary.org/event/tiny-tots-11/
CATEGORIES:Preschool
END:VEVENT
BEGIN:VEVENT
DTSTART;TZID=America/Detroit:20220411T140000
DTEND;TZID=America/Detroit:20220411T140000
DTSTAMP:20260423T061918
CREATED:20220511T143451Z
LAST-MODIFIED:20220515T123901Z
UID:6511-1649685600-1649685600@otsegolibrary.org
SUMMARY:2nd Monday Book Club
DESCRIPTION:The 2nd Monday book club meets on the 2nd Monday of each month at 2 PM\nNewcomers are always welcome and encouraged to attend! \nJanuary 10 – Crazy Rich Asians by Kevin Kwan\nFebruary 14 – Girl Waits with Gun by Amy Stewart\nMarch 14 – The Weight of Ink by Rachael Kadish\nApril 11 – Salt to the Sea by Ruta Sepetys\nMay 9 – Tangerine by Christina Mangan\nJune 13 – All the Light We Cannot See by Anthony Doerr\nJuly 11 – The Husband’s Secret by Liane Moriarty\nAugust 8 – Educated by Tara Westover
URL:https://otsegolibrary.org/event/2nd-monday-book-club-4/
CATEGORIES:Book Club
END:VEVENT
BEGIN:VEVENT
DTSTART;TZID=America/Detroit:20220408T100000
DTEND;TZID=America/Detroit:20220408T100000
DTSTAMP:20260423T061918
CREATED:20220511T181112Z
LAST-MODIFIED:20220511T181154Z
UID:6639-1649412000-1649412000@otsegolibrary.org
SUMMARY:SPRING BREAK for Kids - Birds of Prey
DESCRIPTION:Spring Break Programs – Free as a Bird!\nFly on over to the library during spring break for some fun bird programs! \nBird Bingo\nTuesday\, April 5 at 2 PM\nPlay a fun game of bingo featuring our feathered friends and win some prizes! \nBirds of Prey\nPresented by the Kalamazoo Nature Center\nFriday\, April 8 at 10 AM\nDuring this one-hour Birds of Prey program\, KNC’s educators will take the audience into the lives and habits of four unique birds. Program includes touchable artifacts and different species of live birds
URL:https://otsegolibrary.org/event/spring-break-for-kids-birds-of-prey/
CATEGORIES:Children,Family
END:VEVENT
BEGIN:VEVENT
DTSTART;TZID=America/Detroit:20220407T190000
DTEND;TZID=America/Detroit:20220407T190000
DTSTAMP:20260423T061918
CREATED:20220510T201449Z
LAST-MODIFIED:20220516T143559Z
UID:6492-1649358000-1649358000@otsegolibrary.org
SUMMARY:Brighter Skies Ahead with Author\, Terri DeBoer
DESCRIPTION:Presented by Terri DeBoer\, Author \nAs a television meteorologist\, Terri DeBoer has delivered West Michigan’s “wake up” weather for three decades. She also co-hosts a daily lifestyle show eightWest. Terri’s public journey took her through the many seasons in life. In her debut book\, Brighter Skies Ahead: Forecasting a Full Life When You Empty The Nest\, Terri shares lessons from her most challenging season of life:  adjusting to the quieter life in an empty nest. \nBrighter Skies Ahead is an upbeat and inspirational collection of fifty short essays\, where Terri shares strategies for discovering peace\, hope\, joy and purpose in the “next season” of life. Join Terri for a special conversation about her book\, where she will read excerpts from her favorite chapters and answer questions about her life and work. Terri will have books and journals available to purchase and autograph.
URL:https://otsegolibrary.org/event/brighter-skies-ahead-with-terri-deboer-author/
CATEGORIES:Adult
END:VEVENT
BEGIN:VEVENT
DTSTART;TZID=America/Detroit:20220407T160000
DTEND;TZID=America/Detroit:20220407T160000
DTSTAMP:20260423T061918
CREATED:20220511T190445Z
LAST-MODIFIED:20220511T190445Z
UID:6681-1649347200-1649347200@otsegolibrary.org
SUMMARY:SPRING BREAK for Teens - Rose Watercolor
DESCRIPTION:Spring Break events for middle school and high school aged teens/tweens. \nDonut Delight!\nTuesday\, April 5 at 4 PM\nMake donut keychains with us with our *NEW* Cricut machine while we smash delicious donuts. No registration required. \nRose Watercolor Painting\nThursday\, April 7 at 4 PM\nGet crafty with us and create a beautiful faux stained glass piece of art. No registration required.
URL:https://otsegolibrary.org/event/spring-break-for-teens-rose-watercolor/
CATEGORIES:Teen/Tween
END:VEVENT
BEGIN:VEVENT
DTSTART;TZID=America/Detroit:20220407T100000
DTEND;TZID=America/Detroit:20220407T100000
DTSTAMP:20260423T061918
CREATED:20220511T163856Z
LAST-MODIFIED:20220511T163856Z
UID:6594-1649325600-1649325600@otsegolibrary.org
SUMMARY:Storytime
DESCRIPTION:Thursdays at 10 AM\nFebruary 3 – May 12\nAges 2-5 \nEach session includes stories\, songs\, and a craft. \nFebruary – Winter Wonderland\nMarch Spring – Surprises\nApril/May – Feathered Friends
URL:https://otsegolibrary.org/event/storytime-10/
CATEGORIES:Preschool
END:VEVENT
BEGIN:VEVENT
DTSTART;TZID=America/Detroit:20220406T100000
DTEND;TZID=America/Detroit:20220406T100000
DTSTAMP:20260423T061918
CREATED:20220510T195007Z
LAST-MODIFIED:20220515T124317Z
UID:6475-1649239200-1649239200@otsegolibrary.org
SUMMARY:Music & Movement
DESCRIPTION:Wednesdays at 10 AM\nFebruary 2 – May 11\nAges 0-5 \nMovin’ & groovin’ fun with sensory play!
URL:https://otsegolibrary.org/event/music-movement-11/
CATEGORIES:Preschool
END:VEVENT
BEGIN:VEVENT
DTSTART;TZID=America/Detroit:20220405T160000
DTEND;TZID=America/Detroit:20220405T160000
DTSTAMP:20260423T061918
CREATED:20220511T190400Z
LAST-MODIFIED:20220511T190400Z
UID:6679-1649174400-1649174400@otsegolibrary.org
SUMMARY:SPRING BREAK for Teens - Donut Delight!
DESCRIPTION:Spring Break events for middle school and high school aged teens/tweens. \nDonut Delight!\nTuesday\, April 5 at 4 PM\nMake donut keychains with us with our *NEW* Cricut machine while we smash delicious donuts. No registration required. \nRose Watercolor Painting\nThursday\, April 7 at 4 PM\nGet crafty with us and create a beautiful faux stained glass piece of art. No registration required.
URL:https://otsegolibrary.org/event/spring-break-for-teens-donut-delight/
CATEGORIES:Teen/Tween
END:VEVENT
BEGIN:VEVENT
DTSTART;TZID=America/Detroit:20220405T140000
DTEND;TZID=America/Detroit:20220405T140000
DTSTAMP:20260423T061918
CREATED:20220511T180905Z
LAST-MODIFIED:20220511T180905Z
UID:6637-1649167200-1649167200@otsegolibrary.org
SUMMARY:SPRING BREAK for Kids - Bird Bingo
DESCRIPTION:Spring Break Programs – Free as a Bird!\nFly on over to the library during spring break for some fun bird programs! \nBird Bingo\nTuesday\, April 5 at 2 PM\nPlay a fun game of bingo featuring our feathered friends and win some prizes! \nBirds of Prey\nPresented by the Kalamazoo Nature Center\nFriday\, April 8 at 10 AM\nDuring this one-hour Birds of Prey program\, KNC’s educators will take the audience into the lives and habits of four unique birds. Program includes touchable artifacts and different species of live birds
URL:https://otsegolibrary.org/event/spring-break-for-kids-bird-bingo/
CATEGORIES:Children,Family
END:VEVENT
BEGIN:VEVENT
DTSTART;TZID=America/Detroit:20220405T100000
DTEND;TZID=America/Detroit:20220405T100000
DTSTAMP:20260423T061918
CREATED:20220511T154639Z
LAST-MODIFIED:20220511T154639Z
UID:6563-1649152800-1649152800@otsegolibrary.org
SUMMARY:Tiny Tots
DESCRIPTION:Tuesdays at 10 AM\nFebruary 1 – May 10\nAges 0-24 months\nSing\, read\, and play with your little ones and friends!
URL:https://otsegolibrary.org/event/tiny-tots-10/
CATEGORIES:Preschool
END:VEVENT
BEGIN:VEVENT
DTSTART;TZID=America/Detroit:20220331T100000
DTEND;TZID=America/Detroit:20220331T100000
DTSTAMP:20260423T061918
CREATED:20220511T163745Z
LAST-MODIFIED:20220511T163745Z
UID:6592-1648720800-1648720800@otsegolibrary.org
SUMMARY:Storytime
DESCRIPTION:Thursdays at 10 AM\nFebruary 3 – May 12\nAges 2-5 \nEach session includes stories\, songs\, and a craft. \nFebruary – Winter Wonderland\nMarch Spring – Surprises\nApril/May – Feathered Friends
URL:https://otsegolibrary.org/event/storytime-9/
CATEGORIES:Preschool
END:VEVENT
BEGIN:VEVENT
DTSTART;TZID=America/Detroit:20220330T100000
DTEND;TZID=America/Detroit:20220330T100000
DTSTAMP:20260423T061918
CREATED:20220510T194104Z
LAST-MODIFIED:20220515T124346Z
UID:6473-1648634400-1648634400@otsegolibrary.org
SUMMARY:Music & Movement
DESCRIPTION:Wednesdays at 10 AM\nFebruary 2 – May 11\nAges 0-5 \nMovin’ & groovin’ fun with sensory play!
URL:https://otsegolibrary.org/event/music-movement-10/
CATEGORIES:Preschool
END:VEVENT
BEGIN:VEVENT
DTSTART;TZID=America/Detroit:20220329T160000
DTEND;TZID=America/Detroit:20220329T160000
DTSTAMP:20260423T061918
CREATED:20220511T173032Z
LAST-MODIFIED:20220511T173032Z
UID:6623-1648569600-1648569600@otsegolibrary.org
SUMMARY:STEAM
DESCRIPTION:Tuesdays at 4 PM\nFebruary 1 – May 10\n(No meetings February 15 or April 5)\nKindergarten – 5th Graders \nDrop in each week and choose one or several stations to investigate and discover new STEAM (Science\, Technology\, Engineering\, Art and Math) related ideas.
URL:https://otsegolibrary.org/event/steam-9/
CATEGORIES:Children
END:VEVENT
BEGIN:VEVENT
DTSTART;TZID=America/Detroit:20220329T100000
DTEND;TZID=America/Detroit:20220329T100000
DTSTAMP:20260423T061918
CREATED:20220511T154554Z
LAST-MODIFIED:20220511T154554Z
UID:6561-1648548000-1648548000@otsegolibrary.org
SUMMARY:Tiny Tots
DESCRIPTION:Tuesdays at 10 AM\nFebruary 1 – May 10\nAges 0-24 months\nSing\, read\, and play with your little ones and friends!
URL:https://otsegolibrary.org/event/tiny-tots-9/
CATEGORIES:Preschool
END:VEVENT
BEGIN:VEVENT
DTSTART;TZID=America/Detroit:20220324T160000
DTEND;TZID=America/Detroit:20220324T160000
DTSTAMP:20260423T061918
CREATED:20220511T185704Z
LAST-MODIFIED:20220511T185750Z
UID:6673-1648137600-1648137600@otsegolibrary.org
SUMMARY:Sweet & Salty Book Club
DESCRIPTION:February – May\n4th Thursday at 4 PM\nMiddle School – High School\nBooks can be sweet… and some characters are salty! \nLet’s get together to discuss what we are reading with sweet and salty snacks! Not everyone likes to read the same book\, so choose the book you want to read and share with the group – your books\, your choice! \nAsk a staff member about new and popular book titles in the young adult\, juvenile\, and graphic novel sections!
URL:https://otsegolibrary.org/event/sweet-salty-book-club-2/
CATEGORIES:Teen/Tween
END:VEVENT
BEGIN:VEVENT
DTSTART;TZID=America/Detroit:20220324T100000
DTEND;TZID=America/Detroit:20220324T100000
DTSTAMP:20260423T061918
CREATED:20220511T163620Z
LAST-MODIFIED:20220511T163620Z
UID:6588-1648116000-1648116000@otsegolibrary.org
SUMMARY:Storytime
DESCRIPTION:Thursdays at 10 AM\nFebruary 3 – May 12\nAges 2-5 \nEach session includes stories\, songs\, and a craft. \nFebruary – Winter Wonderland\nMarch Spring – Surprises\nApril/May – Feathered Friends
URL:https://otsegolibrary.org/event/storytime-7/
CATEGORIES:Preschool
END:VEVENT
BEGIN:VEVENT
DTSTART;TZID=America/Detroit:20220323T100000
DTEND;TZID=America/Detroit:20220323T100000
DTSTAMP:20260423T061918
CREATED:20220510T193618Z
LAST-MODIFIED:20220515T124452Z
UID:6471-1648029600-1648029600@otsegolibrary.org
SUMMARY:Music & Movement
DESCRIPTION:Wednesdays at 10 AM\nFebruary 2 – May 11\nAges 0-5 \nMovin’ & groovin’ fun with sensory play!
URL:https://otsegolibrary.org/event/music-movement-9/
CATEGORIES:Preschool
END:VEVENT
BEGIN:VEVENT
DTSTART;TZID=America/Detroit:20220322T160000
DTEND;TZID=America/Detroit:20220322T160000
DTSTAMP:20260423T061918
CREATED:20220511T172954Z
LAST-MODIFIED:20220511T172954Z
UID:6621-1647964800-1647964800@otsegolibrary.org
SUMMARY:STEAM
DESCRIPTION:Tuesdays at 4 PM\nFebruary 1 – May 10\n(No meetings February 15 or April 5)\nKindergarten – 5th Graders \nDrop in each week and choose one or several stations to investigate and discover new STEAM (Science\, Technology\, Engineering\, Art and Math) related ideas.
URL:https://otsegolibrary.org/event/steam-8/
CATEGORIES:Children
END:VEVENT
BEGIN:VEVENT
DTSTART;TZID=America/Detroit:20220322T100000
DTEND;TZID=America/Detroit:20220322T100000
DTSTAMP:20260423T061918
CREATED:20220511T154518Z
LAST-MODIFIED:20220511T154518Z
UID:6559-1647943200-1647943200@otsegolibrary.org
SUMMARY:Tiny Tots
DESCRIPTION:Tuesdays at 10 AM\nFebruary 1 – May 10\nAges 0-24 months\nSing\, read\, and play with your little ones and friends!
URL:https://otsegolibrary.org/event/tiny-tots-8/
CATEGORIES:Preschool
END:VEVENT
BEGIN:VEVENT
DTSTART;TZID=America/Detroit:20220321T130000
DTEND;TZID=America/Detroit:20220321T130000
DTSTAMP:20260423T061918
CREATED:20220511T191211Z
LAST-MODIFIED:20220511T191211Z
UID:6689-1647867600-1647867600@otsegolibrary.org
SUMMARY:Friends of the Library Meeting
DESCRIPTION:The Friends of the Library will be meeting to discuss volunteer and library related business. \n“The Friends”  are always looking for new members. The Friends run a used bookstore and volunteer at library programs. Your donations of gently used books and DVDs help support the many wonderful programs offered at the library!
URL:https://otsegolibrary.org/event/friends-of-the-library-meeting/
CATEGORIES:Friends of the Library
END:VEVENT
BEGIN:VEVENT
DTSTART;TZID=America/Detroit:20220319T100000
DTEND;TZID=America/Detroit:20220319T120000
DTSTAMP:20260423T061918
CREATED:20220510T214546Z
LAST-MODIFIED:20220510T214634Z
UID:6496-1647684000-1647691200@otsegolibrary.org
SUMMARY:Creative Café - Fused Glass
DESCRIPTION:Creative Café – Fused Glass with Kathy Kuipers\nFriday\, March 18 from 1-3 PM\nSaturday\, March 19 from 10 AM – 12 PM\nAnother class will open Saturday afternoon if these fill.\nThese classes are for adults only\, but there will be a Friday afternoon session from 4 – 6 PM for 6th – 12th graders with or without parents. \nCreate a spring-inspired fused glass art project. Participants will be able to choose from a variety of styles to make. The cost is $20 and preregistration is required (non-refundable).\nCost of the class covers the instruction\, your finished art project\, and refreshments.
URL:https://otsegolibrary.org/event/creative-cafe-fused-glass/
CATEGORIES:Adult
END:VEVENT
BEGIN:VEVENT
DTSTART;TZID=America/Detroit:20220318T160000
DTEND;TZID=America/Detroit:20220318T180000
DTSTAMP:20260423T061918
CREATED:20220511T181908Z
LAST-MODIFIED:20220511T181908Z
UID:6643-1647619200-1647626400@otsegolibrary.org
SUMMARY:Creative Café - Fused Glass (Teen/Tween)
DESCRIPTION:Fused Glass with Kathy Kuipers\nFriday\, March 18 from 4 – 6 PM\nThis class is for 6th-12th graders with or without parents. \nCreate a spring-inspired fused glass art project. Participants will be able to choose from a variety of styles to make. \nThe cost is $20 (nonrefundable) and preregistration is required. Cost covers the instruction of the class\, your finished product\, and refreshments.
URL:https://otsegolibrary.org/event/creative-cafe-fused-glass-teen-tween/
CATEGORIES:Teen/Tween
END:VEVENT
BEGIN:VEVENT
DTSTART;TZID=America/Detroit:20220318T130000
DTEND;TZID=America/Detroit:20220318T150000
DTSTAMP:20260423T061918
CREATED:20220510T203157Z
LAST-MODIFIED:20220510T214529Z
UID:6494-1647608400-1647615600@otsegolibrary.org
SUMMARY:Creative Café - Fused Glass
DESCRIPTION:Creative Café – Fused Glass with Kathy Kuipers\nFriday\, March 18 from 1-3 PM\nSaturday\, March 19 from 10 AM – 12 PM\nAnother class will open Saturday afternoon if these fill.\nThese classes are for adults only\, but there will be a Friday afternoon session from 4 – 6 PM for 6th – 12th graders with or without parents. \nCreate a spring-inspired fused glass art project. Participants will be able to choose from a variety of styles to make. The cost is $20 and preregistration is required (non-refundable).\nCost of the class covers the instruction\, your finished art project\, and refreshments.
URL:https://otsegolibrary.org/event/fused-glass-class/
CATEGORIES:Adult
END:VEVENT
BEGIN:VEVENT
DTSTART;TZID=America/Detroit:20220317T160000
DTEND;TZID=America/Detroit:20220317T160000
DTSTAMP:20260423T061918
CREATED:20220511T182225Z
LAST-MODIFIED:20220511T182225Z
UID:6651-1647532800-1647532800@otsegolibrary.org
SUMMARY:Teen Scene
DESCRIPTION:February – May\n1st & 3rd Thursday at 4 PM\nMiddle School – High School \nHang out with us each week as we play games\, eat snacks\, and create lasting memories. We will be featuring several Nintendo Switch consoles and awesome new tabletop games. \nThere is no Teen Scene during Spring Break – check out the special Spring Break Events the first week of April.
URL:https://otsegolibrary.org/event/teen-scene-4/
CATEGORIES:Teen/Tween
END:VEVENT
BEGIN:VEVENT
DTSTART;TZID=America/Detroit:20220317T100000
DTEND;TZID=America/Detroit:20220317T100000
DTSTAMP:20260423T061918
CREATED:20220511T163659Z
LAST-MODIFIED:20220511T163659Z
UID:6590-1647511200-1647511200@otsegolibrary.org
SUMMARY:Storytime
DESCRIPTION:Thursdays at 10 AM\nFebruary 3 – May 12\nAges 2-5 \nEach session includes stories\, songs\, and a craft. \nFebruary – Winter Wonderland\nMarch Spring – Surprises\nApril/May – Feathered Friends
URL:https://otsegolibrary.org/event/storytime-8/
CATEGORIES:Preschool
END:VEVENT
END:VCALENDAR