BEGIN:VCALENDAR
VERSION:2.0
PRODID:-//Otsego District Public Library - ECPv6.15.20//NONSGML v1.0//EN
CALSCALE:GREGORIAN
METHOD:PUBLISH
X-WR-CALNAME:Otsego District Public Library
X-ORIGINAL-URL:https://otsegolibrary.org
X-WR-CALDESC:Events for Otsego District Public Library
REFRESH-INTERVAL;VALUE=DURATION:PT1H
X-Robots-Tag:noindex
X-PUBLISHED-TTL:PT1H
BEGIN:VTIMEZONE
TZID:America/Detroit
BEGIN:DAYLIGHT
TZOFFSETFROM:-0500
TZOFFSETTO:-0400
TZNAME:EDT
DTSTART:20220313T070000
END:DAYLIGHT
BEGIN:STANDARD
TZOFFSETFROM:-0400
TZOFFSETTO:-0500
TZNAME:EST
DTSTART:20221106T060000
END:STANDARD
BEGIN:DAYLIGHT
TZOFFSETFROM:-0500
TZOFFSETTO:-0400
TZNAME:EDT
DTSTART:20230312T070000
END:DAYLIGHT
BEGIN:STANDARD
TZOFFSETFROM:-0400
TZOFFSETTO:-0500
TZNAME:EST
DTSTART:20231105T060000
END:STANDARD
BEGIN:DAYLIGHT
TZOFFSETFROM:-0500
TZOFFSETTO:-0400
TZNAME:EDT
DTSTART:20240310T070000
END:DAYLIGHT
BEGIN:STANDARD
TZOFFSETFROM:-0400
TZOFFSETTO:-0500
TZNAME:EST
DTSTART:20241103T060000
END:STANDARD
END:VTIMEZONE
BEGIN:VEVENT
DTSTART;TZID=America/Detroit:20231017T160000
DTEND;TZID=America/Detroit:20231017T160000
DTSTAMP:20260419T223046
CREATED:20230919T140255Z
LAST-MODIFIED:20230919T140255Z
UID:8956-1697558400-1697558400@otsegolibrary.org
SUMMARY:Construct & Create
DESCRIPTION:September 12 – November 14 (No meeting on October 3 & 31)\nTuesdays at 4 PM\nFor Kindergarten – 5th Grade \nJoin your friends after school to build great structures and create beautiful art projects. Each week there will be different building sets and art materials so you can use your imagination and get your creative juices flowing!
URL:https://otsegolibrary.org/event/construct-create-4/
CATEGORIES:Children
END:VEVENT
BEGIN:VEVENT
DTSTART;TZID=America/Detroit:20231017T100000
DTEND;TZID=America/Detroit:20231017T100000
DTSTAMP:20260419T223046
CREATED:20230721T201357Z
LAST-MODIFIED:20230721T201357Z
UID:8730-1697536800-1697536800@otsegolibrary.org
SUMMARY:Tiny Tots
DESCRIPTION:September 12 – November 14 (No meeting on October 3) \nTuesdays at 10 AM  \nAges 0-24 Months \nSing\, read\, and play with your little ones and friends!
URL:https://otsegolibrary.org/event/tiny-tots-44/
CATEGORIES:Preschool
END:VEVENT
BEGIN:VEVENT
DTSTART;TZID=America/Detroit:20231014T090000
DTEND;TZID=America/Detroit:20231014T140000
DTSTAMP:20260419T223046
CREATED:20230811T173522Z
LAST-MODIFIED:20230811T173535Z
UID:8768-1697274000-1697292000@otsegolibrary.org
SUMMARY:BIG Fall Book Sale
DESCRIPTION:The Friends of the Library are hosting a TWO DAY BIG Fall Book Book Sale! \nWho loves a book bargain?! We sure do! Books will be on sale at discounted rates. Shelves inside the bookstore will be restocked with new titles after each sale. \nDates:\nFriday\, October 13 – – – – – 9 AM – 6 PM\nSaturday\, October 14 – – – 9 AM – 2 PM
URL:https://otsegolibrary.org/event/big-fall-book-sale-2/
CATEGORIES:Friends of the Library
END:VEVENT
BEGIN:VEVENT
DTSTART;TZID=America/Detroit:20231013T090000
DTEND;TZID=America/Detroit:20231013T180000
DTSTAMP:20260419T223046
CREATED:20230811T173422Z
LAST-MODIFIED:20230811T173422Z
UID:8766-1697187600-1697220000@otsegolibrary.org
SUMMARY:BIG Fall Book Sale
DESCRIPTION:The Friends of the Library are hosting a TWO DAY BIG Fall Book Book Sale! \nWho loves a book bargain?! We sure do! Books will be on sale at discounted rates. Shelves inside the bookstore will be restocked with new titles after each sale. \nDates:\nFriday\, October 13 – – – – – 9 AM – 6 PM\nSaturday\, October 14 – – – 9 AM – 2 PM
URL:https://otsegolibrary.org/event/big-fall-book-sale/
CATEGORIES:Friends of the Library
END:VEVENT
BEGIN:VEVENT
DTSTART;TZID=America/Detroit:20231012T160000
DTEND;TZID=America/Detroit:20231012T160000
DTSTAMP:20260419T223046
CREATED:20230721T200124Z
LAST-MODIFIED:20230721T200124Z
UID:8706-1697126400-1697126400@otsegolibrary.org
SUMMARY:Art Hub
DESCRIPTION:September 14\, October 12\, & November 9 \n2nd Thursday at 4 PM  \nCreate beautiful and fun pieces of art at this art club! The crafts at these meetups are more advanced and picked for teens/tweens – drawing\, painting\, crafting and more!
URL:https://otsegolibrary.org/event/art-hub-10/
CATEGORIES:Teen/Tween
END:VEVENT
BEGIN:VEVENT
DTSTART;TZID=America/Detroit:20231012T100000
DTEND;TZID=America/Detroit:20231012T100000
DTSTAMP:20260419T223046
CREATED:20230811T195214Z
LAST-MODIFIED:20230811T195225Z
UID:8776-1697104800-1697104800@otsegolibrary.org
SUMMARY:Storytime
DESCRIPTION:September 14 – November 16 (No meeting on October 5)\nThursdays at 10 AM \nAges 0-5 \nStories\, songs\, and a craft all focusing on a new theme each week.
URL:https://otsegolibrary.org/event/storytime-43/
CATEGORIES:Preschool
END:VEVENT
BEGIN:VEVENT
DTSTART;TZID=America/Detroit:20231011T180000
DTEND;TZID=America/Detroit:20231011T180000
DTSTAMP:20260419T223046
CREATED:20230721T144527Z
LAST-MODIFIED:20230721T144527Z
UID:8665-1697047200-1697047200@otsegolibrary.org
SUMMARY:Non Fiction Book Club
DESCRIPTION:2nd Wednesday at 6 PM \nJuly 12\nTrail of Tears by John Ehle \nAugust 9\nThe Falcon Thief by Joshua Hammer \nSeptember 13\nNew Women in the Old West by Winifred Gallagher \nOctober 11\nThe Soul of an Octopus by Sy Montgomery \nNovember 8\nFirst on the Moon by Armstrong\, Collins\, and Aldrin \nDecember 13\nThe Bad-Ass Librarians of Timbuktu by Joshua Hammer \nJanuary 10\nRubicon by Tom Holland
URL:https://otsegolibrary.org/event/non-fiction-book-club-19/
CATEGORIES:Book Club
END:VEVENT
BEGIN:VEVENT
DTSTART;TZID=America/Detroit:20231011T160000
DTEND;TZID=America/Detroit:20231011T160000
DTSTAMP:20260419T223046
CREATED:20230721T185633Z
LAST-MODIFIED:20230721T185753Z
UID:8688-1697040000-1697040000@otsegolibrary.org
SUMMARY:Kids & Teens Who Code!
DESCRIPTION:Led by Liliana Gonzalez\, Cinthia Williams\, and Doriane Le Bourse\, PhD\, with Perrigo  \nSeptember 13 – November 15 (No Meeting October 4)\nWednesdays at 4 PM \nLearn to code with fun online tutorials and activities that will help build animations\, games\, apps\, and other things that you dream up! Discover the impact that computer science can have on our community. Registration is encouraged\, but not required.
URL:https://otsegolibrary.org/event/kids-teens-who-code-4/
CATEGORIES:Children,Teen/Tween
END:VEVENT
BEGIN:VEVENT
DTSTART;TZID=America/Detroit:20231011T100000
DTEND;TZID=America/Detroit:20231011T100000
DTSTAMP:20260419T223046
CREATED:20230814T185058Z
LAST-MODIFIED:20230814T185113Z
UID:8797-1697018400-1697018400@otsegolibrary.org
SUMMARY:Music & Movement
DESCRIPTION:September 13 – November 15 (No meeting on October 4)\nWednesdays at 10 AM \nAges 0-5 \nMovin’ and Groovin’ fun with songs\, stories\, interactive play\, and sensory activities.
URL:https://otsegolibrary.org/event/music-movement-30/
CATEGORIES:Preschool
END:VEVENT
BEGIN:VEVENT
DTSTART;TZID=America/Detroit:20231010T160000
DTEND;TZID=America/Detroit:20231010T160000
DTSTAMP:20260419T223046
CREATED:20230919T140234Z
LAST-MODIFIED:20230919T140234Z
UID:8954-1696953600-1696953600@otsegolibrary.org
SUMMARY:Construct & Create
DESCRIPTION:September 12 – November 14 (No meeting on October 3 & 31)\nTuesdays at 4 PM\nFor Kindergarten – 5th Grade \nJoin your friends after school to build great structures and create beautiful art projects. Each week there will be different building sets and art materials so you can use your imagination and get your creative juices flowing!
URL:https://otsegolibrary.org/event/construct-create-3/
CATEGORIES:Children
END:VEVENT
BEGIN:VEVENT
DTSTART;TZID=America/Detroit:20231010T100000
DTEND;TZID=America/Detroit:20231010T100000
DTSTAMP:20260419T223046
CREATED:20230721T201256Z
LAST-MODIFIED:20230721T201256Z
UID:8728-1696932000-1696932000@otsegolibrary.org
SUMMARY:Tiny Tots
DESCRIPTION:September 12 – November 14 (No meeting on October 3) \nTuesdays at 10 AM  \nAges 0-24 Months \nSing\, read\, and play with your little ones and friends!
URL:https://otsegolibrary.org/event/tiny-tots-43/
CATEGORIES:Preschool
END:VEVENT
BEGIN:VEVENT
DTSTART;TZID=America/Detroit:20231009T140000
DTEND;TZID=America/Detroit:20231009T140000
DTSTAMP:20260419T223046
CREATED:20230721T144014Z
LAST-MODIFIED:20230721T144103Z
UID:8654-1696860000-1696860000@otsegolibrary.org
SUMMARY:2nd Monday Book Club
DESCRIPTION:Meets on the 2nd Monday of each month at 2 PM \nJuly 10\nLittle Fires Everywhere by Celeste Ng \nAugust 14\nThe Orphan Train by Christina Baker Kline \nSeptember 11\nThe Boston Girl by Anita Diamante \nOctober 9\nThe Maidens by Alex Michaelides \nNovember 13\nNever Let Me Go by Kazuo Ishiguro \nDecember 11\nChoose A Holiday Book \nJanuary 8\nProject Hail Mary by Andy Weir
URL:https://otsegolibrary.org/event/2nd-monday-book-club-24/
CATEGORIES:Book Club
END:VEVENT
BEGIN:VEVENT
DTSTART;TZID=America/Detroit:20230928T183000
DTEND;TZID=America/Detroit:20230928T183000
DTSTAMP:20260419T223046
CREATED:20230720T203847Z
LAST-MODIFIED:20230720T203847Z
UID:8602-1695925800-1695925800@otsegolibrary.org
SUMMARY:Author's Journey Series - A Hopeful Life by Laura MacGregor
DESCRIPTION:Author’s Journey Series\nJoin us for a series of different authors and their journeys in health\, family relations\, and care giving. \nA Hopeful Life by Lara MacGregor\nPresented by Art Plewka\nThursday\, September 28 at 6:30 PM\nCelebrate the life of Lara MacGregor and the publication of her book A Hopeful Life\, with her father Art Plewka. Hear the journey of Lara’s story\, her mission through Hope Scarves\, and the importance of her book. Art will also share his own “hopeful life” story\, describing a hiking trip in Lara’s memory. \nUp & Coming Events in this Series\nChasing North Star\nPresented by author Heidi McCrary\nThursday\, October 19 at 6:30 PM\nAn Otsego graduate\, author Heidi McCrary’s debut novel\, Chasing North Star borrows heavily from her time growing up in Alamo\, just a short drive from Otsego. Described as dark humor\, the story tells the tale of a band of siblings growing up with a mentally unstable mother who can’t help herself\, and their journey to finding forgiveness. This bittersweet coming-of-age story features many locations and events that local readers will find especially entertaining. Learn more about Heidi at www. heidimccrary.net and www.facebook.com/HeidiMcCraryAuthor. Signed copies of “Chasing North Star” will be available for purchase after the presentation. \nDad\, A Diary of Daring and Questioning\nPresented by author Robert Weir\nThursday\, November 16 at 6:30 PM\n“My dad and mom took care of me when I was young. When my dad became old and needed me\, I simply returned the favor.” This sentiment was the philosophical mantra of Robert’s story of his remarkable five-year journey into the realm of parental care. Robert says. “Caring for him was a challenge\, but we talked in ways we never had before\, and the rewards of being together were tremendous.” In his presentation\, Robert will talk about those rewards. He will have signed copies of his books for sale.
URL:https://otsegolibrary.org/event/authors-journey-series-a-hopeful-life-by-laura-macgregor/
CATEGORIES:Adult
END:VEVENT
BEGIN:VEVENT
DTSTART;TZID=America/Detroit:20230928T160000
DTEND;TZID=America/Detroit:20230928T160000
DTSTAMP:20260419T223046
CREATED:20230721T200918Z
LAST-MODIFIED:20230721T200918Z
UID:8718-1695916800-1695916800@otsegolibrary.org
SUMMARY:Sweet & Salty Book Club
DESCRIPTION:Sweet & Salty Book Club \nSeptember 28 & October 26 (No meeting November 23)\n4th Thursday at 4 PM \nDiscuss what we are reading over snacks! Choose any book to read and share with the group! \nAsk a staff member about new/ popular book suggestions!
URL:https://otsegolibrary.org/event/sweet-salty-book-club-13/
CATEGORIES:Teen/Tween
END:VEVENT
BEGIN:VEVENT
DTSTART;TZID=America/Detroit:20230928T100000
DTEND;TZID=America/Detroit:20230928T100000
DTSTAMP:20260419T223046
CREATED:20230811T195131Z
LAST-MODIFIED:20230811T195131Z
UID:8774-1695895200-1695895200@otsegolibrary.org
SUMMARY:Storytime
DESCRIPTION:September 14 – November 16 (No meeting on October 5)\nThursdays at 10 AM \nAges 0-5 \nStories\, songs\, and a craft all focusing on a new theme each week.
URL:https://otsegolibrary.org/event/storytime-42/
CATEGORIES:Preschool
END:VEVENT
BEGIN:VEVENT
DTSTART;TZID=America/Detroit:20230927T160000
DTEND;TZID=America/Detroit:20230927T160000
DTSTAMP:20260419T223046
CREATED:20230721T185607Z
LAST-MODIFIED:20230721T185607Z
UID:8686-1695830400-1695830400@otsegolibrary.org
SUMMARY:Kids & Teens Who Code!
DESCRIPTION:Led by Liliana Gonzalez\, Cinthia Williams\, and Doriane Le Bourse\, PhD\, with Perrigo  \nSeptember 13 – November 15 (No Meeting October 4)\nWednesdays at 4 PM \nLearn to code with fun online tutorials and activities that will help build animations\, games\, apps\, and other things that you dream up! Discover the impact that computer science can have on our community. Registration is encouraged\, but not required.
URL:https://otsegolibrary.org/event/kids-teens-who-code-3/
CATEGORIES:Children,Teen/Tween
END:VEVENT
BEGIN:VEVENT
DTSTART;TZID=America/Detroit:20230927T130000
DTEND;TZID=America/Detroit:20230927T130000
DTSTAMP:20260419T223046
CREATED:20230927T155304Z
LAST-MODIFIED:20230927T155304Z
UID:8973-1695819600-1695819600@otsegolibrary.org
SUMMARY:Crafting Corner
DESCRIPTION:September 27\, October 25\, November 22 \n4th Wednesday of the Month at 1 PM  \nBring your knitting\, crocheting\, coloring\, or anything else you are working on and sit by the fireplace crafting with friends.
URL:https://otsegolibrary.org/event/crafting-corner-13/
CATEGORIES:Adult
END:VEVENT
BEGIN:VEVENT
DTSTART;TZID=America/Detroit:20230927T100000
DTEND;TZID=America/Detroit:20230927T100000
DTSTAMP:20260419T223046
CREATED:20230814T185032Z
LAST-MODIFIED:20230814T190817Z
UID:8795-1695808800-1695808800@otsegolibrary.org
SUMMARY:Music & Movement
DESCRIPTION:September 13 – November 15 (No meeting on October 4)\n\n\n\nWednesdays at 10 AM \nAges 0-5 \nMovin’ and Groovin’ fun with songs\, stories\, interactive play\, and sensory activities.
URL:https://otsegolibrary.org/event/music-and-movement-11/
CATEGORIES:Preschool
END:VEVENT
BEGIN:VEVENT
DTSTART;TZID=America/Detroit:20230926T160000
DTEND;TZID=America/Detroit:20230926T160000
DTSTAMP:20260419T223046
CREATED:20230919T140202Z
LAST-MODIFIED:20230919T140202Z
UID:8952-1695744000-1695744000@otsegolibrary.org
SUMMARY:Construct & Create
DESCRIPTION:September 12 – November 14 (No meeting on October 3 & 31)\nTuesdays at 4 PM\nFor Kindergarten – 5th Grade \nJoin your friends after school to build great structures and create beautiful art projects. Each week there will be different building sets and art materials so you can use your imagination and get your creative juices flowing!
URL:https://otsegolibrary.org/event/construct-create-2/
CATEGORIES:Children
END:VEVENT
BEGIN:VEVENT
DTSTART;TZID=America/Detroit:20230926T100000
DTEND;TZID=America/Detroit:20230926T100000
DTSTAMP:20260419T223046
CREATED:20230721T201233Z
LAST-MODIFIED:20230721T201233Z
UID:8726-1695722400-1695722400@otsegolibrary.org
SUMMARY:Tiny Tots
DESCRIPTION:September 12 – November 14 (No meeting on October 3) \nTuesdays at 10 AM  \nAges 0-24 Months \nSing\, read\, and play with your little ones and friends!
URL:https://otsegolibrary.org/event/tiny-tots-42/
CATEGORIES:Preschool
END:VEVENT
BEGIN:VEVENT
DTSTART;TZID=America/Detroit:20230923T090000
DTEND;TZID=America/Detroit:20230923T110000
DTSTAMP:20260419T223046
CREATED:20230720T204401Z
LAST-MODIFIED:20230720T204556Z
UID:8611-1695459600-1695466800@otsegolibrary.org
SUMMARY:Creative Café: Watercolor
DESCRIPTION:Creative Café: Watercolor\nKris Spitzner of Redbriar Studio\nFriday\, September 22 from 1 – 3 PM and\nSaturday\, September 23 from 9 – 11 AM\n(A Saturday afternoon class will open if classes fill) \nFall leaves are both fun and beautiful to paint! This introduction to watercolor class provides step-by-step instruction in basic drawing and beginning watercolor technique. Kris is a Botanical Artist and Natural Science Illustrator sharing her love of nature\, art\, and design through vivid\, detailed watercolor depictions of the natural world. You can view her work at kristinaspitzner.com. \nThe cost is $20 and pre-registration is required (nonrefundable). Space is limited to 30 participants per class. The cost covers the instruction of class\, your finished product\, and yummy treats!
URL:https://otsegolibrary.org/event/creative-cafe-watercolor-2/
CATEGORIES:Adult
END:VEVENT
BEGIN:VEVENT
DTSTART;TZID=America/Detroit:20230922T160000
DTEND;TZID=America/Detroit:20230922T180000
DTSTAMP:20260419T223046
CREATED:20230721T145645Z
LAST-MODIFIED:20230721T145645Z
UID:8673-1695398400-1695405600@otsegolibrary.org
SUMMARY:Creative Café: Watercolor
DESCRIPTION:Creative Café: Fall Leaf\nWatercolor Kris Spitzner of Redbriar Studio\nFriday\, September 22 from 4 – 6 PM \nThis watercolor class provides step-by-step instruction in basic drawing and beginning watercolor technique. Kris is a Botanical Artist and Natural Science Illustrator. You can view her work at kristinaspitzner.com. \nCost is $20 – registration is required (non-refundable) and space is limited to 20 participants. Cost covers instruction\, finished product\, and yummy treats!
URL:https://otsegolibrary.org/event/creative-cafe-watercolor-3/
CATEGORIES:Teen/Tween
END:VEVENT
BEGIN:VEVENT
DTSTART;TZID=America/Detroit:20230922T130000
DTEND;TZID=America/Detroit:20230922T150000
DTSTAMP:20260419T223046
CREATED:20230720T204334Z
LAST-MODIFIED:20230720T204334Z
UID:8609-1695387600-1695394800@otsegolibrary.org
SUMMARY:Creative Café: Watercolor
DESCRIPTION:Creative Café: Watercolor\nKris Spitzner of Redbriar Studio\nFriday\, September 22 from 1 – 3 PM and\nSaturday\, September 23 from 9 – 11 AM\n(A Saturday afternoon class will open if classes fill) \nFall leaves are both fun and beautiful to paint! This introduction to watercolor class provides step-by-step instruction in basic drawing and beginning watercolor technique. Kris is a Botanical Artist and Natural Science Illustrator sharing her love of nature\, art\, and design through vivid\, detailed watercolor depictions of the natural world. You can view her work at kristinaspitzner.com. \nThe cost is $20 and pre-registration is required (nonrefundable). Space is limited to 30 participants per class. The cost covers the instruction of class\, your finished product\, and yummy treats!
URL:https://otsegolibrary.org/event/creative-cafe-watercolor/
CATEGORIES:Adult
END:VEVENT
BEGIN:VEVENT
DTSTART;TZID=America/Detroit:20230921T160000
DTEND;TZID=America/Detroit:20230921T160000
DTSTAMP:20260419T223046
CREATED:20230721T200618Z
LAST-MODIFIED:20230721T200618Z
UID:8712-1695312000-1695312000@otsegolibrary.org
SUMMARY:Creative Writing Club
DESCRIPTION:September 21\, October 19\, & November 16 \n3rd Thursday at 4 PM  \nDo you LOVE to write?\nJoin us as we write together and share short stories\, original writing pieces\, and ideas. All writing styles are welcome.
URL:https://otsegolibrary.org/event/creative-writing-club-5/
CATEGORIES:Teen/Tween
END:VEVENT
BEGIN:VEVENT
DTSTART;TZID=America/Detroit:20230921T100000
DTEND;TZID=America/Detroit:20230921T100000
DTSTAMP:20260419T223046
CREATED:20230811T195100Z
LAST-MODIFIED:20230811T195100Z
UID:8772-1695290400-1695290400@otsegolibrary.org
SUMMARY:Storytime
DESCRIPTION:September 14 – November 16 (No meeting on October 5)\nThursdays at 10 AM \nAges 0-5 \nStories\, songs\, and a craft all focusing on a new theme each week.
URL:https://otsegolibrary.org/event/storytime-41/
CATEGORIES:Preschool
END:VEVENT
BEGIN:VEVENT
DTSTART;TZID=America/Detroit:20230920T160000
DTEND;TZID=America/Detroit:20230920T160000
DTSTAMP:20260419T223046
CREATED:20230721T185116Z
LAST-MODIFIED:20230721T185116Z
UID:8683-1695225600-1695225600@otsegolibrary.org
SUMMARY:Kids & Teens Who Code!
DESCRIPTION:Led by Liliana Gonzalez\, Cinthia Williams\, and Doriane Le Bourse\, PhD\, with Perrigo  \nSeptember 13 – November 15 (No Meeting October 4)\nWednesdays at 4 PM \nLearn to code with fun online tutorials and activities that will help build animations\, games\, apps\, and other things that you dream up! Discover the impact that computer science can have on our community. Registration is encouraged\, but not required.
URL:https://otsegolibrary.org/event/kids-teens-who-code-2/
CATEGORIES:Children,Teen/Tween
END:VEVENT
BEGIN:VEVENT
DTSTART;TZID=America/Detroit:20230920T100000
DTEND;TZID=America/Detroit:20230920T100000
DTSTAMP:20260419T223046
CREATED:20230721T204432Z
LAST-MODIFIED:20230814T190811Z
UID:8744-1695204000-1695204000@otsegolibrary.org
SUMMARY:Music & Movement
DESCRIPTION:September 13 – November 15 (No meeting on October 4) \nWednesdays at 10 AM \nAges 0-5 \nMovin’ and Groovin’ fun with songs\, stories\, interactive play\, and sensory activities.
URL:https://otsegolibrary.org/event/music-and-movement-13/
CATEGORIES:Preschool
END:VEVENT
BEGIN:VEVENT
DTSTART;TZID=America/Detroit:20230919T160000
DTEND;TZID=America/Detroit:20230919T160000
DTSTAMP:20260419T223046
CREATED:20230919T140015Z
LAST-MODIFIED:20230919T140015Z
UID:8950-1695139200-1695139200@otsegolibrary.org
SUMMARY:Construct & Create
DESCRIPTION:September 12 – November 14 (No meeting on October 3 & 31)\nTuesdays at 4 PM\nFor Kindergarten – 5th Grade \nJoin your friends after school to build great structures and create beautiful art projects. Each week there will be different building sets and art materials so you can use your imagination and get your creative juices flowing!
URL:https://otsegolibrary.org/event/construct-create/
CATEGORIES:Children
END:VEVENT
BEGIN:VEVENT
DTSTART;TZID=America/Detroit:20230919T100000
DTEND;TZID=America/Detroit:20230919T100000
DTSTAMP:20260419T223046
CREATED:20230721T201125Z
LAST-MODIFIED:20230721T201210Z
UID:8724-1695117600-1695117600@otsegolibrary.org
SUMMARY:Tiny Tots
DESCRIPTION:September 12 – November 14 (No meeting on October 3) \nTuesdays at 10 AM  \nAges 0-24 Months \nSing\, read\, and play with your little ones and friends!
URL:https://otsegolibrary.org/event/tiny-tots-41/
CATEGORIES:Preschool
END:VEVENT
BEGIN:VEVENT
DTSTART;TZID=America/Detroit:20230916T100000
DTEND;TZID=America/Detroit:20230916T120000
DTSTAMP:20260419T223046
CREATED:20230720T203511Z
LAST-MODIFIED:20230720T203511Z
UID:8600-1694858400-1694865600@otsegolibrary.org
SUMMARY:Pre 1840 Reenactment
DESCRIPTION:Presented by Jerry and Patricia Midkiff with the Frontiersmen Camping Fellowship \nSaturday\, September 16 from 10 AM – NOON \nDrop in and experience the history of the fur trade era from the 1770’s to 1840. In Michigan\,\nthe voyagers traveled the Great Lakes. The Midkiff’s (aka Sassafras and Wildflower) will\nhave stories to share\, be wearing clothing from the 1840’s\, and will have hands-on items.\nThis living history event will be great for the whole family.
URL:https://otsegolibrary.org/event/pre-1840-reenactment/
CATEGORIES:Adult
END:VEVENT
END:VCALENDAR