BEGIN:VCALENDAR
VERSION:2.0
PRODID:-//Otsego District Public Library - ECPv6.15.20//NONSGML v1.0//EN
CALSCALE:GREGORIAN
METHOD:PUBLISH
X-WR-CALNAME:Otsego District Public Library
X-ORIGINAL-URL:https://otsegolibrary.org
X-WR-CALDESC:Events for Otsego District Public Library
REFRESH-INTERVAL;VALUE=DURATION:PT1H
X-Robots-Tag:noindex
X-PUBLISHED-TTL:PT1H
BEGIN:VTIMEZONE
TZID:America/Detroit
BEGIN:DAYLIGHT
TZOFFSETFROM:-0500
TZOFFSETTO:-0400
TZNAME:EDT
DTSTART:20220313T070000
END:DAYLIGHT
BEGIN:STANDARD
TZOFFSETFROM:-0400
TZOFFSETTO:-0500
TZNAME:EST
DTSTART:20221106T060000
END:STANDARD
BEGIN:DAYLIGHT
TZOFFSETFROM:-0500
TZOFFSETTO:-0400
TZNAME:EDT
DTSTART:20230312T070000
END:DAYLIGHT
BEGIN:STANDARD
TZOFFSETFROM:-0400
TZOFFSETTO:-0500
TZNAME:EST
DTSTART:20231105T060000
END:STANDARD
BEGIN:DAYLIGHT
TZOFFSETFROM:-0500
TZOFFSETTO:-0400
TZNAME:EDT
DTSTART:20240310T070000
END:DAYLIGHT
BEGIN:STANDARD
TZOFFSETFROM:-0400
TZOFFSETTO:-0500
TZNAME:EST
DTSTART:20241103T060000
END:STANDARD
END:VTIMEZONE
BEGIN:VEVENT
DTSTART;TZID=America/Detroit:20230418T100000
DTEND;TZID=America/Detroit:20230418T100000
DTSTAMP:20260419T220149
CREATED:20221222T213726Z
LAST-MODIFIED:20221222T213726Z
UID:7787-1681812000-1681812000@otsegolibrary.org
SUMMARY:Tiny Tots
DESCRIPTION:Tuesdays at 10 AM\nJanuary 31 – May 9 (No meeting on April 4)\nAges 0 – 24 months \nSongs\, books\, rhymes\, and fun group play for our youngest patrons!
URL:https://otsegolibrary.org/event/tiny-tots-36/
CATEGORIES:Preschool
END:VEVENT
BEGIN:VEVENT
DTSTART;TZID=America/Detroit:20230413T160000
DTEND;TZID=America/Detroit:20230413T160000
DTSTAMP:20260419T220149
CREATED:20221222T210058Z
LAST-MODIFIED:20221222T210058Z
UID:7728-1681401600-1681401600@otsegolibrary.org
SUMMARY:Art Hub
DESCRIPTION:Thursday\, February 9 – May 11\n2nd Thursday at 4 PM \nCreate beautiful and fun pieces of art at this art club! Join us for drawing\, painting\, crafting and more! \nThe crafts at these classes are more advanced and picked with teens and tweens in mind. Registration is not required.
URL:https://otsegolibrary.org/event/art-hub-7/
CATEGORIES:Teen/Tween
END:VEVENT
BEGIN:VEVENT
DTSTART;TZID=America/Detroit:20230413T100000
DTEND;TZID=America/Detroit:20230413T100000
DTSTAMP:20260419T220149
CREATED:20221222T220313Z
LAST-MODIFIED:20221222T220313Z
UID:7864-1681380000-1681380000@otsegolibrary.org
SUMMARY:Storytime
DESCRIPTION:Thursdays at 10 AM\nFebruary 2 – May 11 (No meeting on April 6)\nAges 0 – 5 \nEach week will have a new theme while we read stories\, sing songs\, and make a themed craft!
URL:https://otsegolibrary.org/event/storytime-35/
CATEGORIES:Preschool
END:VEVENT
BEGIN:VEVENT
DTSTART;TZID=America/Detroit:20230412T180000
DTEND;TZID=America/Detroit:20230412T180000
DTSTAMP:20260419T220149
CREATED:20221222T204845Z
LAST-MODIFIED:20221222T204845Z
UID:7706-1681322400-1681322400@otsegolibrary.org
SUMMARY:Non-Fiction Book Club
DESCRIPTION:Meets on the 2nd Wednesday at 6 PM\nNewcomers are always welcome! \nJanuary 11 The Nine by Jeffrey Toobin \nFebruary 8 Lincoln on the Verge by Ted Widmer \nMarch 8 Boys in the Boat by Daniel James Brown \nApril 12 Rough Magic by Lara Prior-Palmer \nMay 10 Team of Rivals by Doris Kearns Goodwin \nJune 14 The Planets by Dava Sobel \nJuly 12 Trail of Tears by John Ehle \nAugust 9 The Falcon Thief by Joshua Hammer
URL:https://otsegolibrary.org/event/non-fiction-book-club-13/
CATEGORIES:Book Club
END:VEVENT
BEGIN:VEVENT
DTSTART;TZID=America/Detroit:20230412T100000
DTEND;TZID=America/Detroit:20230412T100000
DTSTAMP:20260419T220149
CREATED:20221222T215028Z
LAST-MODIFIED:20221222T220044Z
UID:7820-1681293600-1681293600@otsegolibrary.org
SUMMARY:Music & Movement
DESCRIPTION:Wednesdays at 10 AM\nFebruary 1 – May 10 (No meeting on April 5)\nAges 0-5 \nJoin us for a wild adventure each week while we sing\, dance\, move\, and experience sensory play!
URL:https://otsegolibrary.org/event/music-and-movement-6/
CATEGORIES:Preschool
END:VEVENT
BEGIN:VEVENT
DTSTART;TZID=America/Detroit:20230411T160000
DTEND;TZID=America/Detroit:20230411T160000
DTSTAMP:20260419T220149
CREATED:20221222T221025Z
LAST-MODIFIED:20221222T221025Z
UID:7892-1681228800-1681228800@otsegolibrary.org
SUMMARY:STEAM
DESCRIPTION:Tuesdays at 4 PM\nJanuary 31 – May 9 (No meetup on April 4)\nFor Kindergarten – 5th Grade \nDrop in each week and choose one or several stations to investigate and discover new STEAM (Science\, Technology\, Engineering\, Art and Math) concepts.
URL:https://otsegolibrary.org/event/steam-22/
CATEGORIES:Children
END:VEVENT
BEGIN:VEVENT
DTSTART;TZID=America/Detroit:20230411T100000
DTEND;TZID=America/Detroit:20230411T100000
DTSTAMP:20260419T220149
CREATED:20221222T213640Z
LAST-MODIFIED:20221222T213640Z
UID:7785-1681207200-1681207200@otsegolibrary.org
SUMMARY:Tiny Tots
DESCRIPTION:Tuesdays at 10 AM\nJanuary 31 – May 9 (No meeting on April 4)\nAges 0 – 24 months \nSongs\, books\, rhymes\, and fun group play for our youngest patrons!
URL:https://otsegolibrary.org/event/tiny-tots-35/
CATEGORIES:Preschool
END:VEVENT
BEGIN:VEVENT
DTSTART;TZID=America/Detroit:20230410T140000
DTEND;TZID=America/Detroit:20230410T140000
DTSTAMP:20260419T220149
CREATED:20221222T204111Z
LAST-MODIFIED:20221222T204144Z
UID:7692-1681135200-1681135200@otsegolibrary.org
SUMMARY:2nd Monday Book Club
DESCRIPTION:Meets on the 2nd Monday at 2 PM\nNewcomers are always welcome! \nJanuary 9 Mysterious Death of Miss Jane Austen by Lindsay Ashford \nFebruary 13 The Silent Patient by Alex Michaelides \nMarch 13 One Perfect Lie by Lisa Scottoline \nApril 10 The One Hundred Years of Lenni & Margot by Marianne Cronin \nMay 8 Dearest Mother & Dad by Christina Thompson \nJune 12 Gentleman In Moscow by Amor Towles \nJuly 10 Little Fires Everywhere by Celesste Ng \nAugust 14 The Orphan Train by Christina Baker Kline
URL:https://otsegolibrary.org/event/2nd-monday-book-club-17/
CATEGORIES:Book Club
END:VEVENT
BEGIN:VEVENT
DTSTART;VALUE=DATE:20230408
DTEND;VALUE=DATE:20230409
DTSTAMP:20260419T220149
CREATED:20221110T194207Z
LAST-MODIFIED:20221110T200013Z
UID:7562-1680912000-1680998399@otsegolibrary.org
SUMMARY:LIBRARY CLOSED
DESCRIPTION:The library will be closed for the holiday. \nCLOSED:\nEaster Weekend\nSaturday\, April 8 \nHave a safe and happy holiday with your family and friends!
URL:https://otsegolibrary.org/event/library-closed-10/
CATEGORIES:Notice/Closing
END:VEVENT
BEGIN:VEVENT
DTSTART;TZID=America/Detroit:20230407T130000
DTEND;TZID=America/Detroit:20230407T150000
DTSTAMP:20260419T220149
CREATED:20221222T195636Z
LAST-MODIFIED:20221222T195636Z
UID:7654-1680872400-1680879600@otsegolibrary.org
SUMMARY:Mixed Media Madness
DESCRIPTION:February – May\n1st Friday from 1 – 3 PM \nDrop in to create a unique piece of art using the library’s resources and a variety of media. Each month you will be making a seasonal/holiday craft you will be proud to display!
URL:https://otsegolibrary.org/event/mixed-media-madness-3/
CATEGORIES:Adult
END:VEVENT
BEGIN:VEVENT
DTSTART;TZID=America/Detroit:20230406T140000
DTEND;TZID=America/Detroit:20230406T140000
DTSTAMP:20260419T220149
CREATED:20221222T212441Z
LAST-MODIFIED:20221222T212441Z
UID:7762-1680789600-1680789600@otsegolibrary.org
SUMMARY:Spring break (TEEN/TWEEN) Sharpie Flower Pots
DESCRIPTION:This Spring Break event is for middle school – high school aged teens/tweens. \nThursday\, April 6 at 2 PM\nUse Sharpie markers to create a one-of-akind flower pot. Fill the flower pot with dirt and a plant provided by the library.
URL:https://otsegolibrary.org/event/spring-break-teen-tween-sharpie-flower-pots/
END:VEVENT
BEGIN:VEVENT
DTSTART;TZID=America/Detroit:20230406T100000
DTEND;TZID=America/Detroit:20230406T100000
DTSTAMP:20260419T220149
CREATED:20221222T221730Z
LAST-MODIFIED:20221222T221730Z
UID:7908-1680775200-1680775200@otsegolibrary.org
SUMMARY:Spring Break (KIDS) Joel Tacey Magical Comedy Show
DESCRIPTION:Spring Break for Kids!\nPreschool Through 5th Grade\nCome on over to the library during spring break for some springtime magically fun programs! \nSpringtime Bingo and Scavenger Hunt\nTuesday\, April 4 at 10 AM\nPlay a fun game of bingo and win some prizes and books! Then you can have an adventure in the library while you go on a scavenger hunt. Find all of the hidden items and you will win another prize!!! \nBig and Little Kids’ Springtime Storytime \nWednesday\, April 5 at 10 AM\nEnjoy a couple of springtime stories\, songs\, and make a craft to go along with them. This will be fun for kids of all ages! \nThe Joel Tacey Magical Comedy Show \nThursday\, April 6 at 10 AM\nThis show is a HUGE hit with family audiences everywhere! Amazing magic\, dazzling juggling\, goofy stunts\, and LOTS of audience participation highlight this exciting show. Joel puts on a wonderful performance that your whole family will love!
URL:https://otsegolibrary.org/event/spring-break-kids-joel-tacey-magical-comedy-show/
END:VEVENT
BEGIN:VEVENT
DTSTART;TZID=America/Detroit:20230405T140000
DTEND;TZID=America/Detroit:20230405T140000
DTSTAMP:20260419T220149
CREATED:20221222T212330Z
LAST-MODIFIED:20221222T212616Z
UID:7759-1680703200-1680703200@otsegolibrary.org
SUMMARY:Spring Break (TEEN/TWEEN) Pinocchio Movie Day
DESCRIPTION:This Spring Break event is intended for middle school – high school aged teens/tweens but all ages are welcome! \n(Rated: PG • Run Time: 1 hr 45 min) \nJoin us to watch the latest version of Disney’s Pinocchio while snacking on popcorn!
URL:https://otsegolibrary.org/event/pinocchio-movie-day/
END:VEVENT
BEGIN:VEVENT
DTSTART;TZID=America/Detroit:20230405T100000
DTEND;TZID=America/Detroit:20230405T100000
DTSTAMP:20260419T220149
CREATED:20221222T221641Z
LAST-MODIFIED:20221222T221641Z
UID:7906-1680688800-1680688800@otsegolibrary.org
SUMMARY:Spring Break (KIDS) Big & Little Kids' Springtime Storytime
DESCRIPTION:Spring Break for Kids!\nPreschool Through 5th Grade\nCome on over to the library during spring break for some springtime magically fun programs! \nSpringtime Bingo and Scavenger Hunt\nTuesday\, April 4 at 10 AM\nPlay a fun game of bingo and win some prizes and books! Then you can have an adventure in the library while you go on a scavenger hunt. Find all of the hidden items and you will win another prize!!! \nBig and Little Kids’ Springtime Storytime \nWednesday\, April 5 at 10 AM\nEnjoy a couple of springtime stories\, songs\, and make a craft to go along with them. This will be fun for kids of all ages! \nThe Joel Tacey Magical Comedy Show \nThursday\, April 6 at 10 AM\nThis show is a HUGE hit with family audiences everywhere! Amazing magic\, dazzling juggling\, goofy stunts\, and LOTS of audience participation highlight this exciting show. Joel puts on a wonderful performance that your whole family will love!
URL:https://otsegolibrary.org/event/spring-break-kids-big-little-kids-springtime-storytime/
END:VEVENT
BEGIN:VEVENT
DTSTART;TZID=America/Detroit:20230404T140000
DTEND;TZID=America/Detroit:20230404T140000
DTSTAMP:20260419T220149
CREATED:20221222T211938Z
LAST-MODIFIED:20221222T212209Z
UID:7757-1680616800-1680616800@otsegolibrary.org
SUMMARY:Spring Break (TEEN/TWEEN) Design a Cricut T-Shirt
DESCRIPTION:This Spring Break event is for middle school – high school aged teens/tweens. \nBring a t-shirt (in your size) to create with a pre-made Cricut design. \nLet the staff know if you’re unable to bring a shirt and would like to participate.
URL:https://otsegolibrary.org/event/spring-break-teen-tween-design-a-cricut-t-shirt/
END:VEVENT
BEGIN:VEVENT
DTSTART;TZID=America/Detroit:20230404T100000
DTEND;TZID=America/Detroit:20230404T100000
DTSTAMP:20260419T220149
CREATED:20221222T221551Z
LAST-MODIFIED:20221222T221551Z
UID:7904-1680602400-1680602400@otsegolibrary.org
SUMMARY:Spring Break (KIDS) Springtime BINGO & Scavenger Hunt
DESCRIPTION:Spring Break for Kids!\nPreschool Through 5th Grade\nCome on over to the library during spring break for some springtime magically fun programs! \nSpringtime Bingo and Scavenger Hunt\nTuesday\, April 4 at 10 AM\nPlay a fun game of bingo and win some prizes and books! Then you can have an adventure in the library while you go on a scavenger hunt. Find all of the hidden items and you will win another prize!!! \nBig and Little Kids’ Springtime Storytime \nWednesday\, April 5 at 10 AM\nEnjoy a couple of springtime stories\, songs\, and make a craft to go along with them. This will be fun for kids of all ages! \nThe Joel Tacey Magical Comedy Show \nThursday\, April 6 at 10 AM\nThis show is a HUGE hit with family audiences everywhere! Amazing magic\, dazzling juggling\, goofy stunts\, and LOTS of audience participation highlight this exciting show. Joel puts on a wonderful performance that your whole family will love!
URL:https://otsegolibrary.org/event/spring-break-kids-springtime-bingo-scavenger-hunt/
END:VEVENT
BEGIN:VEVENT
DTSTART;TZID=America/Detroit:20230403T140000
DTEND;TZID=America/Detroit:20230403T140000
DTSTAMP:20260419T220149
CREATED:20221222T211828Z
LAST-MODIFIED:20221222T211828Z
UID:7755-1680530400-1680530400@otsegolibrary.org
SUMMARY:Spring Break - LEGO Lunacy
DESCRIPTION:Compete in a LEGO adventure building competition. \nThis event is for upper elementary- high school.
URL:https://otsegolibrary.org/event/spring-break-lego-lunacy/
END:VEVENT
BEGIN:VEVENT
DTSTART;TZID=America/Detroit:20230330T100000
DTEND;TZID=America/Detroit:20230330T100000
DTSTAMP:20260419T220149
CREATED:20221222T220226Z
LAST-MODIFIED:20221222T220226Z
UID:7862-1680170400-1680170400@otsegolibrary.org
SUMMARY:Storytime
DESCRIPTION:Thursdays at 10 AM\nFebruary 2 – May 11 (No meeting on April 6)\nAges 0 – 5 \nEach week will have a new theme while we read stories\, sing songs\, and make a themed craft!
URL:https://otsegolibrary.org/event/storytime-34/
CATEGORIES:Preschool
END:VEVENT
BEGIN:VEVENT
DTSTART;TZID=America/Detroit:20230329T100000
DTEND;TZID=America/Detroit:20230329T100000
DTSTAMP:20260419T220149
CREATED:20221222T214956Z
LAST-MODIFIED:20221222T220102Z
UID:7818-1680084000-1680084000@otsegolibrary.org
SUMMARY:Music & Movement
DESCRIPTION:Wednesdays at 10 AM\nFebruary 1 – May 10 (No meeting on April 5)\nAges 0-5 \nJoin us for a wild adventure each week while we sing\, dance\, move\, and experience sensory play!
URL:https://otsegolibrary.org/event/music-and-movement-5/
CATEGORIES:Preschool
END:VEVENT
BEGIN:VEVENT
DTSTART;TZID=America/Detroit:20230328T160000
DTEND;TZID=America/Detroit:20230328T160000
DTSTAMP:20260419T220149
CREATED:20221222T221112Z
LAST-MODIFIED:20221222T221112Z
UID:7894-1680019200-1680019200@otsegolibrary.org
SUMMARY:STEAM
DESCRIPTION:Tuesdays at 4 PM\nJanuary 31 – May 9 (No meetup on April 4)\nFor Kindergarten – 5th Grade \nDrop in each week and choose one or several stations to investigate and discover new STEAM (Science\, Technology\, Engineering\, Art and Math) concepts.
URL:https://otsegolibrary.org/event/steam-23/
CATEGORIES:Children
END:VEVENT
BEGIN:VEVENT
DTSTART;TZID=America/Detroit:20230328T100000
DTEND;TZID=America/Detroit:20230328T100000
DTSTAMP:20260419T220149
CREATED:20221222T213613Z
LAST-MODIFIED:20221222T213613Z
UID:7783-1679997600-1679997600@otsegolibrary.org
SUMMARY:Tiny Tots
DESCRIPTION:Tuesdays at 10 AM\nJanuary 31 – May 9 (No meeting on April 4)\nAges 0 – 24 months \nSongs\, books\, rhymes\, and fun group play for our youngest patrons!
URL:https://otsegolibrary.org/event/tiny-tots-34/
CATEGORIES:Preschool
END:VEVENT
BEGIN:VEVENT
DTSTART;TZID=America/Detroit:20230325T100000
DTEND;TZID=America/Detroit:20230325T100000
DTSTAMP:20260419T220149
CREATED:20221222T221837Z
LAST-MODIFIED:20230320T191932Z
UID:7910-1679738400-1679738400@otsegolibrary.org
SUMMARY:Kidding Around Yoga
DESCRIPTION:Presented by Kaitlyn Klug of River Bend Yoga\nFor Children and their Parents \nSaturday\, March 25 at 10 AM \nThis class is child-centered to help improve focus\, memory\, self-esteem\, along with reducing anxiety and stress. Yoga poses for kids are a lot like yoga for adults\, but more fun as we incorporate large motor skills like dancing and playing. \nThe parent’s participation is key to the success of the class as it benefits the kids to see their parents playing and having fun. Sing\, dance\, and play along with your little ones for a wonderful bonding opportunity for the whole family! \nPlease bring your own yoga mats if you have them.
URL:https://otsegolibrary.org/event/kidding-around-yoga/
CATEGORIES:Family
END:VEVENT
BEGIN:VEVENT
DTSTART;TZID=America/Detroit:20230323T160000
DTEND;TZID=America/Detroit:20230323T160000
DTSTAMP:20260419T220149
CREATED:20221222T210700Z
LAST-MODIFIED:20221222T210700Z
UID:7742-1679587200-1679587200@otsegolibrary.org
SUMMARY:Sweet & Salty Book Club
DESCRIPTION:Thursday\, February 23 – May 25 4th\nThursday at 4 PM \nEach month we’ll discuss what we are reading over snacks! Choose the book you want to read and share with the group. \nNeed an fun book suggestion? Ask a staff member about new and popular book titles!
URL:https://otsegolibrary.org/event/sweet-salty-book-club-9/
CATEGORIES:Teen/Tween
END:VEVENT
BEGIN:VEVENT
DTSTART;TZID=America/Detroit:20230323T100000
DTEND;TZID=America/Detroit:20230323T100000
DTSTAMP:20260419T220149
CREATED:20221222T215752Z
LAST-MODIFIED:20221222T220139Z
UID:7844-1679565600-1679565600@otsegolibrary.org
SUMMARY:Storytime
DESCRIPTION:Thursdays at 10 AM\nFebruary 2 – May 11 (No meeting on April 6)\nAges 0 – 5 \nEach week will have a new theme while we read stories\, sing songs\, and make a themed craft!
URL:https://otsegolibrary.org/event/storytime-33/
CATEGORIES:Preschool
END:VEVENT
BEGIN:VEVENT
DTSTART;TZID=America/Detroit:20230322T130000
DTEND;TZID=America/Detroit:20230322T130000
DTSTAMP:20260419T220149
CREATED:20221222T201258Z
LAST-MODIFIED:20221222T201353Z
UID:7680-1679490000-1679490000@otsegolibrary.org
SUMMARY:Crafting Corner
DESCRIPTION:January – May\n4th Wednesday at 1 PM \nCrafting in community… come create and work on your projects with your friends and neighbors while enjoying a cup of coffee if you like. \nBring along your own projects (that you can do on your lap) and supplies – knitting\, crocheting\, cross-stitching\, coloring\, sketching\, etc. We will gather on the comfortable chairs in the corner of the library by the fireplace and chat while we create.
URL:https://otsegolibrary.org/event/crafting-corner-7/
CATEGORIES:Adult
END:VEVENT
BEGIN:VEVENT
DTSTART;TZID=America/Detroit:20230322T100000
DTEND;TZID=America/Detroit:20230322T100000
DTSTAMP:20260419T220149
CREATED:20221222T214907Z
LAST-MODIFIED:20221222T220105Z
UID:7816-1679479200-1679479200@otsegolibrary.org
SUMMARY:Music & Movement
DESCRIPTION:Wednesdays at 10 AM\nFebruary 1 – May 10 (No meeting on April 5)\nAges 0-5 \nJoin us for a wild adventure each week while we sing\, dance\, move\, and experience sensory play!
URL:https://otsegolibrary.org/event/music-and-movement-4/
CATEGORIES:Preschool
END:VEVENT
BEGIN:VEVENT
DTSTART;TZID=America/Detroit:20230321T160000
DTEND;TZID=America/Detroit:20230321T160000
DTSTAMP:20260419T220149
CREATED:20221222T221000Z
LAST-MODIFIED:20221222T221000Z
UID:7890-1679414400-1679414400@otsegolibrary.org
SUMMARY:STEAM
DESCRIPTION:Tuesdays at 4 PM\nJanuary 31 – May 9 (No meetup on April 4)\nFor Kindergarten – 5th Grade \nDrop in each week and choose one or several stations to investigate and discover new STEAM (Science\, Technology\, Engineering\, Art and Math) concepts.
URL:https://otsegolibrary.org/event/steam-21/
CATEGORIES:Children
END:VEVENT
BEGIN:VEVENT
DTSTART;TZID=America/Detroit:20230321T100000
DTEND;TZID=America/Detroit:20230321T100000
DTSTAMP:20260419T220149
CREATED:20221222T213540Z
LAST-MODIFIED:20221222T213540Z
UID:7781-1679392800-1679392800@otsegolibrary.org
SUMMARY:Tiny Tots
DESCRIPTION:Tuesdays at 10 AM\nJanuary 31 – May 9 (No meeting on April 4)\nAges 0 – 24 months \nSongs\, books\, rhymes\, and fun group play for our youngest patrons!
URL:https://otsegolibrary.org/event/tiny-tots-33/
CATEGORIES:Preschool
END:VEVENT
BEGIN:VEVENT
DTSTART;TZID=America/Detroit:20230317T170000
DTEND;TZID=America/Detroit:20230317T170000
DTSTAMP:20260419T220149
CREATED:20221222T200324Z
LAST-MODIFIED:20221222T200324Z
UID:7670-1679072400-1679072400@otsegolibrary.org
SUMMARY:Social Scene
DESCRIPTION:Adults – Post High School through Mid-30s\nFebruary – May\n3rd Friday at 5 PM \nTired of trying to find something to do with other adults your age? Gather with other young adults for games\, activities and social time! Light snacks and refreshments will be provided.
URL:https://otsegolibrary.org/event/social-scene-2/
CATEGORIES:Adult
END:VEVENT
BEGIN:VEVENT
DTSTART;TZID=America/Detroit:20230317T100000
DTEND;TZID=America/Detroit:20230317T100000
DTSTAMP:20260419T220149
CREATED:20221222T195950Z
LAST-MODIFIED:20221222T200022Z
UID:7662-1679047200-1679047200@otsegolibrary.org
SUMMARY:Coffee and Conversations
DESCRIPTION:January – May\n3rd Friday at 10 AM \nLet’s build community by sharing coffee and conversations!\nCoffee and light refreshments (provided by the Friends of the Library) will be ready for you to enjoy at the library while we discuss current topics or anything else you would like to discuss.
URL:https://otsegolibrary.org/event/coffee-and-conversations-4/
CATEGORIES:Adult
END:VEVENT
END:VCALENDAR