BEGIN:VCALENDAR
VERSION:2.0
PRODID:-//Otsego District Public Library - ECPv6.15.20//NONSGML v1.0//EN
CALSCALE:GREGORIAN
METHOD:PUBLISH
X-WR-CALNAME:Otsego District Public Library
X-ORIGINAL-URL:https://otsegolibrary.org
X-WR-CALDESC:Events for Otsego District Public Library
REFRESH-INTERVAL;VALUE=DURATION:PT1H
X-Robots-Tag:noindex
X-PUBLISHED-TTL:PT1H
BEGIN:VTIMEZONE
TZID:America/Detroit
BEGIN:DAYLIGHT
TZOFFSETFROM:-0500
TZOFFSETTO:-0400
TZNAME:EDT
DTSTART:20210314T070000
END:DAYLIGHT
BEGIN:STANDARD
TZOFFSETFROM:-0400
TZOFFSETTO:-0500
TZNAME:EST
DTSTART:20211107T060000
END:STANDARD
BEGIN:DAYLIGHT
TZOFFSETFROM:-0500
TZOFFSETTO:-0400
TZNAME:EDT
DTSTART:20220313T070000
END:DAYLIGHT
BEGIN:STANDARD
TZOFFSETFROM:-0400
TZOFFSETTO:-0500
TZNAME:EST
DTSTART:20221106T060000
END:STANDARD
BEGIN:DAYLIGHT
TZOFFSETFROM:-0500
TZOFFSETTO:-0400
TZNAME:EDT
DTSTART:20230312T070000
END:DAYLIGHT
BEGIN:STANDARD
TZOFFSETFROM:-0400
TZOFFSETTO:-0500
TZNAME:EST
DTSTART:20231105T060000
END:STANDARD
END:VTIMEZONE
BEGIN:VEVENT
DTSTART;TZID=America/Detroit:20220713T180000
DTEND;TZID=America/Detroit:20220713T180000
DTSTAMP:20260422T225641
CREATED:20220705T200100Z
LAST-MODIFIED:20220706T160421Z
UID:7006-1657735200-1657735200@otsegolibrary.org
SUMMARY:Non-Fiction Book Club
DESCRIPTION:Meets on the 2nd Wednesday at 6 PM – Newcomers are always welcome! \nJuly 13 Satch\, Dizzy\, & Rapid Robert by Timothy M. Gay \nAugust 10 The Escape Artists by Neal Bascomb \nSeptember 14 The Dynasty by Jeff Benedict \nOctober 12 The Cast Ridge by McKay Jenkins \nNovember 9 The Bully Pulpit by Doris Kearns \nDecember 14 Read A Book of Your Choice  \nJanuary 11 The Nine by Jeffrey Toobin
URL:https://otsegolibrary.org/event/non-fiction-book-club-5/
CATEGORIES:Book Club
END:VEVENT
BEGIN:VEVENT
DTSTART;TZID=America/Detroit:20220713T100000
DTEND;TZID=America/Detroit:20220713T100000
DTSTAMP:20260422T225641
CREATED:20220608T192614Z
LAST-MODIFIED:20220608T192614Z
UID:6786-1657706400-1657706400@otsegolibrary.org
SUMMARY:Splishy\, Splashy\, Stories & Songs
DESCRIPTION:June 22 – July 27\nWednesdays at 10 AM \nGet ready to make waves as we sing\, dance\, read stories\, play\, and create! It’s going to be splishy\, splashy fun!\nAges 0 – 5
URL:https://otsegolibrary.org/event/splishy-splashy-stories-songs-3/
CATEGORIES:Preschool
END:VEVENT
BEGIN:VEVENT
DTSTART;TZID=America/Detroit:20220712T140000
DTEND;TZID=America/Detroit:20220712T140000
DTSTAMP:20260422T225641
CREATED:20220615T172903Z
LAST-MODIFIED:20220615T172918Z
UID:6849-1657634400-1657634400@otsegolibrary.org
SUMMARY:Chalk Pastel Jellyfish
DESCRIPTION:Use chalk and oil pastels to create beautiful jellyfish art! \nThis event is for middle school and high school aged teens/tweens. No registration required – all are welcome.
URL:https://otsegolibrary.org/event/chalk-pastel-jellyfish/
CATEGORIES:Teen/Tween
END:VEVENT
BEGIN:VEVENT
DTSTART;TZID=America/Detroit:20220712T100000
DTEND;TZID=America/Detroit:20220712T100000
DTSTAMP:20260422T225641
CREATED:20220608T190131Z
LAST-MODIFIED:20220608T191944Z
UID:6762-1657620000-1657620000@otsegolibrary.org
SUMMARY:Shark Attack Party
DESCRIPTION:Join us for a jaw-some time and celebrate shark week with shark games\, activities\, crafts\, and snacks!
URL:https://otsegolibrary.org/event/shark-attack-party/
CATEGORIES:Children
END:VEVENT
BEGIN:VEVENT
DTSTART;TZID=America/Detroit:20220711T140000
DTEND;TZID=America/Detroit:20220711T140000
DTSTAMP:20260422T225641
CREATED:20220511T143748Z
LAST-MODIFIED:20220515T125648Z
UID:6517-1657548000-1657548000@otsegolibrary.org
SUMMARY:2nd Monday Book Club
DESCRIPTION:The 2nd Monday book club meets on the 2nd Monday of each month at 2 PM\nNewcomers are always welcome and encouraged to attend! \nJanuary 10 – Crazy Rich Asians by Kevin Kwan\nFebruary 14 – Girl Waits with Gun by Amy Stewart\nMarch 14 – The Weight of Ink by Rachael Kadish\nApril 11 – Salt to the Sea by Ruta Sepetys\nMay 9 – Tangerine by Christina Mangan\nJune 13 – All the Light We Cannot See by Anthony Doerr\nJuly 11 – The Husband’s Secret by Liane Moriarty\nAugust 8 – Educated by Tara Westover
URL:https://otsegolibrary.org/event/2nd-monday-book-club-7/
CATEGORIES:Book Club
END:VEVENT
BEGIN:VEVENT
DTSTART;TZID=America/Detroit:20220711T100000
DTEND;TZID=America/Detroit:20220711T100000
DTSTAMP:20260422T225641
CREATED:20220608T191332Z
LAST-MODIFIED:20220608T191332Z
UID:6776-1657533600-1657533600@otsegolibrary.org
SUMMARY:Splash & Bubbles Tiny Tots
DESCRIPTION:June 20 – July 25\n(No meeting on July 4) \nMondays at 10 AM \n0-24 Months \nSing\, read\, and play with other ocean friends.
URL:https://otsegolibrary.org/event/splash-bubbles-tiny-tots-3/
CATEGORIES:Preschool
END:VEVENT
BEGIN:VEVENT
DTSTART;VALUE=DATE:20220711
DTEND;VALUE=DATE:20220712
DTSTAMP:20260422T225641
CREATED:20220511T191013Z
LAST-MODIFIED:20220511T191013Z
UID:6685-1657497600-1657583999@otsegolibrary.org
SUMMARY:Overstock Book Sale
DESCRIPTION:The Overstock Book Sale takes place during library hours: 9 AM – 6 PM. \nPrices:\nAdult books – 3/$1 and Kids books – 4/$1 \nWho doesn’t like book bargains?! \nThe Friends of the Library are holding an Overstock Book Sale every few months during library hours. Books will be on sale for 3/$1 in front of the bookstore. (We might even have some special deals that day!) Grab your book bags and stock up for birthdays\, holidays\, and your own bookshelf! \nShelves inside the bookstore will be restocked with new titles after each sale.
URL:https://otsegolibrary.org/event/overstock-book-sale-2/
CATEGORIES:Friends of the Library
END:VEVENT
BEGIN:VEVENT
DTSTART;TZID=America/Detroit:20220707T140000
DTEND;TZID=America/Detroit:20220707T140000
DTSTAMP:20260422T225641
CREATED:20220615T173618Z
LAST-MODIFIED:20220615T173618Z
UID:6860-1657202400-1657202400@otsegolibrary.org
SUMMARY:Teen Scene
DESCRIPTION:Hang out and we play games\, eat snacks\, and create lasting memories. We will be featuring several Nintendo Switch consoles and awesome new tabletop games. \nThis event is for middle school and high school aged teens/tweens. No registration required – all are welcome.
URL:https://otsegolibrary.org/event/teen-scene-2/
CATEGORIES:Teen/Tween
END:VEVENT
BEGIN:VEVENT
DTSTART;TZID=America/Detroit:20220707T100000
DTEND;TZID=America/Detroit:20220707T100000
DTSTAMP:20260422T225641
CREATED:20220608T193750Z
LAST-MODIFIED:20220608T193750Z
UID:6799-1657188000-1657188000@otsegolibrary.org
SUMMARY:Ocean Life Discovery
DESCRIPTION:June 23 – July 28\nThursdays from 10 AM – NOON\nPreschool – 5th Grade \nDrop in and explore sea life through interactive stations including art\, sensory\, science\, and more!
URL:https://otsegolibrary.org/event/ocean-life-discovery-2/
CATEGORIES:Children
END:VEVENT
BEGIN:VEVENT
DTSTART;TZID=America/Detroit:20220706T100000
DTEND;TZID=America/Detroit:20220706T100000
DTSTAMP:20260422T225641
CREATED:20220608T193203Z
LAST-MODIFIED:20220608T193203Z
UID:6788-1657101600-1657101600@otsegolibrary.org
SUMMARY:Splishie\, Splashie\, Stories & Songs
DESCRIPTION:June 22 – July 27\nWednesdays at 10 AM \nGet ready to make waves as we sing\, dance\, read stories\, play\, and create! It’s going to be splishy\, splashy fun!\nAges 0 – 5
URL:https://otsegolibrary.org/event/splishie-splashie-stories-songs/
CATEGORIES:Preschool
END:VEVENT
BEGIN:VEVENT
DTSTART;TZID=America/Detroit:20220705T140000
DTEND;TZID=America/Detroit:20220705T140000
DTSTAMP:20260422T225641
CREATED:20220615T172801Z
LAST-MODIFIED:20220615T172801Z
UID:6847-1657029600-1657029600@otsegolibrary.org
SUMMARY:Sun & Moon Shell Painting
DESCRIPTION:Paint Sun & Moon Shells with us – These flat shells are perfect for painting! \nThis event is for middle school and high school aged teens/tweens. No registration required – all are welcome.
URL:https://otsegolibrary.org/event/sun-moon-shell-painting/
CATEGORIES:Teen/Tween
END:VEVENT
BEGIN:VEVENT
DTSTART;TZID=America/Detroit:20220705T100000
DTEND;TZID=America/Detroit:20220705T100000
DTSTAMP:20260422T225641
CREATED:20220608T190058Z
LAST-MODIFIED:20220608T192001Z
UID:6760-1657015200-1657015200@otsegolibrary.org
SUMMARY:Finding Nemo Movie
DESCRIPTION:Watch this fintastic Disney movie while you munch on popcorn!
URL:https://otsegolibrary.org/event/finding-nemo-movie/
CATEGORIES:Children
END:VEVENT
BEGIN:VEVENT
DTSTART;VALUE=DATE:20220704
DTEND;VALUE=DATE:20220705
DTSTAMP:20260422T225641
CREATED:20220511T191923Z
LAST-MODIFIED:20220511T191923Z
UID:6698-1656892800-1656979199@otsegolibrary.org
SUMMARY:LIBRARY CLOSED
DESCRIPTION:The library will be closed for the Independence Day holiday weekend. \nHave a safe and happy holiday with your family and friends!
URL:https://otsegolibrary.org/event/library-closed-3/
CATEGORIES:Notice/Closing
END:VEVENT
BEGIN:VEVENT
DTSTART;VALUE=DATE:20220701
DTEND;VALUE=DATE:20220801
DTSTAMP:20260422T225641
CREATED:20220608T190527Z
LAST-MODIFIED:20220608T192712Z
UID:6768-1656633600-1659311999@otsegolibrary.org
SUMMARY:Finding Nemo & Friends - Otsego Main Street & Downtown Otsego Business
DESCRIPTION:The library has partnered with Otsego Main Street and the downtown Otsego area to give you an interactive activity. During the whole month of July\, downtown area businesses and local community centers will have characters from the Disney movies Finding Nemo and Dory. \nPick up a list at the library to find different ocean friends in and around the downtown area. Once you find all of the ocean friends\, return your completed sheet to the library for a special prize!
URL:https://otsegolibrary.org/event/finding-nemo-friends-otsego-main-street-downtown-otsego-business/
CATEGORIES:Family
END:VEVENT
BEGIN:VEVENT
DTSTART;TZID=America/Detroit:20220630T140000
DTEND;TZID=America/Detroit:20220630T140000
DTSTAMP:20260422T225641
CREATED:20220615T173510Z
LAST-MODIFIED:20220615T173510Z
UID:6858-1656597600-1656597600@otsegolibrary.org
SUMMARY:Sweet & Salty Book Club
DESCRIPTION:Books can be sweet… and some characters are salty! \nLet’s get together to discuss what we are reading with sweet and salty snacks! Not everyone likes to read the same book\, so choose the book you want to read and share with the group – your  books\, your choice! Ask a staff member about new and popular book titles in the young adult\, juvenile\, and graphic novel sections! \nThis event is for middle school and high school aged teens/tweens. No registration required – all are welcome.
URL:https://otsegolibrary.org/event/sweet-salty-book-club-5/
CATEGORIES:Teen/Tween
END:VEVENT
BEGIN:VEVENT
DTSTART;TZID=America/Detroit:20220630T100000
DTEND;TZID=America/Detroit:20220630T100000
DTSTAMP:20260422T225641
CREATED:20220608T193700Z
LAST-MODIFIED:20220608T193718Z
UID:6796-1656583200-1656583200@otsegolibrary.org
SUMMARY:Ocean Life Discovery
DESCRIPTION:June 23 – July 28\nThursdays from 10 AM – NOON\nPreschool – 5th Grade \nDrop in and explore sea life through interactive stations including art\, sensory\, science\, and more!
URL:https://otsegolibrary.org/event/6796/
CATEGORIES:Children
END:VEVENT
BEGIN:VEVENT
DTSTART;TZID=America/Detroit:20220629T100000
DTEND;TZID=America/Detroit:20220629T100000
DTSTAMP:20260422T225641
CREATED:20220608T191817Z
LAST-MODIFIED:20220608T191817Z
UID:6784-1656496800-1656496800@otsegolibrary.org
SUMMARY:Splishy\, Splashy\, Stories & Songs
DESCRIPTION:June 22 – July 27\nWednesdays at 10 AM \nGet ready to make waves as we sing\, dance\, read stories\, play\, and create! It’s going to be splishy\, splashy fun!\nAges 0 – 5
URL:https://otsegolibrary.org/event/splishy-splashy-stories-songs-2/
CATEGORIES:Preschool
END:VEVENT
BEGIN:VEVENT
DTSTART;TZID=America/Detroit:20220628T140000
DTEND;TZID=America/Detroit:20220628T140000
DTSTAMP:20260422T225641
CREATED:20220615T172602Z
LAST-MODIFIED:20220615T172622Z
UID:6845-1656424800-1656424800@otsegolibrary.org
SUMMARY:Barnacle Bracelets
DESCRIPTION:Make a fun ocean themed bracelet out of tiny beads! \nThis event is for middle school and high school aged teens/tweens. No registration required – all are welcome.
URL:https://otsegolibrary.org/event/barnacle-bracelets/
CATEGORIES:Teen/Tween
END:VEVENT
BEGIN:VEVENT
DTSTART;TZID=America/Detroit:20220628T100000
DTEND;TZID=America/Detroit:20220628T100000
DTSTAMP:20260422T225641
CREATED:20220608T190015Z
LAST-MODIFIED:20220628T010616Z
UID:6758-1656410400-1656410400@otsegolibrary.org
SUMMARY:Mermaid Luau Party
DESCRIPTION:Put on your mermaid tails (dress up) to celebrate these creatures of the sea with a fun-filled luau event. Get your own special mermaid name\, make a flower lei\, and enjoy mermaid-tastic activities!
URL:https://otsegolibrary.org/event/mermaid-luau-party/
CATEGORIES:Children
END:VEVENT
BEGIN:VEVENT
DTSTART;TZID=America/Detroit:20220627T100000
DTEND;TZID=America/Detroit:20220627T100000
DTSTAMP:20260422T225641
CREATED:20220608T191246Z
LAST-MODIFIED:20220608T191246Z
UID:6774-1656324000-1656324000@otsegolibrary.org
SUMMARY:Splash & Bubbles Tiny Tots
DESCRIPTION:June 20 – July 25\n(No meeting on July 4) \nMondays at 10 AM \n0-24 Months \nSing\, read\, and play with other ocean friends.
URL:https://otsegolibrary.org/event/splash-bubbles-tiny-tots-2/
CATEGORIES:Preschool
END:VEVENT
BEGIN:VEVENT
DTSTART;TZID=America/Detroit:20220623T140000
DTEND;TZID=America/Detroit:20220623T140000
DTSTAMP:20260422T225641
CREATED:20220615T173345Z
LAST-MODIFIED:20220615T173345Z
UID:6856-1655992800-1655992800@otsegolibrary.org
SUMMARY:Beach Party
DESCRIPTION:Come to a fun beach party at the library! Play games\, eat snacks\, and have a great time! \nThis event is for middle school and high school aged teens/tweens. No registration required – all are welcome.
URL:https://otsegolibrary.org/event/beach-party/
CATEGORIES:Teen/Tween
END:VEVENT
BEGIN:VEVENT
DTSTART;TZID=America/Detroit:20220623T100000
DTEND;TZID=America/Detroit:20220623T100000
DTSTAMP:20260422T225641
CREATED:20220608T193611Z
LAST-MODIFIED:20220608T193644Z
UID:6794-1655978400-1655978400@otsegolibrary.org
SUMMARY:Ocean Life Discovery
DESCRIPTION:June 23 – July 28\nThursdays from 10 AM – NOON\nPreschool – 5th Grade \nDrop in and explore sea life through interactive stations including art\, sensory\, science\, and more!
URL:https://otsegolibrary.org/event/ocean-life-discovery/
CATEGORIES:Children
END:VEVENT
BEGIN:VEVENT
DTSTART;TZID=America/Detroit:20220622T100000
DTEND;TZID=America/Detroit:20220622T100000
DTSTAMP:20260422T225641
CREATED:20220608T191719Z
LAST-MODIFIED:20220608T191719Z
UID:6782-1655892000-1655892000@otsegolibrary.org
SUMMARY:Splishy\, Splashy\, Stories & Songs
DESCRIPTION:June 22 – July 27\nWednesdays at 10 AM \nGet ready to make waves as we sing\, dance\, read stories\, play\, and create! It’s going to be splishy\, splashy fun!\nAges 0 – 5
URL:https://otsegolibrary.org/event/splishy-splashy-stories-songs/
CATEGORIES:Preschool
END:VEVENT
BEGIN:VEVENT
DTSTART;TZID=America/Detroit:20220621T140000
DTEND;TZID=America/Detroit:20220621T140000
DTSTAMP:20260422T225641
CREATED:20220615T172528Z
LAST-MODIFIED:20220615T172528Z
UID:6843-1655820000-1655820000@otsegolibrary.org
SUMMARY:Whale Watercolor
DESCRIPTION:Create a fun whale watercolor painting . \nThis event is for middle school and high school aged teens/tweens. No registration required – all are welcome.
URL:https://otsegolibrary.org/event/whale-watercolor/
CATEGORIES:Teen/Tween
END:VEVENT
BEGIN:VEVENT
DTSTART;TZID=America/Detroit:20220621T100000
DTEND;TZID=America/Detroit:20220621T100000
DTSTAMP:20260422T225641
CREATED:20220608T185934Z
LAST-MODIFIED:20220608T192707Z
UID:6756-1655805600-1655805600@otsegolibrary.org
SUMMARY:Jim Merrill’s Ocean Adventures
DESCRIPTION:ALL ages! \nThis fun-filled family program will introduce you to snorkeling/diving\, with hands-on gear\, a collection of sea shells\, photos of Mr. Jim’s favorite water creatures\, and MAGIC of course!
URL:https://otsegolibrary.org/event/jim-merrills-ocean-adventures/
CATEGORIES:Children
END:VEVENT
BEGIN:VEVENT
DTSTART;TZID=America/Detroit:20220620T100000
DTEND;TZID=America/Detroit:20220620T100000
DTSTAMP:20260422T225641
CREATED:20220608T191136Z
LAST-MODIFIED:20220608T191209Z
UID:6772-1655719200-1655719200@otsegolibrary.org
SUMMARY:Splash & Bubbles Tiny Tots
DESCRIPTION:June 20 – July 25\n(No meeting on July 4) \nMondays at 10 AM \n0-24 Months \nSing\, read\, and play with other ocean friends.
URL:https://otsegolibrary.org/event/splash-bubbles-tiny-tots/
CATEGORIES:Preschool
END:VEVENT
BEGIN:VEVENT
DTSTART;TZID=America/Detroit:20220618T100000
DTEND;TZID=America/Detroit:20220618T120000
DTSTAMP:20260422T225641
CREATED:20220608T185827Z
LAST-MODIFIED:20220614T195048Z
UID:6754-1655546400-1655553600@otsegolibrary.org
SUMMARY:Outstanding Ocean Kick-Off Party
DESCRIPTION:The event will be outdoors (if possible) and will include fun water activities\, games\, and snacks. \nThe fire department will have a presentation from 10:30 – 11:30 AM.
URL:https://otsegolibrary.org/event/outstanding-ocean-kick-off/
END:VEVENT
BEGIN:VEVENT
DTSTART;TZID=America/Detroit:20220615T180000
DTEND;TZID=America/Detroit:20220615T180000
DTSTAMP:20260422T225641
CREATED:20220511T193701Z
LAST-MODIFIED:20220526T192728Z
UID:6704-1655316000-1655316000@otsegolibrary.org
SUMMARY:Library Board Meeting
DESCRIPTION:The Library Board of Trustees meets on a monthly basis to discuss library business and housekeeping. Meetings are open to the public and include a period of time for patrons to discuss comments and concerns. \n\nThese meetings are held once a month on Wednesdays at 6:00 PM. The board meetings are tentative and could be subject to change at any time. Keep an eye out for deviations in scheduled dates/times of these meetings.
URL:https://otsegolibrary.org/event/library-board-meeting/
CATEGORIES:Library Board
END:VEVENT
BEGIN:VEVENT
DTSTART;TZID=America/Detroit:20220613T140000
DTEND;TZID=America/Detroit:20220613T140000
DTSTAMP:20260422T225641
CREATED:20220511T143651Z
LAST-MODIFIED:20220515T125552Z
UID:6515-1655128800-1655128800@otsegolibrary.org
SUMMARY:2nd Monday Book Club
DESCRIPTION:The 2nd Monday book club meets on the 2nd Monday of each month at 2 PM\nNewcomers are always welcome and encouraged to attend! \nJanuary 10 – Crazy Rich Asians by Kevin Kwan\nFebruary 14 – Girl Waits with Gun by Amy Stewart\nMarch 14 – The Weight of Ink by Rachael Kadish\nApril 11 – Salt to the Sea by Ruta Sepetys\nMay 9 – Tangerine by Christina Mangan\nJune 13 – All the Light We Cannot See by Anthony Doerr\nJuly 11 – The Husband’s Secret by Liane Moriarty\nAugust 8 – Educated by Tara Westover
URL:https://otsegolibrary.org/event/2nd-monday-book-club-6/
CATEGORIES:Book Club
END:VEVENT
BEGIN:VEVENT
DTSTART;TZID=America/Detroit:20220609T151500
DTEND;TZID=America/Detroit:20220609T151500
DTSTAMP:20260422T225641
CREATED:20220526T193052Z
LAST-MODIFIED:20220526T193135Z
UID:6729-1654787700-1654787700@otsegolibrary.org
SUMMARY:Budget Committee Meeting
DESCRIPTION:The June budget committee meeting has been moved to Thursday\, June 9 at 3:15 PM\, to to availability of committee members. \nMeetings are open to the public and include a period of time for patrons to discuss comments and concerns.
URL:https://otsegolibrary.org/event/budget-committee-meeting/
CATEGORIES:Library Board
END:VEVENT
END:VCALENDAR