BEGIN:VCALENDAR
VERSION:2.0
PRODID:-//Otsego District Public Library - ECPv6.15.20//NONSGML v1.0//EN
CALSCALE:GREGORIAN
METHOD:PUBLISH
X-WR-CALNAME:Otsego District Public Library
X-ORIGINAL-URL:https://otsegolibrary.org
X-WR-CALDESC:Events for Otsego District Public Library
REFRESH-INTERVAL;VALUE=DURATION:PT1H
X-Robots-Tag:noindex
X-PUBLISHED-TTL:PT1H
BEGIN:VTIMEZONE
TZID:America/Detroit
BEGIN:DAYLIGHT
TZOFFSETFROM:-0500
TZOFFSETTO:-0400
TZNAME:EDT
DTSTART:20220313T070000
END:DAYLIGHT
BEGIN:STANDARD
TZOFFSETFROM:-0400
TZOFFSETTO:-0500
TZNAME:EST
DTSTART:20221106T060000
END:STANDARD
BEGIN:DAYLIGHT
TZOFFSETFROM:-0500
TZOFFSETTO:-0400
TZNAME:EDT
DTSTART:20230312T070000
END:DAYLIGHT
BEGIN:STANDARD
TZOFFSETFROM:-0400
TZOFFSETTO:-0500
TZNAME:EST
DTSTART:20231105T060000
END:STANDARD
BEGIN:DAYLIGHT
TZOFFSETFROM:-0500
TZOFFSETTO:-0400
TZNAME:EDT
DTSTART:20240310T070000
END:DAYLIGHT
BEGIN:STANDARD
TZOFFSETFROM:-0400
TZOFFSETTO:-0500
TZNAME:EST
DTSTART:20241103T060000
END:STANDARD
END:VTIMEZONE
BEGIN:VEVENT
DTSTART;TZID=America/Detroit:20230710T100000
DTEND;TZID=America/Detroit:20230710T100000
DTSTAMP:20260419T190129
CREATED:20230519T145141Z
LAST-MODIFIED:20230519T145141Z
UID:8265-1688983200-1688983200@otsegolibrary.org
SUMMARY:Sweet Tots
DESCRIPTION:Ages 0-24 months \nMondays\, June 19 – July 24 at 10 AM\n(No meeting on July 3) \nEnjoy super sweet songs\, a story\, and playtime with your friends.
URL:https://otsegolibrary.org/event/sweet-tots-3/
END:VEVENT
BEGIN:VEVENT
DTSTART;TZID=America/Detroit:20230706T140000
DTEND;TZID=America/Detroit:20230706T140000
DTSTAMP:20260419T190129
CREATED:20230519T153221Z
LAST-MODIFIED:20230519T153612Z
UID:8328-1688652000-1688652000@otsegolibrary.org
SUMMARY:Candy Jewelry\, Magnets\, and Bookmarks (Teen/Tween)
DESCRIPTION:hursday\, July 6 @ 2 PM \nMake one of a kind candy inspired art that looks so good you’ll want to eat it! \nThis event is for middle school and high school aged teens/tweens.
URL:https://otsegolibrary.org/event/candy-jewelry-magnets-and-bookmarks/
END:VEVENT
BEGIN:VEVENT
DTSTART;TZID=America/Detroit:20230706T100000
DTEND;TZID=America/Detroit:20230706T120000
DTSTAMP:20260419T190129
CREATED:20230519T150856Z
LAST-MODIFIED:20230519T150856Z
UID:8299-1688637600-1688644800@otsegolibrary.org
SUMMARY:Sizzling Summer Stations
DESCRIPTION:June 22 – July 27\nThursdays from 10 AM – Noon\nPreschool through 5th Grade \nDrop in for fun summer stations including crafts\, games and activities all based around sweet treats!
URL:https://otsegolibrary.org/event/sizzling-summer-stations-3/
END:VEVENT
BEGIN:VEVENT
DTSTART;TZID=America/Detroit:20230705T100000
DTEND;TZID=America/Detroit:20230705T100000
DTSTAMP:20260419T190129
CREATED:20230519T150528Z
LAST-MODIFIED:20230519T150528Z
UID:8287-1688551200-1688551200@otsegolibrary.org
SUMMARY:Sweet Silly Songs
DESCRIPTION:June 21 – July 26\nWednesdays at 10 AM\nAges 0-5 \nSongs\, stories\, sensory\, and silly activities all focusing on your favorite treats!
URL:https://otsegolibrary.org/event/sweet-silly-songs-3/
END:VEVENT
BEGIN:VEVENT
DTSTART;VALUE=DATE:20230703
DTEND;VALUE=DATE:20230705
DTSTAMP:20260419T190129
CREATED:20221110T194513Z
LAST-MODIFIED:20221110T200022Z
UID:7571-1688342400-1688515199@otsegolibrary.org
SUMMARY:LIBRARY CLOSED
DESCRIPTION:The library will be closed for the holiday. \nCLOSED:\nIndependence Day\nMonday\, July 3 – Tuesday\, July 4 \nHave a safe and happy holiday with your family and friends!
URL:https://otsegolibrary.org/event/library-closed-12/
CATEGORIES:Notice/Closing
END:VEVENT
BEGIN:VEVENT
DTSTART;VALUE=DATE:20230701
DTEND;VALUE=DATE:20230801
DTSTAMP:20260419T190129
CREATED:20230519T151341Z
LAST-MODIFIED:20230519T151341Z
UID:8307-1688169600-1690847999@otsegolibrary.org
SUMMARY:SWEET FINDS
DESCRIPTION:The library has partnered with the downtown Otsego area to give you an interactive activity. \nDuring the whole month of July\, downtown area businesses and local community centers will have pictures of sweet treats for you to find. \nPick up a list at the library to find different treats in and around the downtown area. Once you find all of the treats\, return your completed sheet to the library for a special sweet prize!
URL:https://otsegolibrary.org/event/sweet-finds/
END:VEVENT
BEGIN:VEVENT
DTSTART;TZID=America/Detroit:20230629T140000
DTEND;TZID=America/Detroit:20230629T140000
DTSTAMP:20260419T190129
CREATED:20230519T153133Z
LAST-MODIFIED:20230519T153615Z
UID:8326-1688047200-1688047200@otsegolibrary.org
SUMMARY:Popsicle Stick Dreamcatcher (Teen/Tween)
DESCRIPTION:Design your own beautiful dreamcatcher out of simple art supplies. \nThis event is for middle school and high school aged teens/tweens.
URL:https://otsegolibrary.org/event/popsicle-stick-dreamcatcher/
END:VEVENT
BEGIN:VEVENT
DTSTART;TZID=America/Detroit:20230629T100000
DTEND;TZID=America/Detroit:20230629T120000
DTSTAMP:20260419T190129
CREATED:20230519T150829Z
LAST-MODIFIED:20230519T150829Z
UID:8297-1688032800-1688040000@otsegolibrary.org
SUMMARY:Sizzling Summer Stations
DESCRIPTION:June 22 – July 27\nThursdays from 10 AM – Noon\nPreschool through 5th Grade \nDrop in for fun summer stations including crafts\, games and activities all based around sweet treats!
URL:https://otsegolibrary.org/event/sizzling-summer-stations-2/
END:VEVENT
BEGIN:VEVENT
DTSTART;TZID=America/Detroit:20230628T173000
DTEND;TZID=America/Detroit:20230628T173000
DTSTAMP:20260419T190129
CREATED:20221110T193037Z
LAST-MODIFIED:20230614T205127Z
UID:7544-1687973400-1687973400@otsegolibrary.org
SUMMARY:Library Board Meeting
DESCRIPTION:The Library Board of Trustees meets on a monthly basis to discuss library business and housekeeping. Meetings are open to the public and include a period of time for patrons to discuss comments and concerns. \nTHE BUDGET  MEETING HAS BEEN RESCHEDULED TO WEDNESDAY\, JUNE 28 AT 4:30 PM \nTHE LIBRARY BOARD MEETING HAS BEEN RESCHEDULED TO WEDNESDAY\, JUNE 28 AT 5:30 PM \n\nThese meetings are held once a month on Wednesdays at 5:30 PM. The board meetings are tentative and could be subject to change at any time. Keep an eye out for deviations in scheduled dates/times of these meetings.
URL:https://otsegolibrary.org/event/library-board-meeting-12/
CATEGORIES:Library Board
END:VEVENT
BEGIN:VEVENT
DTSTART;TZID=America/Detroit:20230628T100000
DTEND;TZID=America/Detroit:20230628T100000
DTSTAMP:20260419T190129
CREATED:20230519T150500Z
LAST-MODIFIED:20230519T150500Z
UID:8285-1687946400-1687946400@otsegolibrary.org
SUMMARY:Sweet Silly Songs
DESCRIPTION:June 21 – July 26\nWednesdays at 10 AM\nAges 0-5 \nSongs\, stories\, sensory\, and silly activities all focusing on your favorite treats!
URL:https://otsegolibrary.org/event/sweet-silly-songs-2/
END:VEVENT
BEGIN:VEVENT
DTSTART;TZID=America/Detroit:20230627T140000
DTEND;TZID=America/Detroit:20230627T140000
DTSTAMP:20260419T190129
CREATED:20230519T151744Z
LAST-MODIFIED:20230519T151819Z
UID:8313-1687874400-1687874400@otsegolibrary.org
SUMMARY:The Sweet Side of Nature (Teen/Tween)
DESCRIPTION:Presented by Kimi Baker with the Kalamazoo Bee Club\nTuesday\, June 27 @ 2 PM \nHoneybees play an important role in the world — from flowers to food — and life would be a lot less sweet without these hard-working insects. Learn why honeybees are so special – Kimi will talk about queens\, workers\, and drones and how each bee plays an important part in keeping the hive buzzing. \nThis event is for middle school and high school aged teens/tweens.
URL:https://otsegolibrary.org/event/the-sweet-side-of-nature-teen-tween/
END:VEVENT
BEGIN:VEVENT
DTSTART;TZID=America/Detroit:20230627T100000
DTEND;TZID=America/Detroit:20230627T100000
DTSTAMP:20260419T190129
CREATED:20230519T145458Z
LAST-MODIFIED:20230519T145458Z
UID:8273-1687860000-1687860000@otsegolibrary.org
SUMMARY:Sweet Side of Nature
DESCRIPTION:Presented by Kimi Baker from the Kalamazoo Bee Club \nHoneybees play an important role in the world — from flowers to food — and life would be a lot less sweet without these hard-working insects. Come hear a sweet story and learn why honeybees are so special! Kimi will also talk about queens\, workers\, and drones and how each bee plays an important part in keeping the hive buzzing. After the presentation\, kids will be able to enjoy some hands-on bee activities.
URL:https://otsegolibrary.org/event/sweet-side-of-nature/
END:VEVENT
BEGIN:VEVENT
DTSTART;TZID=America/Detroit:20230626T100000
DTEND;TZID=America/Detroit:20230626T100000
DTSTAMP:20260419T190129
CREATED:20230519T145111Z
LAST-MODIFIED:20230519T145111Z
UID:8263-1687773600-1687773600@otsegolibrary.org
SUMMARY:Sweet Tots
DESCRIPTION:Ages 0-24 months \nMondays\, June 19 – July 24 at 10 AM\n(No meeting on July 3) \nEnjoy super sweet songs\, a story\, and playtime with your friends.
URL:https://otsegolibrary.org/event/sweet-tots-2/
END:VEVENT
BEGIN:VEVENT
DTSTART;TZID=America/Detroit:20230622T140000
DTEND;TZID=America/Detroit:20230622T140000
DTSTAMP:20260419T190129
CREATED:20230519T153052Z
LAST-MODIFIED:20230519T153052Z
UID:8324-1687442400-1687442400@otsegolibrary.org
SUMMARY:Twizzler Bracelets + Candy Creatures (Teen/Tween)
DESCRIPTION:Create fun and funky sweet creations out of candy! \nThis event is for middle school and high school aged teens/tweens.
URL:https://otsegolibrary.org/event/twizzler-bracelets-candy-creatures-teen-tween/
END:VEVENT
BEGIN:VEVENT
DTSTART;TZID=America/Detroit:20230622T100000
DTEND;TZID=America/Detroit:20230622T120000
DTSTAMP:20260419T190129
CREATED:20230519T150806Z
LAST-MODIFIED:20230519T150806Z
UID:8295-1687428000-1687435200@otsegolibrary.org
SUMMARY:Sizzling Summer Stations
DESCRIPTION:June 22 – July 27\nThursdays from 10 AM – Noon\nPreschool through 5th Grade \nDrop in for fun summer stations including crafts\, games and activities all based around sweet treats!
URL:https://otsegolibrary.org/event/sizzling-summer-stations/
END:VEVENT
BEGIN:VEVENT
DTSTART;TZID=America/Detroit:20230621T100000
DTEND;TZID=America/Detroit:20230621T100000
DTSTAMP:20260419T190129
CREATED:20230519T150436Z
LAST-MODIFIED:20230519T150436Z
UID:8283-1687341600-1687341600@otsegolibrary.org
SUMMARY:Sweet Silly Songs
DESCRIPTION:June 21 – July 26\nWednesdays at 10 AM\nAges 0-5 \nSongs\, stories\, sensory\, and silly activities all focusing on your favorite treats!
URL:https://otsegolibrary.org/event/sweet-silly-songs/
END:VEVENT
BEGIN:VEVENT
DTSTART;TZID=America/Detroit:20230620T140000
DTEND;TZID=America/Detroit:20230620T140000
DTSTAMP:20260419T190129
CREATED:20230519T151650Z
LAST-MODIFIED:20230519T152055Z
UID:8311-1687269600-1687269600@otsegolibrary.org
SUMMARY:Nailed IT – Cupcake Edition (Teen/Tween)
DESCRIPTION:Put your creative skills to the test by recreating a professionally decorated cupcake! Cupcakes are included. \nThis event is for middle school and high school aged teens/tweens.
URL:https://otsegolibrary.org/event/nailed-it-cupcake-edition/
END:VEVENT
BEGIN:VEVENT
DTSTART;TZID=America/Detroit:20230620T100000
DTEND;TZID=America/Detroit:20230620T100000
DTSTAMP:20260419T190129
CREATED:20230519T145403Z
LAST-MODIFIED:20230616T143709Z
UID:8271-1687255200-1687255200@otsegolibrary.org
SUMMARY:Fun with Fruit with the Fresh Fruit Fairy
DESCRIPTION:Drop in any time between 10 AM – Noon to have fun with fruit! \nRide the Fresh Fruit Fairy’s bike blender and use pedal power to blend frozen Michigan grown berries with Michigan apple cider to make and enjoy a delicious frozen fruit slushie. Fruit crafts and activities will also be available.
URL:https://otsegolibrary.org/event/fun-with-fruit-with-the-fresh-fruit-fairy/
END:VEVENT
BEGIN:VEVENT
DTSTART;TZID=America/Detroit:20230619T100000
DTEND;TZID=America/Detroit:20230619T100000
DTSTAMP:20260419T190129
CREATED:20230519T144846Z
LAST-MODIFIED:20230519T145035Z
UID:8261-1687168800-1687168800@otsegolibrary.org
SUMMARY:Sweet Tots
DESCRIPTION:Ages 0-24 months \nMondays\, June 19 – July 24 at 10 AM\n(No meeting on July 3) \nEnjoy super sweet songs\, a story\, and playtime with your friends.
URL:https://otsegolibrary.org/event/sweet-tots/
END:VEVENT
BEGIN:VEVENT
DTSTART;TZID=America/Detroit:20230617T100000
DTEND;TZID=America/Detroit:20230617T120000
DTSTAMP:20260419T190129
CREATED:20230519T143805Z
LAST-MODIFIED:20230519T144718Z
UID:8255-1686996000-1687003200@otsegolibrary.org
SUMMARY:Candy Land Kickoff
DESCRIPTION:Drop in to visit Candy Castle\, Licorice Lagoon\, Chocolate Mountain\, Gingerbread House\, Lollipop Woods\, Ice Cream Slopes\, Ice Palace\, Cupcake Commons\, and Gummy Hills where there will be games\, activities\, crafts\, delicious snacks\, a bounce house and an inflatable slide! The event will be outdoors\, weather permitting.
URL:https://otsegolibrary.org/event/candy-land-kickoff-event/
END:VEVENT
BEGIN:VEVENT
DTSTART;VALUE=DATE:20230617
DTEND;VALUE=DATE:20230730
DTSTAMP:20260419T190129
CREATED:20230519T143710Z
LAST-MODIFIED:20230519T154132Z
UID:8253-1686960000-1690675199@otsegolibrary.org
SUMMARY:Sweet Summertime Stories - Teen/Tween Summer Reading Program
DESCRIPTION:Get ready for some sweet summer fun at the Otsego District Library! Sign up during our kick-off week of June 12 – 17 to get a prize! Sign-ups will continue through July 8. \nParticipants who finish their reading goal will get a finisher bag with a book\, prizes\, and coupons for yummy treats. They can also enter to win one of the sweetest grand prizes! \nSWEETEST GRAND PRIZES – All Finishers can enter to win: \n1st Kickin’ Kiwi – $300 Meijer Gift Card + Kiwi Squishmallow + Pool Float + Pillow\n2nd Outrageous Orange – $200 Meijer Gift Card + Orange Squishmallow + Pool Float + Pillow\n3rd Wonderful Watermelon – $100 Meijer Gift Card + Watermelon Squishmallow + Pool Float + Pillow \nSWEET GRAND PRIZE PICKS:\n(Grand prize winners are not eligible for the grand prize picks)\n \n\nNostalgia Cotton Candy Machine + Supplies\nSoftShell Ice Cream Soccer Ball + Scoop + Ice Cream Book\nBaking Accessory Set + Mixing Bowls + TikTok Cookbook\nSony Bluetooth Headphones + Case + Throw Blanket\n\nBaker’s Dozen Reading Challenge\nYou will need to complete THIRTEEN challenges (challenges are listed on your reading log) and read SIX books to enter the SWEETEST Grand Prize drawings. When you complete your thirteenth challenge you gain access to the BAKER’S DOZEN BOX!
URL:https://otsegolibrary.org/event/sweet-summertime-stories-teen-tween-summer-reading-program/
END:VEVENT
BEGIN:VEVENT
DTSTART;VALUE=DATE:20230617
DTEND;VALUE=DATE:20230730
DTSTAMP:20260419T190129
CREATED:20230519T143602Z
LAST-MODIFIED:20230519T151108Z
UID:8251-1686960000-1690675199@otsegolibrary.org
SUMMARY:Sweet Summertime Stories - Children’s Summer Reading Program
DESCRIPTION:Get ready for some sweet summer fun at the Otsego District Library! Sign up during our kick-off week of June 12 – 17 and get a prize! Sign-ups will continue through July 8.\n\nParticipants who finish their reading goals will win a finisher bag with a book\, prizes\, and coupons for yummy treats. They can also enter to win one of the SWEETEST GRAND PRIZES!\n\nTHE SWEETEST GRAND PRIZES – All Finishers can enter to win:\n1st Kickin’ Kiwi\n$300 Meijer Gift Card + Kiwi Squishmallow + Pool Float + Pillow\n2nd Outrageous Orange\n$200 Meijer Gift Card + Orange Squishmallow + Pool Float + Pillow\n3rd Wonderful Watermelon\n$100 Meijer Gift Card + Watermelon Squishmallow + Pool Float + Pillow\n        Plus: EIGHT additional prizes that you can choose from to win!\n\n\nCHILDREN’S SWEET GRAND PRIZE PICKS: \nWhen children complete their reading goals\, they can put their “Grand Prize Pick” slip in the bucket by the sweet prize they hope to win. \n\nLego Friends Baking Set\nLego City Food Truck Set\nLollipop Swing and Giant Lollipops Set\nGiant Candyland Game and Pool\nMelissa & Doug Bakery Set\nOutdoor Game Set – Slam & Kan Jam\nBaking Set\nMarble Works Set\n\nNote: Winners of our Grand Prizes will be ineligible to win a Grand Prize Pick.
URL:https://otsegolibrary.org/event/sweet-summertime-stories-childrens-summer-reading-program/
END:VEVENT
BEGIN:VEVENT
DTSTART;TZID=America/Detroit:20230614T180000
DTEND;TZID=America/Detroit:20230614T180000
DTSTAMP:20260419T190129
CREATED:20221222T205027Z
LAST-MODIFIED:20221222T205027Z
UID:7712-1686765600-1686765600@otsegolibrary.org
SUMMARY:Non-Fiction Book Club
DESCRIPTION:Meets on the 2nd Wednesday at 6 PM\nNewcomers are always welcome! \nJanuary 11 The Nine by Jeffrey Toobin \nFebruary 8 Lincoln on the Verge by Ted Widmer \nMarch 8 Boys in the Boat by Daniel James Brown \nApril 12 Rough Magic by Lara Prior-Palmer \nMay 10 Team of Rivals by Doris Kearns Goodwin \nJune 14 The Planets by Dava Sobel \nJuly 12 Trail of Tears by John Ehle \nAugust 9 The Falcon Thief by Joshua Hammer
URL:https://otsegolibrary.org/event/non-fiction-book-club-16/
CATEGORIES:Book Club
END:VEVENT
BEGIN:VEVENT
DTSTART;TZID=America/Detroit:20230612T140000
DTEND;TZID=America/Detroit:20230612T140000
DTSTAMP:20260419T190129
CREATED:20221222T204401Z
LAST-MODIFIED:20221222T204401Z
UID:7696-1686578400-1686578400@otsegolibrary.org
SUMMARY:2nd Monday Book Club
DESCRIPTION:Meets on the 2nd Monday at 2 PM\nNewcomers are always welcome! \nJanuary 9 Mysterious Death of Miss Jane Austen by Lindsay Ashford \nFebruary 13 The Silent Patient by Alex Michaelides \nMarch 13 One Perfect Lie by Lisa Scottoline \nApril 10 The One Hundred Years of Lenni & Margot by Marianne Cronin \nMay 8 Dearest Mother & Dad by Christina Thompson \nJune 12 Gentleman In Moscow by Amor Towles \nJuly 10 Little Fires Everywhere by Celesste Ng \nAugust 14 The Orphan Train by Christina Baker Kline
URL:https://otsegolibrary.org/event/2nd-monday-book-club-13/
CATEGORIES:Book Club
END:VEVENT
BEGIN:VEVENT
DTSTART;VALUE=DATE:20230612
DTEND;VALUE=DATE:20230701
DTSTAMP:20260419T190129
CREATED:20230519T151441Z
LAST-MODIFIED:20230519T151441Z
UID:8309-1686528000-1688169599@otsegolibrary.org
SUMMARY:Scholastic Book Fair
DESCRIPTION:Monday\, June 12 – Friday\, June 30\nDuring all open library hours. \nLet your children and grandchildren select some fun summer reading materials to celebrate their accomplishments in school this part year! The library earns 50% of the profits to use toward FREE books for the library’s collection.
URL:https://otsegolibrary.org/event/scholastic-book-fair-2/
CATEGORIES:Scholastic
END:VEVENT
BEGIN:VEVENT
DTSTART;VALUE=DATE:20230527
DTEND;VALUE=DATE:20230530
DTSTAMP:20260419T190129
CREATED:20221110T194435Z
LAST-MODIFIED:20221110T200018Z
UID:7569-1685145600-1685404799@otsegolibrary.org
SUMMARY:LIBRARY CLOSED
DESCRIPTION:The library will be closed for the holiday. \nCLOSED:\nMemorial Day Weekend\nSaturday\, May 27 – Monday\, May 29 \nHave a safe and happy holiday with your family and friends!
URL:https://otsegolibrary.org/event/library-closed-11/
CATEGORIES:Notice/Closing
END:VEVENT
BEGIN:VEVENT
DTSTART;TZID=America/Detroit:20230525T160000
DTEND;TZID=America/Detroit:20230525T160000
DTSTAMP:20260419T190129
CREATED:20221222T210757Z
LAST-MODIFIED:20221222T210807Z
UID:7746-1685030400-1685030400@otsegolibrary.org
SUMMARY:Sweet & Salty Book Club
DESCRIPTION:Thursday\, February 23 – May 25 4th\nThursday at 4 PM \nEach month we’ll discuss what we are reading over snacks! Choose the book you want to read and share with the group. \nNeed an fun book suggestion? Ask a staff member about new and popular book titles!
URL:https://otsegolibrary.org/event/sweet-salty-book-club-11/
CATEGORIES:Teen/Tween
END:VEVENT
BEGIN:VEVENT
DTSTART;TZID=America/Detroit:20230524T130000
DTEND;TZID=America/Detroit:20230524T130000
DTSTAMP:20260419T190129
CREATED:20221222T203554Z
LAST-MODIFIED:20221222T203554Z
UID:7684-1684933200-1684933200@otsegolibrary.org
SUMMARY:Crafting Corner
DESCRIPTION:January – May\n4th Wednesday at 1 PM \nCrafting in community… come create and work on your projects with your friends and neighbors while enjoying a cup of coffee if you like. \nBring along your own projects (that you can do on your lap) and supplies – knitting\, crocheting\, cross-stitching\, coloring\, sketching\, etc. We will gather on the comfortable chairs in the corner of the library by the fireplace and chat while we create.
URL:https://otsegolibrary.org/event/crafting-corner-9/
CATEGORIES:Adult
END:VEVENT
BEGIN:VEVENT
DTSTART;TZID=America/Detroit:20230519T170000
DTEND;TZID=America/Detroit:20230519T170000
DTSTAMP:20260419T190129
CREATED:20221222T200512Z
LAST-MODIFIED:20221222T200525Z
UID:7674-1684515600-1684515600@otsegolibrary.org
SUMMARY:Social Scene
DESCRIPTION:Adults – Post High School through Mid-30s\nFebruary – May\n3rd Friday at 5 PM \nTired of trying to find something to do with other adults your age? Gather with other young adults for games\, activities and social time! Light snacks and refreshments will be provided.
URL:https://otsegolibrary.org/event/social-scene-4/
CATEGORIES:Adult
END:VEVENT
BEGIN:VEVENT
DTSTART;TZID=America/Detroit:20230519T100000
DTEND;TZID=America/Detroit:20230519T100000
DTSTAMP:20260419T190129
CREATED:20221222T200116Z
LAST-MODIFIED:20221222T200116Z
UID:7666-1684490400-1684490400@otsegolibrary.org
SUMMARY:Coffee and Conversations
DESCRIPTION:January – May\n3rd Friday at 10 AM \nLet’s build community by sharing coffee and conversations!\nCoffee and light refreshments (provided by the Friends of the Library) will be ready for you to enjoy at the library while we discuss current topics or anything else you would like to discuss.
URL:https://otsegolibrary.org/event/coffee-and-conversations-6/
CATEGORIES:Adult
END:VEVENT
END:VCALENDAR