BEGIN:VCALENDAR
VERSION:2.0
PRODID:-//Otsego District Public Library - ECPv6.15.20//NONSGML v1.0//EN
CALSCALE:GREGORIAN
METHOD:PUBLISH
X-WR-CALNAME:Otsego District Public Library
X-ORIGINAL-URL:https://otsegolibrary.org
X-WR-CALDESC:Events for Otsego District Public Library
REFRESH-INTERVAL;VALUE=DURATION:PT1H
X-Robots-Tag:noindex
X-PUBLISHED-TTL:PT1H
BEGIN:VTIMEZONE
TZID:America/Detroit
BEGIN:DAYLIGHT
TZOFFSETFROM:-0500
TZOFFSETTO:-0400
TZNAME:EDT
DTSTART:20230312T070000
END:DAYLIGHT
BEGIN:STANDARD
TZOFFSETFROM:-0400
TZOFFSETTO:-0500
TZNAME:EST
DTSTART:20231105T060000
END:STANDARD
BEGIN:DAYLIGHT
TZOFFSETFROM:-0500
TZOFFSETTO:-0400
TZNAME:EDT
DTSTART:20240310T070000
END:DAYLIGHT
BEGIN:STANDARD
TZOFFSETFROM:-0400
TZOFFSETTO:-0500
TZNAME:EST
DTSTART:20241103T060000
END:STANDARD
BEGIN:DAYLIGHT
TZOFFSETFROM:-0500
TZOFFSETTO:-0400
TZNAME:EDT
DTSTART:20250309T070000
END:DAYLIGHT
BEGIN:STANDARD
TZOFFSETFROM:-0400
TZOFFSETTO:-0500
TZNAME:EST
DTSTART:20251102T060000
END:STANDARD
END:VTIMEZONE
BEGIN:VEVENT
DTSTART;TZID=America/Detroit:20240405T100000
DTEND;TZID=America/Detroit:20240405T110000
DTSTAMP:20260419T154118
CREATED:20231203T163700Z
LAST-MODIFIED:20231203T163717Z
UID:9197-1712311200-1712314800@otsegolibrary.org
SUMMARY:Home Depot Birdhouse Workshop
DESCRIPTION:Friday\, April 5 at 10 AM\n4 Years Old – 5th Grade\nHome Depot will be bringing their workshop to the library! Kids will be able to build and decorate their own birdhouse to hang in their yards to house our feathered friends.
URL:https://otsegolibrary.org/event/9197/
CATEGORIES:Children
END:VEVENT
BEGIN:VEVENT
DTSTART;TZID=America/Detroit:20240404T140000
DTEND;TZID=America/Detroit:20240404T140000
DTSTAMP:20260419T154118
CREATED:20231203T155925Z
LAST-MODIFIED:20231203T164217Z
UID:9185-1712239200-1712239200@otsegolibrary.org
SUMMARY:Custom Wood Bookmarks
DESCRIPTION:Custom Wood Bookmarks \nThursday\, April 4 at 2 PM\nCreate your very own personalized wooden bookmark! Use permanent markers\, craft paper\, stickers\, and more to customize your own bookmark.
URL:https://otsegolibrary.org/event/custom-wood-bookmarks-spring-break-for-teens-tweens/
CATEGORIES:Teen/Tween
END:VEVENT
BEGIN:VEVENT
DTSTART;TZID=America/Detroit:20240403T140000
DTEND;TZID=America/Detroit:20240403T140000
DTSTAMP:20260419T154118
CREATED:20231203T155728Z
LAST-MODIFIED:20231203T164351Z
UID:9182-1712152800-1712152800@otsegolibrary.org
SUMMARY:Stuffed Animal Sleepover (Teen/Tween)
DESCRIPTION:Stuffed Animal Sleepover for Teens/Tweens \nWednesday\, April 3 at 2 PM\nDo you like to have fun while helping others? Young patrons are dropping off their favorite stuffed animals to “spend the night” at the library. You’ll get to help at an epic “sleepover” event – take pictures of these stuffed animals getting into all sorts of shenanigans all while having fun! \n 
URL:https://otsegolibrary.org/event/9182/
CATEGORIES:Teen/Tween
END:VEVENT
BEGIN:VEVENT
DTSTART;TZID=America/Detroit:20240403T090000
DTEND;TZID=America/Detroit:20240404T100000
DTSTAMP:20260419T154118
CREATED:20231203T163605Z
LAST-MODIFIED:20231203T163605Z
UID:9195-1712134800-1712224800@otsegolibrary.org
SUMMARY:Stuffed Animal Sleepover
DESCRIPTION:Wednesday and Thursday\, April 3 & 4 \nBirth – 5th Grade \nWEDNESDAY\, APRIL 3\nStuffed animals will spend the night at a special library sleepover! Kids can drop off their stuffed animal on Wednesday\, April 3 by 2 PM. Teen/tween volunteers will “babysit” your animals. They will take pictures of the activities the animals will be doing and provide you with a special book of their adventures the following morning. \nTHURSDAY\, APRIL 4 AT 10 AM\nKids can return (pjs are optional) to “wake up” their animal and have a special PJ Storytime including stories\, songs\, and craft.
URL:https://otsegolibrary.org/event/stuffed-animal-sleepover/
CATEGORIES:Children
END:VEVENT
BEGIN:VEVENT
DTSTART;TZID=America/Detroit:20240402T140000
DTEND;TZID=America/Detroit:20240402T140000
DTSTAMP:20260419T154118
CREATED:20231203T155615Z
LAST-MODIFIED:20231203T163934Z
UID:9180-1712066400-1712066400@otsegolibrary.org
SUMMARY:Garden Sparklers
DESCRIPTION:Spring Break for Teens/Tweens \nLEGO Challenge\nMonday\, April 1 at 2 PM\nCompete in a LEGO building competition to win a prize for your creation! Build something fantastic that you are proud to show off! LEGO builds will be displayed in the library throughout Spring Break! \nGarden Sparklers\nTuesday\, April 2 at 2 PM\nLearn garden basics with the Chula Vista Garden Club. Use glass\, mirrors\, and teardrop gems to create a beautiful garden sparkler you can hang! \nStuffed Animal Sleepover\nWednesday\, April 3 at 2 PM\nDo you like to have fun while helping others? Young patrons are dropping off their favorite stuffed animals to “spend the night” at the library. You’ll get to help at an epic “sleepover” event – take pictures of these stuffed animals getting into all sorts of shenanigans all while having fun! \nCustom Wood Bookmarks\nThursday\, April 4 at 2 PM\nCreate your very own personalized wooden bookmark! Use permanent markers\, craft paper\, stickers\, and more to customize your own bookmark.
URL:https://otsegolibrary.org/event/garden-sparklers-spring-break-for-teens-tweens/
CATEGORIES:Teen/Tween
END:VEVENT
BEGIN:VEVENT
DTSTART;TZID=America/Detroit:20240402T100000
DTEND;TZID=America/Detroit:20240402T100000
DTSTAMP:20260419T154118
CREATED:20231203T163359Z
LAST-MODIFIED:20231203T163359Z
UID:9193-1712052000-1712052000@otsegolibrary.org
SUMMARY:Gardening and Flower Pots Chula Vista Garden Club
DESCRIPTION:Gardening and Flower Pots\nChula Vista Garden Club\nTuesday\, April 2 at 10 AM\n4 Years Old – 5th Grade\nLearn the basics of gardening with the Chula Vista\nGarden Club members. Kids will paint a beautiful\nflowerpot and then be able to add their own plant to\nwatch grow.
URL:https://otsegolibrary.org/event/gardening-and-flower-pots-chula-vista-garden-club/
CATEGORIES:Children
END:VEVENT
BEGIN:VEVENT
DTSTART;TZID=America/Detroit:20240401T140000
DTEND;TZID=America/Detroit:20240401T140000
DTSTAMP:20260419T154118
CREATED:20231203T161516Z
LAST-MODIFIED:20231203T164442Z
UID:9187-1711980000-1711980000@otsegolibrary.org
SUMMARY:LEGO Challenge
DESCRIPTION:3rd Grade – High School \nCompete in a LEGO building competition to win a prize for your creation! Build something fantastic that you are proud to show off! LEGO builds will be displayed in the library throughout Spring Break!
URL:https://otsegolibrary.org/event/lego-challenge-spring-break/
CATEGORIES:Family
END:VEVENT
BEGIN:VEVENT
DTSTART;VALUE=DATE:20240401
DTEND;VALUE=DATE:20240407
DTSTAMP:20260419T154118
CREATED:20231203T163014Z
LAST-MODIFIED:20231203T164238Z
UID:9191-1711929600-1712447999@otsegolibrary.org
SUMMARY:Flower Scavenger Hunt
DESCRIPTION:April 1-6\nThe library will be in full bloom during Spring Break! Come to the library anytime during the week of Spring Break and search for flowers. When you find them all\, you will get a prize!
URL:https://otsegolibrary.org/event/flower-scavenger-hunt-spring-break/
CATEGORIES:Family
END:VEVENT
BEGIN:VEVENT
DTSTART;VALUE=DATE:20240330
DTEND;VALUE=DATE:20240331
DTSTAMP:20260419T154118
CREATED:20231203T193312Z
LAST-MODIFIED:20231203T193312Z
UID:9308-1711756800-1711843199@otsegolibrary.org
SUMMARY:LIBRARY CLOSED
DESCRIPTION:The library will be closed for the holiday. \nCLOSED:\nEaster\nMonday\, March 30 \nHave a safe and happy holiday with your family and friends!
URL:https://otsegolibrary.org/event/library-closed-17/
CATEGORIES:Notice/Closing
END:VEVENT
BEGIN:VEVENT
DTSTART;TZID=America/Detroit:20240328T183000
DTEND;TZID=America/Detroit:20240328T183000
DTSTAMP:20260419T154118
CREATED:20231202T024341Z
LAST-MODIFIED:20231202T025526Z
UID:9079-1711650600-1711650600@otsegolibrary.org
SUMMARY:Spring Into Organization
DESCRIPTION:Susie Marsh with Susie’s Organization Solutions \nThis presentation will help kick start your de-cluttering and organizing projects as the winter fades and the anticipation of spring is in the air! \nSusie Marsh will share tips & tricks for organizing spaces in your home. She will also show you how to utilize organizing products and give you strategies to maximize the functionality of your spaces. Let’s get organized!
URL:https://otsegolibrary.org/event/spring-into-organization/
CATEGORIES:Adult
END:VEVENT
BEGIN:VEVENT
DTSTART;TZID=America/Detroit:20240328T160000
DTEND;TZID=America/Detroit:20240328T160000
DTSTAMP:20260419T154118
CREATED:20231203T154526Z
LAST-MODIFIED:20231203T154526Z
UID:9176-1711641600-1711641600@otsegolibrary.org
SUMMARY:Sweet & Salty Book Club
DESCRIPTION:February 22\, March 28\, and April 25\n4th Thursday at 4 PM \nDiscuss what we are reading over snacks! Choose any book to read and share with the group! Ask a staff member about new/popular book suggestions!
URL:https://otsegolibrary.org/event/sweet-salty-book-club-16/
CATEGORIES:Teen/Tween
END:VEVENT
BEGIN:VEVENT
DTSTART;TZID=America/Detroit:20240328T100000
DTEND;TZID=America/Detroit:20240328T100000
DTSTAMP:20260419T154118
CREATED:20231203T190250Z
LAST-MODIFIED:20231203T190739Z
UID:9277-1711620000-1711620000@otsegolibrary.org
SUMMARY:Storytime
DESCRIPTION:February 1 – May 9\n(Special Pajama Storytime on April 3 – See Spring Break Info)\nThursdays at 10 AM\nAges 0-5 \nEach session includes a fun theme with stories\, songs\, and a craft.
URL:https://otsegolibrary.org/event/storytime-54/
CATEGORIES:Preschool
END:VEVENT
BEGIN:VEVENT
DTSTART;TZID=America/Detroit:20240327T130000
DTEND;TZID=America/Detroit:20240327T130000
DTSTAMP:20260419T154118
CREATED:20231202T034351Z
LAST-MODIFIED:20231202T034351Z
UID:9115-1711544400-1711544400@otsegolibrary.org
SUMMARY:Crafting Corner
DESCRIPTION:January – May\n4th Wednesday at 1 PM \nBring your knitting\, crochet\, coloring\, needlepoint\, cross-stitch\, or other personal crafting projects from home. \nEnjoy a cup of coffee while you are working and sit by the fireplace crafting with friends.
URL:https://otsegolibrary.org/event/crafting-corner-16/
CATEGORIES:Adult
END:VEVENT
BEGIN:VEVENT
DTSTART;TZID=America/Detroit:20240327T100000
DTEND;TZID=America/Detroit:20240327T100000
DTSTAMP:20260419T154118
CREATED:20231203T183349Z
LAST-MODIFIED:20231203T183349Z
UID:9255-1711533600-1711533600@otsegolibrary.org
SUMMARY:Music & Movement
DESCRIPTION:January 31 – May 8 (No meet-up on April 3)\nWednesdays at 10 AM\nAges 0-5 \nRelieve cabin fever with singing\, dancing\, movement activities\, and sensory play!
URL:https://otsegolibrary.org/event/music-movement-40/
CATEGORIES:Preschool
END:VEVENT
BEGIN:VEVENT
DTSTART;TZID=America/Detroit:20240326T100000
DTEND;TZID=America/Detroit:20240326T100000
DTSTAMP:20260419T154118
CREATED:20231203T170222Z
LAST-MODIFIED:20231203T170222Z
UID:9225-1711447200-1711447200@otsegolibrary.org
SUMMARY:Tiny Tots
DESCRIPTION:January 30 – May 7 (No meet-up on April 2)\nTuesdays at 10 AM\nAges 0-24 Months \nSing\, read\, and play with your little ones and friends!
URL:https://otsegolibrary.org/event/tiny-tots-57/
CATEGORIES:Preschool
END:VEVENT
BEGIN:VEVENT
DTSTART;TZID=America/Detroit:20240321T160000
DTEND;TZID=America/Detroit:20240321T160000
DTSTAMP:20260419T154118
CREATED:20231203T154159Z
LAST-MODIFIED:20231203T154159Z
UID:9170-1711036800-1711036800@otsegolibrary.org
SUMMARY:Creative Writing Club
DESCRIPTION:February 15\, March 21\, and April 18\n3rd Thursday at 4 PM \nDo you LOVE to write? Join us as we write together and share short stories\, original writing pieces\, and ideas. All writing styles are welcome.
URL:https://otsegolibrary.org/event/creative-writing-club-9/
CATEGORIES:Teen/Tween
END:VEVENT
BEGIN:VEVENT
DTSTART;TZID=America/Detroit:20240321T100000
DTEND;TZID=America/Detroit:20240321T100000
DTSTAMP:20260419T154118
CREATED:20231203T190913Z
LAST-MODIFIED:20231203T190913Z
UID:9283-1711015200-1711015200@otsegolibrary.org
SUMMARY:Storytime
DESCRIPTION:February 1 – May 9\n(Special Pajama Storytime on April 3 – See Spring Break Info)\nThursdays at 10 AM\nAges 0-5 \nEach session includes a fun theme with stories\, songs\, and a craft.
URL:https://otsegolibrary.org/event/storytime-57/
CATEGORIES:Preschool
END:VEVENT
BEGIN:VEVENT
DTSTART;TZID=America/Detroit:20240320T173000
DTEND;TZID=America/Detroit:20240320T173000
DTSTAMP:20260419T154118
CREATED:20240312T133230Z
LAST-MODIFIED:20240813T140153Z
UID:9476-1710955800-1710955800@otsegolibrary.org
SUMMARY:Library Board Meeting
DESCRIPTION:The Library Board of Trustees meets on a monthly basis to discuss library business and housekeeping. Meetings are open to the public and include a period of time for patrons to discuss comments and concerns. \nThese meetings are held once a month on Wednesdays at 5:30 PM.
URL:https://otsegolibrary.org/event/library-board-meeting-20/
CATEGORIES:Library Board
END:VEVENT
BEGIN:VEVENT
DTSTART;TZID=America/Detroit:20240320T100000
DTEND;TZID=America/Detroit:20240320T100000
DTSTAMP:20260419T154118
CREATED:20231203T183149Z
LAST-MODIFIED:20231203T183149Z
UID:9253-1710928800-1710928800@otsegolibrary.org
SUMMARY:Music & Movement
DESCRIPTION:January 31 – May 8 (No meet-up on April 3)\nWednesdays at 10 AM\nAges 0-5 \nRelieve cabin fever with singing\, dancing\, movement activities\, and sensory play!
URL:https://otsegolibrary.org/event/music-movement-39/
CATEGORIES:Preschool
END:VEVENT
BEGIN:VEVENT
DTSTART;TZID=America/Detroit:20240319T100000
DTEND;TZID=America/Detroit:20240319T100000
DTSTAMP:20260419T154118
CREATED:20231203T170039Z
LAST-MODIFIED:20231203T170039Z
UID:9223-1710842400-1710842400@otsegolibrary.org
SUMMARY:Tiny Tots
DESCRIPTION:January 30 – May 7 (No meet-up on April 2)\nTuesdays at 10 AM\nAges 0-24 Months \nSing\, read\, and play with your little ones and friends!
URL:https://otsegolibrary.org/event/tiny-tots-56/
CATEGORIES:Preschool
END:VEVENT
BEGIN:VEVENT
DTSTART;TZID=America/Detroit:20240316T100000
DTEND;TZID=America/Detroit:20240316T120000
DTSTAMP:20260419T154118
CREATED:20231203T192426Z
LAST-MODIFIED:20231203T192426Z
UID:9301-1710583200-1710590400@otsegolibrary.org
SUMMARY:Bluey Party
DESCRIPTION:Preschool – 5th Grade \n“What’s up\, party people?!” \nBluey is the wildly popular Disney+ cartoon about an Australian dog family of four. If your child is a fan of the Heeler pup family and their crew of lovable pals\, then you will definitely want to attend (Mum and Dad too!). \nDrop in to have some fun with Bluey and Bingo at this lively party. Celebrate with the whole Heeler family while you enjoy games\, crafts\, activities and snacks. \nThis is going to be a whackadoo party – hope to see you there\, Matey!
URL:https://otsegolibrary.org/event/bluey-party/
CATEGORIES:Family
END:VEVENT
BEGIN:VEVENT
DTSTART;TZID=America/Detroit:20240315T130000
DTEND;TZID=America/Detroit:20240315T140000
DTSTAMP:20260419T154118
CREATED:20231202T032641Z
LAST-MODIFIED:20231202T032641Z
UID:9105-1710507600-1710511200@otsegolibrary.org
SUMMARY:Get Crafty - Make & Take Crafts
DESCRIPTION:February – May\n3rd Friday at 1 PM \nCreate a fun craft for free! Each month you will be able to make a fun decoration that you can proudly take home to display.
URL:https://otsegolibrary.org/event/get-crafty-make-take-crafts-5/
CATEGORIES:Adult
END:VEVENT
BEGIN:VEVENT
DTSTART;TZID=America/Detroit:20240315T100000
DTEND;TZID=America/Detroit:20240315T100000
DTSTAMP:20260419T154118
CREATED:20231202T031843Z
LAST-MODIFIED:20231202T031843Z
UID:9096-1710496800-1710496800@otsegolibrary.org
SUMMARY:Coffee & Conversation
DESCRIPTION:January – May\n3rd Friday at 10 AM \nLet’s build community by sharing coffee and\nconversations! Coffee and refreshments (provided by the Friends of the Otsego Library) will be ready for you to enjoy at the library while we discuss current topics or anything else you would like to discuss.
URL:https://otsegolibrary.org/event/coffee-conversation-2/
CATEGORIES:Adult
END:VEVENT
BEGIN:VEVENT
DTSTART;TZID=America/Detroit:20240314T160000
DTEND;TZID=America/Detroit:20240314T160000
DTSTAMP:20260419T154118
CREATED:20231203T153213Z
LAST-MODIFIED:20231203T153213Z
UID:9162-1710432000-1710432000@otsegolibrary.org
SUMMARY:Art Hub
DESCRIPTION:March 14 and April 11\n(Special Valentine’s Day Art Party – February 8) \nCreate beautiful and fun pieces of art at this art club! \nThe crafts at these meetups are more advanced and picked for teens/tweens – drawing\, painting\, crafting and more!
URL:https://otsegolibrary.org/event/art-hub-11/
CATEGORIES:Teen/Tween
END:VEVENT
BEGIN:VEVENT
DTSTART;TZID=America/Detroit:20240314T100000
DTEND;TZID=America/Detroit:20240314T100000
DTSTAMP:20260419T154118
CREATED:20231203T190529Z
LAST-MODIFIED:20231203T190529Z
UID:9281-1710410400-1710410400@otsegolibrary.org
SUMMARY:Storytime
DESCRIPTION:February 1 – May 9\n(Special Pajama Storytime on April 3 – See Spring Break Info)\nThursdays at 10 AM\nAges 0-5 \nEach session includes a fun theme with stories\, songs\, and a craft.
URL:https://otsegolibrary.org/event/storytime-56/
CATEGORIES:Preschool
END:VEVENT
BEGIN:VEVENT
DTSTART;TZID=America/Detroit:20240313T180000
DTEND;TZID=America/Detroit:20240313T180000
DTSTAMP:20260419T154118
CREATED:20231202T041822Z
LAST-MODIFIED:20240328T153608Z
UID:9140-1710352800-1710352800@otsegolibrary.org
SUMMARY:Non-Fiction Book Club
DESCRIPTION:Meets on the 2nd Wednesday at 6 PM \nJanuary 10\nRubicon by Tom Holland \nFebruary 14\nThe Making of the Atomic Bomb by Richard Rhodes \nMarch 13\nBecoming Charlemagne by Jeff Sypeck \nApril 10\nThomas Jefferson: The Art of Power by John Meacham \nMay 8\nThe Rise & Reign of the Mammals by Steve Brusatte \nJune 12\nThe Last Castle by Denise Kiernan \nJuly 10\nThe Year of Lear: Shakespeare in 1606 by James Shapiro \nAugust 14\nBlue Highways: A Journey into America by William Least Heat-Moon
URL:https://otsegolibrary.org/event/non-fiction-book-club-23/
CATEGORIES:Book Club
END:VEVENT
BEGIN:VEVENT
DTSTART;TZID=America/Detroit:20240313T100000
DTEND;TZID=America/Detroit:20240313T100000
DTSTAMP:20260419T154118
CREATED:20231203T182119Z
LAST-MODIFIED:20231203T182119Z
UID:9251-1710324000-1710324000@otsegolibrary.org
SUMMARY:Music & Movement
DESCRIPTION:January 31 – May 8 (No meet-up on April 3)\nWednesdays at 10 AM\nAges 0-5 \nRelieve cabin fever with singing\, dancing\, movement activities\, and sensory play!
URL:https://otsegolibrary.org/event/music-movement-38/
CATEGORIES:Preschool
END:VEVENT
BEGIN:VEVENT
DTSTART;TZID=America/Detroit:20240312T100000
DTEND;TZID=America/Detroit:20240312T100000
DTSTAMP:20260419T154118
CREATED:20231203T165919Z
LAST-MODIFIED:20231203T165919Z
UID:9221-1710237600-1710237600@otsegolibrary.org
SUMMARY:Tiny Tots
DESCRIPTION:January 30 – May 7 (No meet-up on April 2)\nTuesdays at 10 AM\nAges 0-24 Months \nSing\, read\, and play with your little ones and friends!
URL:https://otsegolibrary.org/event/tiny-tots-55/
CATEGORIES:Preschool
END:VEVENT
BEGIN:VEVENT
DTSTART;TZID=America/Detroit:20240311T140000
DTEND;TZID=America/Detroit:20240311T140000
DTSTAMP:20260419T154118
CREATED:20231202T035922Z
LAST-MODIFIED:20240328T153540Z
UID:9125-1710165600-1710165600@otsegolibrary.org
SUMMARY:2nd Monday Book Club
DESCRIPTION:Meets on the 2nd Monday at 2 PM \nJanuary 8\nProject Hail Mary by Andy Weir \nFebruary 12\nThe Bookwoman of Troublesome Creek by Kim Michele Richardson \nMarch 11\nThe Great Alone by Kristin Hannah \nApril 8\nMr. Penumbra’s 24 Hour Bookstore by Marianne Cronin \nMay 13\nThe Lilac Girls by Martha Hall Kelly \nJune 10\nBorn A Crime by Trevor Noah \nJuly 8\nThe Nickle Boys by Colson Whitehead \nAugust 12\nRainy Day Friends by Jill Shalvis
URL:https://otsegolibrary.org/event/2nd-monday-book-club-27/
CATEGORIES:Book Club
END:VEVENT
BEGIN:VEVENT
DTSTART;TZID=America/Detroit:20240307T183000
DTEND;TZID=America/Detroit:20240307T183000
DTSTAMP:20260419T154118
CREATED:20231202T024117Z
LAST-MODIFIED:20231205T191038Z
UID:9077-1709836200-1709836200@otsegolibrary.org
SUMMARY:Landscaping with Native Plants for Pollinators
DESCRIPTION:Gary Miller\, Certified Green Industry Professional – Wedel’s Nursery \nNative plants – we hear the term\, but what exactly does it mean? In this green thumb program\, you will learn the benefits of using native plants in your home gardens and landscapes. \nNative plants are low maintenance\, conserve water\, and provide the necessary food and habitats for wildlife. Many of our beloved butterflies and pollinators depend on very specific plant species. \nLearning about and incorporating these native plants in your yard will help to support these nature superstars!
URL:https://otsegolibrary.org/event/landscaping-with-native-plants-for-pollinators/
CATEGORIES:Adult
END:VEVENT
END:VCALENDAR