BEGIN:VCALENDAR
VERSION:2.0
PRODID:-//Otsego District Public Library - ECPv6.15.20//NONSGML v1.0//EN
CALSCALE:GREGORIAN
METHOD:PUBLISH
X-WR-CALNAME:Otsego District Public Library
X-ORIGINAL-URL:https://otsegolibrary.org
X-WR-CALDESC:Events for Otsego District Public Library
REFRESH-INTERVAL;VALUE=DURATION:PT1H
X-Robots-Tag:noindex
X-PUBLISHED-TTL:PT1H
BEGIN:VTIMEZONE
TZID:America/Detroit
BEGIN:DAYLIGHT
TZOFFSETFROM:-0500
TZOFFSETTO:-0400
TZNAME:EDT
DTSTART:20250309T070000
END:DAYLIGHT
BEGIN:STANDARD
TZOFFSETFROM:-0400
TZOFFSETTO:-0500
TZNAME:EST
DTSTART:20251102T060000
END:STANDARD
BEGIN:DAYLIGHT
TZOFFSETFROM:-0500
TZOFFSETTO:-0400
TZNAME:EDT
DTSTART:20260308T070000
END:DAYLIGHT
BEGIN:STANDARD
TZOFFSETFROM:-0400
TZOFFSETTO:-0500
TZNAME:EST
DTSTART:20261101T060000
END:STANDARD
BEGIN:DAYLIGHT
TZOFFSETFROM:-0500
TZOFFSETTO:-0400
TZNAME:EDT
DTSTART:20270314T070000
END:DAYLIGHT
BEGIN:STANDARD
TZOFFSETFROM:-0400
TZOFFSETTO:-0500
TZNAME:EST
DTSTART:20271107T060000
END:STANDARD
BEGIN:DAYLIGHT
TZOFFSETFROM:-0500
TZOFFSETTO:-0400
TZNAME:EDT
DTSTART:20280312T070000
END:DAYLIGHT
BEGIN:STANDARD
TZOFFSETFROM:-0400
TZOFFSETTO:-0500
TZNAME:EST
DTSTART:20281105T060000
END:STANDARD
END:VTIMEZONE
BEGIN:VEVENT
DTSTART;TZID=America/Detroit:20260713T140000
DTEND;TZID=America/Detroit:20260713T140000
DTSTAMP:20260420T040220
CREATED:20260102T190001Z
LAST-MODIFIED:20260413T174638Z
UID:12296-1783951200-1783951200@otsegolibrary.org
SUMMARY:2nd Monday Book Club
DESCRIPTION:The 2nd Monday Book Club meets on the 2nd Monday of each month at 2 PM.\nNew members are always welcome to attend one or all sessions! \nFebruary 9 \nThe Lost Bookshop by Evie Woods \nMarch 9 \nThe Housemaid by Frieda McFadden \nApril 13 \nBright Young Women by Jessica Knoll \nMay 11 \nFrozen River by Ariel Lawhon \nJune 8 \nAn Echo In Time by Boo Walker \nJuly 13 \nIron Lake by William Kent Krueger \nAugust 10 \nBack of Beyond by CJ Box
URL:https://otsegolibrary.org/event/2nd-monday-book-club-58/
CATEGORIES:Book Club
END:VEVENT
BEGIN:VEVENT
DTSTART;TZID=America/Detroit:20260715T170000
DTEND;TZID=America/Detroit:20260715T170000
DTSTAMP:20260420T040220
CREATED:20260128T194323Z
LAST-MODIFIED:20260128T194339Z
UID:12615-1784134800-1784134800@otsegolibrary.org
SUMMARY:Library Board Meeting
DESCRIPTION:The Library Board of Trustees meets on a monthly basis to discuss library business and housekeeping. Meetings are open to the public and include a period of time for patrons to discuss comments and concerns. \nThese meetings are held once a month on Wednesdays at 5 PM.
URL:https://otsegolibrary.org/event/library-board-meeting-53/
CATEGORIES:Library Board
END:VEVENT
BEGIN:VEVENT
DTSTART;TZID=America/Detroit:20260810T140000
DTEND;TZID=America/Detroit:20260810T140000
DTSTAMP:20260420T040220
CREATED:20260102T190024Z
LAST-MODIFIED:20260413T174646Z
UID:12298-1786370400-1786370400@otsegolibrary.org
SUMMARY:2nd Monday Book Club
DESCRIPTION:The 2nd Monday Book Club meets on the 2nd Monday of each month at 2 PM.\nNew members are always welcome to attend one or all sessions! \nFebruary 9 \nThe Lost Bookshop by Evie Woods \nMarch 9 \nThe Housemaid by Frieda McFadden \nApril 13 \nBright Young Women by Jessica Knoll \nMay 11 \nFrozen River by Ariel Lawhon \nJune 8 \nAn Echo In Time by Boo Walker \nJuly 13 \nIron Lake by William Kent Krueger \nAugust 10 \nBack of Beyond by CJ Box
URL:https://otsegolibrary.org/event/2nd-monday-book-club-59/
CATEGORIES:Book Club
END:VEVENT
BEGIN:VEVENT
DTSTART;TZID=America/Detroit:20260819T170000
DTEND;TZID=America/Detroit:20260819T170000
DTSTAMP:20260420T040220
CREATED:20260128T194440Z
LAST-MODIFIED:20260128T194445Z
UID:12617-1787158800-1787158800@otsegolibrary.org
SUMMARY:Library Board Meeting
DESCRIPTION:The Library Board of Trustees meets on a monthly basis to discuss library business and housekeeping. Meetings are open to the public and include a period of time for patrons to discuss comments and concerns. \nThese meetings are held once a month on Wednesdays at 5 PM.
URL:https://otsegolibrary.org/event/library-board-meeting-54/
CATEGORIES:Library Board
END:VEVENT
BEGIN:VEVENT
DTSTART;TZID=America/Detroit:20260905T000000
DTEND;TZID=America/Detroit:20260907T235959
DTSTAMP:20260420T040220
CREATED:20260106T154819Z
LAST-MODIFIED:20260106T154823Z
UID:12489-1788566400-1788825599@otsegolibrary.org
SUMMARY:LIBRARY CLOSED
DESCRIPTION:The library will be closed for the holiday. \nCLOSED: Labor Day\nSeptember 5 – September 7 \nHave a safe and happy holiday with your family and friends!
URL:https://otsegolibrary.org/event/library-closed-34/
CATEGORIES:Notice/Closing
END:VEVENT
BEGIN:VEVENT
DTSTART;TZID=America/Detroit:20260916T170000
DTEND;TZID=America/Detroit:20260916T170000
DTSTAMP:20260420T040220
CREATED:20260128T195429Z
LAST-MODIFIED:20260128T210912Z
UID:12619-1789578000-1789578000@otsegolibrary.org
SUMMARY:Library Board Meeting
DESCRIPTION:The Library Board of Trustees meets on a monthly basis to discuss library business and housekeeping. Meetings are open to the public and include a period of time for patrons to discuss comments and concerns. \nThese meetings are held once a month on Wednesdays at 5 PM.
URL:https://otsegolibrary.org/event/library-board-meeting-55/
CATEGORIES:Library Board
END:VEVENT
BEGIN:VEVENT
DTSTART;TZID=America/Detroit:20261021T170000
DTEND;TZID=America/Detroit:20261021T170000
DTSTAMP:20260420T040220
CREATED:20260128T210942Z
LAST-MODIFIED:20260128T210946Z
UID:12621-1792602000-1792602000@otsegolibrary.org
SUMMARY:Library Board Meeting
DESCRIPTION:The Library Board of Trustees meets on a monthly basis to discuss library business and housekeeping. Meetings are open to the public and include a period of time for patrons to discuss comments and concerns. \nThese meetings are held once a month on Wednesdays at 5 PM.
URL:https://otsegolibrary.org/event/library-board-meeting-56/
CATEGORIES:Library Board
END:VEVENT
BEGIN:VEVENT
DTSTART;TZID=America/Detroit:20261118T170000
DTEND;TZID=America/Detroit:20261118T170000
DTSTAMP:20260420T040220
CREATED:20260128T211017Z
LAST-MODIFIED:20260128T211021Z
UID:12623-1795021200-1795021200@otsegolibrary.org
SUMMARY:Libary Board Meeting
DESCRIPTION:The Library Board of Trustees meets on a monthly basis to discuss library business and housekeeping. Meetings are open to the public and include a period of time for patrons to discuss comments and concerns. \nThese meetings are held once a month on Wednesdays at 5 PM.
URL:https://otsegolibrary.org/event/libary-board-meeting/
CATEGORIES:Library Board
END:VEVENT
BEGIN:VEVENT
DTSTART;TZID=America/Detroit:20261126T000000
DTEND;TZID=America/Detroit:20261128T235959
DTSTAMP:20260420T040220
CREATED:20260218T182634Z
LAST-MODIFIED:20260218T182634Z
UID:12696-1795651200-1795910399@otsegolibrary.org
SUMMARY:LIBRARY CLOSED
DESCRIPTION:The library will be closed for the holiday. \nCLOSED: Thanksgiving\nThursday\, November 26 – Saturday\, November 28 \nHave a safe and happy holiday with your family and friends!
URL:https://otsegolibrary.org/event/library-closed-35/
CATEGORIES:Notice/Closing
END:VEVENT
BEGIN:VEVENT
DTSTART;TZID=America/Detroit:20261224T000000
DTEND;TZID=America/Detroit:20261226T235959
DTSTAMP:20260420T040220
CREATED:20260218T182756Z
LAST-MODIFIED:20260218T183003Z
UID:12698-1798070400-1798329599@otsegolibrary.org
SUMMARY:LIBRARY CLOSED
DESCRIPTION:The library will be closed for the holiday. \nCLOSED: Christmas\nThursday\, December 24 – Saturday\, December 25 \nHave a safe and happy holiday with your family and friends!
URL:https://otsegolibrary.org/event/library-closed-36/
CATEGORIES:Notice/Closing
END:VEVENT
BEGIN:VEVENT
DTSTART;TZID=America/Detroit:20261231T000000
DTEND;TZID=America/Detroit:20270102T235959
DTSTAMP:20260420T040220
CREATED:20260218T182903Z
LAST-MODIFIED:20260218T182903Z
UID:12700-1798675200-1798934399@otsegolibrary.org
SUMMARY:LIBRARY CLOSED
DESCRIPTION:The library will be closed for the holiday. \nCLOSED: New Years\nThursday\, December 31 – Saturday\, January 2 \nHave a safe and happy holiday with your family and friends!
URL:https://otsegolibrary.org/event/library-closed-37/
CATEGORIES:Notice/Closing
END:VEVENT
END:VCALENDAR