BEGIN:VCALENDAR
VERSION:2.0
PRODID:-//Otsego District Public Library - ECPv6.15.20//NONSGML v1.0//EN
CALSCALE:GREGORIAN
METHOD:PUBLISH
X-WR-CALNAME:Otsego District Public Library
X-ORIGINAL-URL:https://otsegolibrary.org
X-WR-CALDESC:Events for Otsego District Public Library
REFRESH-INTERVAL;VALUE=DURATION:PT1H
X-Robots-Tag:noindex
X-PUBLISHED-TTL:PT1H
BEGIN:VTIMEZONE
TZID:America/Detroit
BEGIN:DAYLIGHT
TZOFFSETFROM:-0500
TZOFFSETTO:-0400
TZNAME:EDT
DTSTART:20210314T070000
END:DAYLIGHT
BEGIN:STANDARD
TZOFFSETFROM:-0400
TZOFFSETTO:-0500
TZNAME:EST
DTSTART:20211107T060000
END:STANDARD
BEGIN:DAYLIGHT
TZOFFSETFROM:-0500
TZOFFSETTO:-0400
TZNAME:EDT
DTSTART:20220313T070000
END:DAYLIGHT
BEGIN:STANDARD
TZOFFSETFROM:-0400
TZOFFSETTO:-0500
TZNAME:EST
DTSTART:20221106T060000
END:STANDARD
BEGIN:DAYLIGHT
TZOFFSETFROM:-0500
TZOFFSETTO:-0400
TZNAME:EDT
DTSTART:20230312T070000
END:DAYLIGHT
BEGIN:STANDARD
TZOFFSETFROM:-0400
TZOFFSETTO:-0500
TZNAME:EST
DTSTART:20231105T060000
END:STANDARD
END:VTIMEZONE
BEGIN:VEVENT
DTSTART;TZID=America/Detroit:20221117T160000
DTEND;TZID=America/Detroit:20221117T160000
DTSTAMP:20260420T010824
CREATED:20220706T183430Z
LAST-MODIFIED:20220706T183430Z
UID:7049-1668700800-1668700800@otsegolibrary.org
SUMMARY:Teen Scene
DESCRIPTION:September 15 – November 17\n1st & 3rd Thursday at 4 PM\nMiddle School – High School \nHang out with us each week as we play games\, watch movies\, eat snacks\, and create some lasting memories. We will be featuring several Nintendo Switch consoles and tabletop games.
URL:https://otsegolibrary.org/event/teen-scene-14/
CATEGORIES:Teen/Tween
END:VEVENT
BEGIN:VEVENT
DTSTART;TZID=America/Detroit:20221117T100000
DTEND;TZID=America/Detroit:20221117T100000
DTSTAMP:20260420T010824
CREATED:20221020T145221Z
LAST-MODIFIED:20221020T145221Z
UID:7505-1668679200-1668679200@otsegolibrary.org
SUMMARY:Storytime
DESCRIPTION:Thursdays at 10 AM\nSeptember 15 – November 17\nAges 0 – 5 \nAutumn stories\, songs\, and crafts will help children FALL in love with Storytime and their library!
URL:https://otsegolibrary.org/event/storytime-24/
CATEGORIES:Preschool
END:VEVENT
BEGIN:VEVENT
DTSTART;TZID=America/Detroit:20221116T160000
DTEND;TZID=America/Detroit:20221116T200000
DTSTAMP:20260420T010824
CREATED:20220511T194554Z
LAST-MODIFIED:20221025T142009Z
UID:6717-1668614400-1668628800@otsegolibrary.org
SUMMARY:Library Board Meeting
DESCRIPTION:The Library Board of Trustees meets on a monthly basis to discuss library business and housekeeping. Meetings are open to the public and include a period of time for patrons to discuss comments and concerns. \nLibrary Board Schedule Updates:\nThe October meeting of the board was cancelled due to lack of quorum.\nIt has been rescheduled to November 9 at 6 PM and will be a combined meeting with the November regular meeting. \nOn November 16\, from 4-8 (or until finished) the library board will meet for a Strategic Planning Board Retreat with Amanda Standerfer from Fast Forward Libraries. The community survey results and input will be discussed and considered during the strategic planning process! \nThese meetings are normally held once a month on Wednesdays at 6:00 PM. The board meetings are tentative and could be subject to change at any time. Keep an eye out for deviations in scheduled dates/times of these meetings.
URL:https://otsegolibrary.org/event/library-board-meeting-6/
CATEGORIES:Library Board
END:VEVENT
BEGIN:VEVENT
DTSTART;TZID=America/Detroit:20221116T100000
DTEND;TZID=America/Detroit:20221116T100000
DTSTAMP:20260420T010824
CREATED:20221018T235214Z
LAST-MODIFIED:20221018T235214Z
UID:7485-1668592800-1668592800@otsegolibrary.org
SUMMARY:Music & Movement
DESCRIPTION:Wednesdays at 10 AM\nSeptember 14 – November 16\nAges 0 – 5 \nYoung children will sing\, dance\, play interactive games\, and enjoy sensory activities in this lively\, musical class.
URL:https://otsegolibrary.org/event/music-movement-25/
CATEGORIES:Preschool
END:VEVENT
BEGIN:VEVENT
DTSTART;TZID=America/Detroit:20221115T160000
DTEND;TZID=America/Detroit:20221115T160000
DTSTAMP:20260420T010824
CREATED:20220824T175631Z
LAST-MODIFIED:20220824T175638Z
UID:7209-1668528000-1668528000@otsegolibrary.org
SUMMARY:STEAM Stations
DESCRIPTION:September 13 – November 15 • Tuesdays at 4 PM\nKindergarten – 5th Grade \nDiscover STEAM (Science\, Technology\, Engineering\, Art\, and Math) concepts at several fun stations. Drop in each week and choose one or more stations to investigate and explore. \nNote: Children age 7 and under will need adult supervision – Children age 10 and under must have an adult in the building.
URL:https://otsegolibrary.org/event/steam-stations-9/
CATEGORIES:Children
END:VEVENT
BEGIN:VEVENT
DTSTART;TZID=America/Detroit:20221115T100000
DTEND;TZID=America/Detroit:20221115T100000
DTSTAMP:20260420T010824
CREATED:20220706T193156Z
LAST-MODIFIED:20220706T193156Z
UID:7073-1668506400-1668506400@otsegolibrary.org
SUMMARY:Tiny Tots
DESCRIPTION:Tuesdays at 10 AM\nSeptember 13 – November 15\nAges 0 – 24 \nMonths Babies and their caregivers will learn fun songs\, hear a story\, and play with their new friends!
URL:https://otsegolibrary.org/event/tiny-tots-25/
CATEGORIES:Preschool
END:VEVENT
BEGIN:VEVENT
DTSTART;TZID=America/Detroit:20221114T140000
DTEND;TZID=America/Detroit:20221114T140000
DTSTAMP:20260420T010824
CREATED:20220705T195626Z
LAST-MODIFIED:20220705T195626Z
UID:7000-1668434400-1668434400@otsegolibrary.org
SUMMARY:2nd Monday Book Club
DESCRIPTION:Meets on the 2nd Monday at 2 PM – Newcomers are always welcome! \nAugust 8 Educated by Tara Westover \nSeptember 12 The Garden Collection by Christina Thompson \nOctober 17 Before We Were Yours by Lisa Wingate\n(Note: Date change due to library being closed) \nNovember 14 The All-Girl Filling Station’s Last Reunion by Fannie Flagg \nDecember 12 Read A Book of Your Choice\n\nJanuary 9 The Rubber Woman by Lindsay Ashford
URL:https://otsegolibrary.org/event/2nd-monday-book-club-11/
CATEGORIES:Book Club
END:VEVENT
BEGIN:VEVENT
DTSTART;TZID=America/Detroit:20221110T160000
DTEND;TZID=America/Detroit:20221110T160000
DTSTAMP:20260420T010824
CREATED:20220706T165745Z
LAST-MODIFIED:20220706T165745Z
UID:7034-1668096000-1668096000@otsegolibrary.org
SUMMARY:Art Hub - Teen/Tween Craft Club
DESCRIPTION:September 8 – November 10\n2nd Thursday at 4 PM\nMiddle School – High School \nJoin us for drawing\, painting\, crafting and more! The crafts at these meetups are more advanced and picked with teens and tweens in mind. \nNo registration necessary.
URL:https://otsegolibrary.org/event/art-hub-teen-tween-craft-club-3/
CATEGORIES:Teen/Tween
END:VEVENT
BEGIN:VEVENT
DTSTART;TZID=America/Detroit:20221110T100000
DTEND;TZID=America/Detroit:20221110T100000
DTSTAMP:20260420T010824
CREATED:20221020T145149Z
LAST-MODIFIED:20221020T145149Z
UID:7503-1668074400-1668074400@otsegolibrary.org
SUMMARY:Storytime
DESCRIPTION:Thursdays at 10 AM\nSeptember 15 – November 17\nAges 0 – 5 \nAutumn stories\, songs\, and crafts will help children FALL in love with Storytime and their library!
URL:https://otsegolibrary.org/event/storytime-23/
CATEGORIES:Preschool
END:VEVENT
BEGIN:VEVENT
DTSTART;TZID=America/Detroit:20221109T180000
DTEND;TZID=America/Detroit:20221109T180000
DTSTAMP:20260420T010824
CREATED:20221110T194251Z
LAST-MODIFIED:20221110T194328Z
UID:7564-1668016800-1668016800@otsegolibrary.org
SUMMARY:Library Board Meeting
DESCRIPTION:The Library Board of Trustees meets on a monthly basis to discuss library business and housekeeping. Meetings are open to the public and include a period of time for patrons to discuss comments and concerns. \nLibrary Board Schedule Updates:\nThe October meeting of the board was cancelled due to lack of quorum.\nIt has been rescheduled to November 9 at 6 PM and will be a combined meeting with the November regular meeting. \nOn November 16\, from 4-8 (or until finished) the library board will meet for a Strategic Planning Board Retreat with Amanda Standerfer from Fast Forward Libraries. The community survey results and input will be discussed and considered during the strategic planning process! \nThese meetings are normally held once a month on Wednesdays at 6:00 PM. The board meetings are tentative and could be subject to change at any time. Keep an eye out for deviations in scheduled dates/times of these meetings.
URL:https://otsegolibrary.org/event/library-board-meeting-17/
CATEGORIES:Library Board
END:VEVENT
BEGIN:VEVENT
DTSTART;TZID=America/Detroit:20221109T180000
DTEND;TZID=America/Detroit:20221109T180000
DTSTAMP:20260420T010824
CREATED:20220706T150000Z
LAST-MODIFIED:20220706T150000Z
UID:7014-1668016800-1668016800@otsegolibrary.org
SUMMARY:Non-Fiction Book Club
DESCRIPTION:Meets on the 2nd Wednesday at 6 PM – Newcomers are always welcome! \nJuly 13 Satch\, Dizzy\, & Rapid Robert by Timothy M. Gay \nAugust 10 The Escape Artists by Neal Bascomb \nSeptember 14 The Dynasty by Jeff Benedict \nOctober 12 The Cast Ridge by McKay Jenkins \nNovember 9 The Bully Pulpit by Doris Kearns \nDecember 14 Read A Book of Your Choice \nJanuary 11 The Nine by Jeffrey Toobin
URL:https://otsegolibrary.org/event/non-fiction-book-club-9/
CATEGORIES:Book Club
END:VEVENT
BEGIN:VEVENT
DTSTART;TZID=America/Detroit:20221109T100000
DTEND;TZID=America/Detroit:20221109T100000
DTSTAMP:20260420T010824
CREATED:20221018T235121Z
LAST-MODIFIED:20221018T235121Z
UID:7483-1667988000-1667988000@otsegolibrary.org
SUMMARY:Music & Movement
DESCRIPTION:Wednesdays at 10 AM\nSeptember 14 – November 16\nAges 0 – 5 \nYoung children will sing\, dance\, play interactive games\, and enjoy sensory activities in this lively\, musical class.
URL:https://otsegolibrary.org/event/music-movement-24/
CATEGORIES:Preschool
END:VEVENT
BEGIN:VEVENT
DTSTART;TZID=America/Detroit:20221108T160000
DTEND;TZID=America/Detroit:20221108T160000
DTSTAMP:20260420T010824
CREATED:20220824T175607Z
LAST-MODIFIED:20220824T175607Z
UID:7207-1667923200-1667923200@otsegolibrary.org
SUMMARY:STEAM Stations
DESCRIPTION:September 13 – November 15 • Tuesdays at 4 PM\nKindergarten – 5th Grade \nDiscover STEAM (Science\, Technology\, Engineering\, Art\, and Math) concepts at several fun stations. Drop in each week and choose one or more stations to investigate and explore. \nNote: Children age 7 and under will need adult supervision – Children age 10 and under must have an adult in the building.
URL:https://otsegolibrary.org/event/steam-stations-8/
CATEGORIES:Children
END:VEVENT
BEGIN:VEVENT
DTSTART;TZID=America/Detroit:20221108T100000
DTEND;TZID=America/Detroit:20221108T100000
DTSTAMP:20260420T010824
CREATED:20220706T193037Z
LAST-MODIFIED:20220706T193037Z
UID:7069-1667901600-1667901600@otsegolibrary.org
SUMMARY:Tiny Tots
DESCRIPTION:Tuesdays at 10 AM\nSeptember 13 – November 15\nAges 0 – 24 \nMonths Babies and their caregivers will learn fun songs\, hear a story\, and play with their new friends!
URL:https://otsegolibrary.org/event/tiny-tots-23/
CATEGORIES:Preschool
END:VEVENT
BEGIN:VEVENT
DTSTART;TZID=America/Detroit:20221105T093000
DTEND;TZID=America/Detroit:20221105T120000
DTSTAMP:20260420T010824
CREATED:20220705T195004Z
LAST-MODIFIED:20221013T165602Z
UID:6990-1667640600-1667649600@otsegolibrary.org
SUMMARY:Creative Cafe - Wooden Signs
DESCRIPTION:Presented by Judi Hayward -Snell of 2Creative Art Studio in Plainwell \nFriday\, November 4 and Saturday\, November 5\n9:30 AM – 12 PM (both days)\nAn afternoon class will open if these classes fill. \nCreate a beautiful wooden sign for your home\, the holidays\, or as a gift. Cost is $20 and pre-registration is required (non-refundable). You will be able to choose from three different patterns\, learn to make a bow to add to your sign\, and add some embellishments if desired. Cost of the class covers the instruction\, your finished wooden art\, and refreshments. These classes are for adults only unless special permission is given
URL:https://otsegolibrary.org/event/creative-cafe-wooden-signs-2/
CATEGORIES:Adult
END:VEVENT
BEGIN:VEVENT
DTSTART;TZID=America/Detroit:20221104T093000
DTEND;TZID=America/Detroit:20221104T120000
DTSTAMP:20260420T010824
CREATED:20220705T194931Z
LAST-MODIFIED:20221013T165615Z
UID:6988-1667554200-1667563200@otsegolibrary.org
SUMMARY:Creative Cafe - Wooden Signs
DESCRIPTION:Presented by Judi Hayward -Snell of 2Creative Art Studio in Plainwell \nFriday\, November 4 and Saturday\, November 5\n9:30 AM – 12 PM (both days)\nAn afternoon class will open if these classes fill. \nCreate a beautiful wooden sign for your home\, the holidays\, or as a gift. Cost is $20 and pre-registration is required (non-refundable). You will be able to choose from three different patterns\, learn to make a bow to add to your sign\, and add some embellishments if desired. Cost of the class covers the instruction\, your finished wooden art\, and refreshments. These classes are for adults only unless special permission is given
URL:https://otsegolibrary.org/event/creative-cafe-wooden-signs/
CATEGORIES:Adult
END:VEVENT
BEGIN:VEVENT
DTSTART;TZID=America/Detroit:20221103T190000
DTEND;TZID=America/Detroit:20221103T190000
DTSTAMP:20260420T010824
CREATED:20220630T154327Z
LAST-MODIFIED:20220630T154327Z
UID:6927-1667502000-1667502000@otsegolibrary.org
SUMMARY:Honeybee Basics
DESCRIPTION:Presented by the Kalamazoo Bee Club \nBy the time a person becomes an adult they normally know a little something about honeybees. They know they are good for the planet as a pollinator insect and they sting. They may even know  that honeybees are in peril due to a host of issues. \nAre you interested in knowing more about starting your own hive\, what causes colony collapse\, what goes on inside a beehive\, or what you can do to save the bees? Get the answers to these questions and so much more from a beekeeper from the Kalamazoo Bee Club. You don’t want to miss it!
URL:https://otsegolibrary.org/event/honeybee-basics/
CATEGORIES:Adult
END:VEVENT
BEGIN:VEVENT
DTSTART;TZID=America/Detroit:20221103T160000
DTEND;TZID=America/Detroit:20221103T160000
DTSTAMP:20260420T010824
CREATED:20220706T183337Z
LAST-MODIFIED:20220706T183337Z
UID:7047-1667491200-1667491200@otsegolibrary.org
SUMMARY:Teen Scene
DESCRIPTION:September 15 – November 17\n1st & 3rd Thursday at 4 PM\nMiddle School – High School \nHang out with us each week as we play games\, watch movies\, eat snacks\, and create some lasting memories. We will be featuring several Nintendo Switch consoles and tabletop games.
URL:https://otsegolibrary.org/event/teen-scene-13/
CATEGORIES:Teen/Tween
END:VEVENT
BEGIN:VEVENT
DTSTART;TZID=America/Detroit:20221103T100000
DTEND;TZID=America/Detroit:20221103T100000
DTSTAMP:20260420T010824
CREATED:20221020T145252Z
LAST-MODIFIED:20221020T145311Z
UID:7507-1667469600-1667469600@otsegolibrary.org
SUMMARY:Storytime
DESCRIPTION:Thursdays at 10 AM\nSeptember 15 – November 17\nAges 0 – 5 \nAutumn stories\, songs\, and crafts will help children FALL in love with Storytime and their library!
URL:https://otsegolibrary.org/event/storytime-25/
CATEGORIES:Preschool
END:VEVENT
BEGIN:VEVENT
DTSTART;TZID=America/Detroit:20221102T100000
DTEND;TZID=America/Detroit:20221102T100000
DTSTAMP:20260420T010824
CREATED:20221018T235023Z
LAST-MODIFIED:20221018T235023Z
UID:7481-1667383200-1667383200@otsegolibrary.org
SUMMARY:Music & Movement
DESCRIPTION:Wednesdays at 10 AM\nSeptember 14 – November 16\nAges 0 – 5 \nYoung children will sing\, dance\, play interactive games\, and enjoy sensory activities in this lively\, musical class.
URL:https://otsegolibrary.org/event/music-movement-23/
CATEGORIES:Preschool
END:VEVENT
BEGIN:VEVENT
DTSTART;TZID=America/Detroit:20221101T160000
DTEND;TZID=America/Detroit:20221101T160000
DTSTAMP:20260420T010824
CREATED:20220824T175544Z
LAST-MODIFIED:20220824T175544Z
UID:7205-1667318400-1667318400@otsegolibrary.org
SUMMARY:STEAM Stations
DESCRIPTION:September 13 – November 15 • Tuesdays at 4 PM\nKindergarten – 5th Grade \nDiscover STEAM (Science\, Technology\, Engineering\, Art\, and Math) concepts at several fun stations. Drop in each week and choose one or more stations to investigate and explore. \nNote: Children age 7 and under will need adult supervision – Children age 10 and under must have an adult in the building.
URL:https://otsegolibrary.org/event/steam-stations-7/
CATEGORIES:Children
END:VEVENT
BEGIN:VEVENT
DTSTART;TZID=America/Detroit:20221101T100000
DTEND;TZID=America/Detroit:20221101T100000
DTSTAMP:20260420T010824
CREATED:20220706T192934Z
LAST-MODIFIED:20220706T192934Z
UID:7067-1667296800-1667296800@otsegolibrary.org
SUMMARY:Tiny Tots
DESCRIPTION:Tuesdays at 10 AM\nSeptember 13 – November 15\nAges 0 – 24 \nMonths Babies and their caregivers will learn fun songs\, hear a story\, and play with their new friends!
URL:https://otsegolibrary.org/event/tiny-tots-22/
CATEGORIES:Preschool
END:VEVENT
BEGIN:VEVENT
DTSTART;TZID=America/Detroit:20221028T180000
DTEND;TZID=America/Detroit:20221028T200000
DTSTAMP:20260420T010824
CREATED:20220706T163529Z
LAST-MODIFIED:20220706T163835Z
UID:7024-1666980000-1666987200@otsegolibrary.org
SUMMARY:After Hours Halloween Party
DESCRIPTION:Something is brewing… a wicked good time just for teens and tweens! \nAll Hallows’ Eve is almost upon us\, so hop on your broomstick and fly on over to the library for an after-hours Halloween party! Our bewitching evening of fun will consist of pizza\, refreshments\, games\, hide-and-seek in the dark\, costume contest\, and of course… CANDY! \nAll teens and tweens are welcome – no registration necessary. \n  \nNOTE: This is an after hours party – the library closes at 6 PM. The party is intended for middle school and high school aged teens/tweens and is fully supervised.  \n 
URL:https://otsegolibrary.org/event/after-hours-halloween-party/
CATEGORIES:Teen/Tween
END:VEVENT
BEGIN:VEVENT
DTSTART;TZID=America/Detroit:20221027T190000
DTEND;TZID=America/Detroit:20221027T190000
DTSTAMP:20260420T010824
CREATED:20220630T154029Z
LAST-MODIFIED:20221025T180012Z
UID:6921-1666897200-1666897200@otsegolibrary.org
SUMMARY:Health Care and Your Retirement
DESCRIPTION:Preparing for Retirement Series\nPresented by Ginger Titus\, Financial Advisor at Edward Jones \nHealth Care and Your Retirement * GUEST SPEAKERS\nElizabeth Robinson\, Attorney at Law & Miranda Pearson\, Medicare State Representative\nThursday\, October 27 at 7 PM\nAn introduction of Medicare coverage\, available options for supplemental health care\, and long-term care insurance. \nFuture Programs in this series: \nPreparing Your Estate Plan * GUEST SPEAKER\nElizabeth Robinson\, Attorney at Law\nThursday\, November 17 at 7 PM\nA basic overview of estate planning – account registration\, beneficiary designation\, will\, trust\, tax information\, life insurance\, and TOD.
URL:https://otsegolibrary.org/event/health-care-and-your-retirement/
CATEGORIES:Adult
END:VEVENT
BEGIN:VEVENT
DTSTART;TZID=America/Detroit:20221027T160000
DTEND;TZID=America/Detroit:20221027T160000
DTSTAMP:20260420T010824
CREATED:20220706T183812Z
LAST-MODIFIED:20220706T183812Z
UID:7053-1666886400-1666886400@otsegolibrary.org
SUMMARY:Sweet & Salty Book Club
DESCRIPTION:Teen/Tween Book Club\nSeptember 22 – October 27\n4th Thursday at 4 PM\nMiddle School – High School \nEach month we’ll get together to discuss what we are reading over snacks! Not everyone likes to read the same books so we let you choose the book you want to read and share with the group – your books\, your choice! Need a suggestion? Ask a staff member about new and popular book titles in the teen\, juvenile\, and young adult sections!
URL:https://otsegolibrary.org/event/sweet-salty-book-club-8/
CATEGORIES:Teen/Tween
END:VEVENT
BEGIN:VEVENT
DTSTART;TZID=America/Detroit:20221027T100000
DTEND;TZID=America/Detroit:20221027T100000
DTSTAMP:20260420T010824
CREATED:20221020T145109Z
LAST-MODIFIED:20221020T145109Z
UID:7501-1666864800-1666864800@otsegolibrary.org
SUMMARY:Storytime
DESCRIPTION:Thursdays at 10 AM\nSeptember 15 – November 17\nAges 0 – 5 \nAutumn stories\, songs\, and crafts will help children FALL in love with Storytime and their library!
URL:https://otsegolibrary.org/event/storytime-22/
CATEGORIES:Preschool
END:VEVENT
BEGIN:VEVENT
DTSTART;TZID=America/Detroit:20221026T130000
DTEND;TZID=America/Detroit:20221026T130000
DTSTAMP:20260420T010824
CREATED:20220630T154628Z
LAST-MODIFIED:20220802T180758Z
UID:6934-1666789200-1666789200@otsegolibrary.org
SUMMARY:Crafting Corner
DESCRIPTION:August – December\nMeets on the 4th Wednesday from 1 – 2 PM \nCrafting in community… come create and work on your projects with your friends and neighbors while enjoying a cup of coffee. Bring along your own projects (that you can do on your lap) and supplies – knitting\, crocheting\, cross-stitching\, coloring\, sketching\, etc. We will gather on the comfortable chairs in the corner of the library by the fireplace and chat while we create.
URL:https://otsegolibrary.org/event/crafting-corner-3/
CATEGORIES:Adult
END:VEVENT
BEGIN:VEVENT
DTSTART;TZID=America/Detroit:20221026T100000
DTEND;TZID=America/Detroit:20221026T100000
DTSTAMP:20260420T010824
CREATED:20220706T194331Z
LAST-MODIFIED:20220706T194331Z
UID:7087-1666778400-1666778400@otsegolibrary.org
SUMMARY:Music & Movement
DESCRIPTION:Wednesdays at 10 AM\nSeptember 14 – November 16\nAges 0 – 5 \nYoung children will sing\, dance\, play interactive games\, and enjoy sensory activities in this lively\, musical class.
URL:https://otsegolibrary.org/event/music-movement-22/
CATEGORIES:Preschool
END:VEVENT
BEGIN:VEVENT
DTSTART;TZID=America/Detroit:20221025T160000
DTEND;TZID=America/Detroit:20221025T160000
DTSTAMP:20260420T010824
CREATED:20220824T175517Z
LAST-MODIFIED:20220824T175517Z
UID:7203-1666713600-1666713600@otsegolibrary.org
SUMMARY:STEAM Stations
DESCRIPTION:September 13 – November 15 • Tuesdays at 4 PM\nKindergarten – 5th Grade \nDiscover STEAM (Science\, Technology\, Engineering\, Art\, and Math) concepts at several fun stations. Drop in each week and choose one or more stations to investigate and explore. \nNote: Children age 7 and under will need adult supervision – Children age 10 and under must have an adult in the building.
URL:https://otsegolibrary.org/event/steam-stations-6/
CATEGORIES:Children
END:VEVENT
BEGIN:VEVENT
DTSTART;TZID=America/Detroit:20221025T100000
DTEND;TZID=America/Detroit:20221025T100000
DTSTAMP:20260420T010824
CREATED:20220706T192859Z
LAST-MODIFIED:20220706T192859Z
UID:7065-1666692000-1666692000@otsegolibrary.org
SUMMARY:Tiny Tots
DESCRIPTION:Tuesdays at 10 AM\nSeptember 13 – November 15\nAges 0 – 24 \nMonths Babies and their caregivers will learn fun songs\, hear a story\, and play with their new friends!
URL:https://otsegolibrary.org/event/tiny-tots-21/
CATEGORIES:Preschool
END:VEVENT
END:VCALENDAR