BEGIN:VCALENDAR
VERSION:2.0
PRODID:-//Otsego District Public Library - ECPv6.15.20//NONSGML v1.0//EN
CALSCALE:GREGORIAN
METHOD:PUBLISH
X-WR-CALNAME:Otsego District Public Library
X-ORIGINAL-URL:https://otsegolibrary.org
X-WR-CALDESC:Events for Otsego District Public Library
REFRESH-INTERVAL;VALUE=DURATION:PT1H
X-Robots-Tag:noindex
X-PUBLISHED-TTL:PT1H
BEGIN:VTIMEZONE
TZID:America/Detroit
BEGIN:DAYLIGHT
TZOFFSETFROM:-0500
TZOFFSETTO:-0400
TZNAME:EDT
DTSTART:20240310T070000
END:DAYLIGHT
BEGIN:STANDARD
TZOFFSETFROM:-0400
TZOFFSETTO:-0500
TZNAME:EST
DTSTART:20241103T060000
END:STANDARD
BEGIN:DAYLIGHT
TZOFFSETFROM:-0500
TZOFFSETTO:-0400
TZNAME:EDT
DTSTART:20250309T070000
END:DAYLIGHT
BEGIN:STANDARD
TZOFFSETFROM:-0400
TZOFFSETTO:-0500
TZNAME:EST
DTSTART:20251102T060000
END:STANDARD
BEGIN:DAYLIGHT
TZOFFSETFROM:-0500
TZOFFSETTO:-0400
TZNAME:EDT
DTSTART:20260308T070000
END:DAYLIGHT
BEGIN:STANDARD
TZOFFSETFROM:-0400
TZOFFSETTO:-0500
TZNAME:EST
DTSTART:20261101T060000
END:STANDARD
END:VTIMEZONE
BEGIN:VEVENT
DTSTART;TZID=America/Detroit:20250621T000000
DTEND;TZID=America/Detroit:20250802T235959
DTSTAMP:20260419T091856
CREATED:20250609T135932Z
LAST-MODIFIED:20250701T200830Z
UID:11350-1750464000-1754179199@otsegolibrary.org
SUMMARY:Color Our World - Summer Reading Program         (All Ages from Birth - 18)
DESCRIPTION:JUNE 21 – AUGUST 2 \nChildren can sign up for summer reading from June 16 – 21 to get a prize! Sign-ups continue through July 12. Set a reading goal\, read\, and bring your completed finisher slips to the library for a finisher prize bag full of goodies\, pick out a FREE book\, and enter to win one of our Colortastic Grand Prizes! Finisher bags will be available beginning July 14. \nCOLORTASTIC GRAND PRIZES\nSummer Reading Program finishers can enter for a chance to win:\n• 1st Place • $300 Meijer Gift Card + Red Reading Pillow\n• 2nd Place • $200 Meijer Gift Card + Blue Reading Pillow\n• 3rd Place • $100 Meijer Gift Card + Yellow Reading Pillow \nCOLORTASTIC GRAND PRIZE PICKS that you can enter to win!\nPlease note that winners can not win both a Grand Prize and a Grand Prize Pick.\n\nChildren (Birth – 5th Grade) \n\nStep2 Flip & Doodle Easel Desk With Stool\nMAGNA-TILES – Two Magnetic Construction Sets\nCrayola Art Set – Light Up Tracing Pad\, Art Case\, and Spin & Spiral Station\nLEGO Classic Creative Fun and Brick Box Sets\nPix Brix Pixel Art Puzzle Bricks and Starry Night Sets\nMagnetic Blocks – Grassland and Forest Building Block Sets including Chicken Jockey!\n65” Inflatable Wheel Roller\, Pool Toys and Beach Towel\nGiant Outdoor Set – Kite\, Frisbee\, and Ladder Toss\n\nTeen & Tween (6th – 12th Grade) \n\n3D Printing Pen with Filament Refills\nHarry Potter Lego Bundle\nDisc Golf Basket with Discs and Bag\nKodak Printomatic Camera\, Case\, and Film\nDeluxe Artists Easel and Painting Set
URL:https://otsegolibrary.org/event/color-our-world-summer-reading-program-all-ages-from-birth-18/
CATEGORIES:Children
END:VEVENT
BEGIN:VEVENT
DTSTART;TZID=America/Detroit:20250621T000000
DTEND;TZID=America/Detroit:20250802T235959
DTSTAMP:20260419T091856
CREATED:20250609T163111Z
LAST-MODIFIED:20250609T185305Z
UID:11418-1750464000-1754179199@otsegolibrary.org
SUMMARY:Felix Colors Otsego - Community Scavenger Hunt
DESCRIPTION:June 21 – August 2 \nFelix the Fox is painting downtown Otsego during the Summer Reading Program. Local businesses and community centers will have pictures of Felix with different colored paintbrushes. Find Felix and color in the correct paint color during this fun\, interactive activity. Pick up a list at the library. \nOnce you find all of the paintbrush colors\, return your completed sheet to the library for a special prize!
URL:https://otsegolibrary.org/event/felix-colors-otsego-community-scavenger-hunt/
CATEGORIES:Community Scavenger Hunt
END:VEVENT
BEGIN:VEVENT
DTSTART;TZID=America/Detroit:20250703T100000
DTEND;TZID=America/Detroit:20250703T100000
DTSTAMP:20260419T091856
CREATED:20250609T155942Z
LAST-MODIFIED:20250609T161605Z
UID:11406-1751536800-1751536800@otsegolibrary.org
SUMMARY:Masterpiece Makers
DESCRIPTION:Masterpiece Makers is intended for children Kindergarten – 5th Grade. \nJune 26 – July 31\n10 AM \nLearn about famous artists and create artwork inspired by their masterpieces.
URL:https://otsegolibrary.org/event/masterpiece-makers-2/
CATEGORIES:Children
END:VEVENT
BEGIN:VEVENT
DTSTART;TZID=America/Detroit:20250703T140000
DTEND;TZID=America/Detroit:20250703T140000
DTSTAMP:20260419T091856
CREATED:20250609T194333Z
LAST-MODIFIED:20250609T194347Z
UID:11450-1751551200-1751551200@otsegolibrary.org
SUMMARY:Canvas & Chaos - Bookshelf Doodles
DESCRIPTION:Canvas & Chaos is intended for middle and high school aged teens/tweens. \nThis group meets on Thursdays at 2 PM. \nCanvas Magnet Painting – JUNE 26 @ 2 PM\nBookshelf Doodles – JULY 3 @ 2 PM\nSharpie Tie Dye Tote Bags – JULY 10 @ 2 PM\nPaint Your Friend – JULY 17 @ 2 PM\nGeometric Mountains – JULY 24 @ 2 PM\nFantasy Drawing Class w/Natalie Budnick – JULY 31 @ 2 PM***\n*** Create a fantasy creature at this interactive class for all skill levels!
URL:https://otsegolibrary.org/event/canvas-chaos-bookshelf-doodles/
CATEGORIES:Teen/Tween
END:VEVENT
BEGIN:VEVENT
DTSTART;TZID=America/Detroit:20250704T000000
DTEND;TZID=America/Detroit:20250705T235959
DTSTAMP:20260419T091856
CREATED:20241230T171224Z
LAST-MODIFIED:20241230T171234Z
UID:10830-1751587200-1751759999@otsegolibrary.org
SUMMARY:LIBRARY CLOSED
DESCRIPTION:The library will be closed for the holiday. \nCLOSED:\nIndependence Day\nFriday\, July 4 – Saturday\, July 5 \nHave a safe and happy holiday with your family and friends!
URL:https://otsegolibrary.org/event/library-close/
CATEGORIES:Notice/Closing
END:VEVENT
BEGIN:VEVENT
DTSTART;TZID=America/Detroit:20250707T100000
DTEND;TZID=America/Detroit:20250707T100000
DTSTAMP:20260419T091856
CREATED:20250609T141529Z
LAST-MODIFIED:20250609T141648Z
UID:11357-1751882400-1751882400@otsegolibrary.org
SUMMARY:Messy Colorful Play
DESCRIPTION:Messy Colorful Play is intended for children 0-5 Years Old. \nMondays at 10 AM\nJune 23 – July 28 \nColorful play stations will be set up so children can explore fun and interactive activities. Spoiler alert – you may get messy!
URL:https://otsegolibrary.org/event/messy-colorful-play-3/
CATEGORIES:Preschool
END:VEVENT
BEGIN:VEVENT
DTSTART;TZID=America/Detroit:20250708T100000
DTEND;TZID=America/Detroit:20250708T100000
DTSTAMP:20260419T091856
CREATED:20250609T145149Z
LAST-MODIFIED:20250609T145758Z
UID:11371-1751968800-1751968800@otsegolibrary.org
SUMMARY:Movie & Popcorn - “Harold and the Purple Crayon” (PG\, 1 hr 29 min)
DESCRIPTION:Munch on popcorn while you watch this imaginative movie. Movie viewers will pick a crayon to draw something that they would like to make come to life. \nMovie: Harold and the Purple Crayon\nRated: PG\nRun Time: 1 hr 29 min \n(Please note: blankets and pillows are not allowed in the library.)
URL:https://otsegolibrary.org/event/movie-popcorn-harold-and-the-purple-crayon-pg-1-hr-29-min/
CATEGORIES:Family
END:VEVENT
BEGIN:VEVENT
DTSTART;TZID=America/Detroit:20250708T140000
DTEND;TZID=America/Detroit:20250708T140000
DTSTAMP:20260419T091856
CREATED:20250609T192543Z
LAST-MODIFIED:20250609T192908Z
UID:11426-1751983200-1751983200@otsegolibrary.org
SUMMARY:Color Pop Art Lab - Movie & Popcorn - Elemental
DESCRIPTION:The Color Pop Art Lab meets on Tuesdays @ 2 PM. This event is intended for middle and high school aged teens/tweens. \nAir Dry Clay Magnets – JUNE 24 @ 2 PM\nWatercolor Bookmark Art – JULY 1 @ 2 PM\nMovie & Popcorn – “Elemental” (PG\, 1 hr 28min) – JULY 8 @ 2 PM\nWatercolor Cookies – JULY 15 @ 2 PM\nPopsicle Stick Art – JULY 22 @ 2 PM\nFingerprint Art – JULY 29 @ 2 PM
URL:https://otsegolibrary.org/event/color-pop-art-lab-movie-popcorn-elemental/
CATEGORIES:Teen/Tween
END:VEVENT
BEGIN:VEVENT
DTSTART;TZID=America/Detroit:20250708T180000
DTEND;TZID=America/Detroit:20250708T180000
DTSTAMP:20260419T091856
CREATED:20250619T144203Z
LAST-MODIFIED:20250619T144210Z
UID:11673-1751997600-1751997600@otsegolibrary.org
SUMMARY:Non-Fiction Book Club
DESCRIPTION:The Non-Fiction Book Club meets on the 2nd Wednesday at 6 PM\nNew members are always welcome to attend one or all sessions! \nJuly 8 \nThe Wager by David Grann \nAugust 12 \nThe Words We Live By by Linda R. Monk \nSeptember 9 \nPerfect Strangers by Roseann Sdoia \nOctober 14 \nOn the Hippie Trail by Rick Steves \nNovember 11 \nJames Madison: A Life Reconsidered by Lynne Cheney \nDecember 9 \nThe Hummingbird’s Gift by Sy Montgomery \nJanuary 13 \nKing: A Life by Jonathan Eig
URL:https://otsegolibrary.org/event/non-fiction-book-club-40/
CATEGORIES:Book Club
END:VEVENT
BEGIN:VEVENT
DTSTART;TZID=America/Detroit:20250709T100000
DTEND;TZID=America/Detroit:20250709T100000
DTSTAMP:20260419T091856
CREATED:20250609T154450Z
LAST-MODIFIED:20250612T181338Z
UID:11384-1752055200-1752055200@otsegolibrary.org
SUMMARY:Colorful Stories and Songs
DESCRIPTION:Colorful Stories and Songs is intended for children ages 0-5. \nJune 25 – July 30\nWednesdays at 10 AM \nStories\, songs\, crafts\, & fun!
URL:https://otsegolibrary.org/event/colorful-stories-and-songs-2/
CATEGORIES:Preschool
END:VEVENT
BEGIN:VEVENT
DTSTART;TZID=America/Detroit:20250709T140000
DTEND;TZID=America/Detroit:20250709T140000
DTSTAMP:20260419T091856
CREATED:20250609T154938Z
LAST-MODIFIED:20250612T181141Z
UID:11396-1752069600-1752069600@otsegolibrary.org
SUMMARY:Creative Stations
DESCRIPTION:Creative Stations is intended for children in K – 5TH Grade. \nJune 25 – July 30\nWednesdays at 2 PM \nArt\, crafts\, and building sets!
URL:https://otsegolibrary.org/event/creative-stations-3/
CATEGORIES:Children
END:VEVENT
BEGIN:VEVENT
DTSTART;TZID=America/Detroit:20250709T140000
DTEND;TZID=America/Detroit:20250709T140000
DTSTAMP:20260419T091856
CREATED:20250609T193400Z
LAST-MODIFIED:20250609T193821Z
UID:11436-1752069600-1752069600@otsegolibrary.org
SUMMARY:Bright & Bold Book Club
DESCRIPTION:This book club is intended for middle and high school aged teens/tweens. \nMeets on Wednesdays @ 2 PM\nJune 25\, July 9\, & July 23 \nShare what you are reading or your favorite book!
URL:https://otsegolibrary.org/event/bright-bold-book-club/
CATEGORIES:Teen/Tween
END:VEVENT
BEGIN:VEVENT
DTSTART;TZID=America/Detroit:20250710T100000
DTEND;TZID=America/Detroit:20250710T100000
DTSTAMP:20260419T091856
CREATED:20250609T160013Z
LAST-MODIFIED:20250609T160140Z
UID:11408-1752141600-1752141600@otsegolibrary.org
SUMMARY:Masterpiece Makers
DESCRIPTION:Masterpiece Makers is intended for children Kindergarten – 5th Grade. \nJune 26 – July 31\n10 AM \nLearn about famous artists and create artwork inspired by their masterpieces.
URL:https://otsegolibrary.org/event/masterpiece-makers-3/
CATEGORIES:Children
END:VEVENT
BEGIN:VEVENT
DTSTART;TZID=America/Detroit:20250710T140000
DTEND;TZID=America/Detroit:20250710T140000
DTSTAMP:20260419T091856
CREATED:20250609T194415Z
LAST-MODIFIED:20250609T203006Z
UID:11452-1752156000-1752156000@otsegolibrary.org
SUMMARY:Canvas & Chaos - Sharpie Tie Dye Tote Bags
DESCRIPTION:Canvas & Chaos is intended for middle and high school aged teens/tweens. \nThis group meets on Thursdays at 2 PM. \nCanvas Magnet Painting – JUNE 26 @ 2 PM\nBookshelf Doodles – JULY 3 @ 2 PM\nSharpie Tie Dye Tote Bags – JULY 10 @ 2 PM\nPaint Your Friend – JULY 17 @ 2 PM\nGeometric Mountains – JULY 24 @ 2 PM\nFantasy Drawing Class w/Natalie Budnick – JULY 31 @ 2 PM***\n*** Create a fantasy creature at this interactive class for all skill levels!
URL:https://otsegolibrary.org/event/canvas-chaos-sharpie-tie-dye-tote-bags/
CATEGORIES:Teen/Tween
END:VEVENT
BEGIN:VEVENT
DTSTART;TZID=America/Detroit:20250714T100000
DTEND;TZID=America/Detroit:20250714T100000
DTSTAMP:20260419T091856
CREATED:20250609T141926Z
LAST-MODIFIED:20250609T144703Z
UID:11360-1752487200-1752487200@otsegolibrary.org
SUMMARY:Messy Colorful Play
DESCRIPTION:Messy Colorful Play is intended for children 0-5 Years Old. \nMondays at 10 AM\nJune 23 – July 28 \nColorful play stations will be set up so children can explore fun and interactive activities. Spoiler alert – you may get messy!
URL:https://otsegolibrary.org/event/messy-colorful-play-4/
CATEGORIES:Preschool
END:VEVENT
BEGIN:VEVENT
DTSTART;TZID=America/Detroit:20250714T140000
DTEND;TZID=America/Detroit:20250714T140000
DTSTAMP:20260419T091856
CREATED:20250619T142524Z
LAST-MODIFIED:20250619T142813Z
UID:11658-1752501600-1752501600@otsegolibrary.org
SUMMARY:2nd Monday Book Club
DESCRIPTION:The 2nd Monday Book Club meets on the 2nd Monday of each month at 2 PM.\nNew members are always welcome to attend one or all sessions! \nJuly 14 \nSouth of Superior byEllen Airgood \nAugust 11 \nThe Hate You Give by Angie Thomas \nSeptember 8 \nKillers of the Flower Moon by David Grann \nOctober 13 \nCatering to Nobody by Diane Mott Davidson \nNovember 10 \nFirst Lie Wins by Ashley Elston \nDecember 8 \nHoliday Book of Choice \nJanuary 12 \nFunny Story by Emily Henry
URL:https://otsegolibrary.org/event/2nd-monday-book-club-48/
CATEGORIES:Book Club
END:VEVENT
BEGIN:VEVENT
DTSTART;TZID=America/Detroit:20250715T100000
DTEND;TZID=America/Detroit:20250715T100000
DTSTAMP:20260419T091856
CREATED:20250609T145343Z
LAST-MODIFIED:20250609T145754Z
UID:11373-1752573600-1752573600@otsegolibrary.org
SUMMARY:Jeff Wawrzaszek’s Art of Magic
DESCRIPTION:Jeff delivers his “best of the best” material in this “awesomazing” magic show. A free reading-themed magic trick will be given to each child in attendance. \nPLUS kids will learn a bonus “Color Our World” magic trick.
URL:https://otsegolibrary.org/event/jeff-wawrzaszeks-art-of-magic/
CATEGORIES:Family
END:VEVENT
BEGIN:VEVENT
DTSTART;TZID=America/Detroit:20250715T140000
DTEND;TZID=America/Detroit:20250715T140000
DTSTAMP:20260419T091856
CREATED:20250609T192637Z
LAST-MODIFIED:20250609T192826Z
UID:11428-1752588000-1752588000@otsegolibrary.org
SUMMARY:Color Pop Art Lab - Watercolor Cookies
DESCRIPTION:The Color Pop Art Lab meets on Tuesdays @ 2 PM. This event is intended for middle and high school aged teens/tweens. \nAir Dry Clay Magnets – JUNE 24 @ 2 PM\nWatercolor Bookmark Art – JULY 1 @ 2 PM\nMovie & Popcorn – “Elemental” (PG\, 1 hr 28min) – JULY 8 @ 2 PM\nWatercolor Cookies – JULY 15 @ 2 PM\nPopsicle Stick Art – JULY 22 @ 2 PM\nFingerprint Art – JULY 29 @ 2 PM
URL:https://otsegolibrary.org/event/color-pop-art-lab-watercolor-cookies/
CATEGORIES:Teen/Tween
END:VEVENT
BEGIN:VEVENT
DTSTART;TZID=America/Detroit:20250716T100000
DTEND;TZID=America/Detroit:20250716T100000
DTSTAMP:20260419T091856
CREATED:20250609T154619Z
LAST-MODIFIED:20250612T181336Z
UID:11386-1752660000-1752660000@otsegolibrary.org
SUMMARY:Colorful Stories and Songs
DESCRIPTION:Colorful Stories and Songs is intended for children ages 0-5. \nJune 25 – July 30\nWednesdays at 10 AM \nStories\, songs\, crafts\, & fun!
URL:https://otsegolibrary.org/event/colorful-stories-and-songs-3/
CATEGORIES:Preschool
END:VEVENT
BEGIN:VEVENT
DTSTART;TZID=America/Detroit:20250716T140000
DTEND;TZID=America/Detroit:20250716T140000
DTSTAMP:20260419T091856
CREATED:20250609T155357Z
LAST-MODIFIED:20250612T181155Z
UID:11398-1752674400-1752674400@otsegolibrary.org
SUMMARY:Creative Stations
DESCRIPTION:Creative Stations is intended for children in K – 5TH Grade. \nJune 25 – July 30\nWednesdays at 2 PM \nArt\, crafts\, and building sets!
URL:https://otsegolibrary.org/event/creative-stations-4/
CATEGORIES:Children
END:VEVENT
BEGIN:VEVENT
DTSTART;TZID=America/Detroit:20250716T140000
DTEND;TZID=America/Detroit:20250716T140000
DTSTAMP:20260419T091856
CREATED:20250609T193650Z
LAST-MODIFIED:20250609T193652Z
UID:11442-1752674400-1752674400@otsegolibrary.org
SUMMARY:Ink & Imagination Writing Club
DESCRIPTION:The Ink & Imagination Writing Club is intended for middle and high school aged teens/tweens. \nThis club meets on Wednesdays at 2 PM\nJuly 2\, July 16\, and July 30 \nWrite\, explore\, and share with fellow young authors.
URL:https://otsegolibrary.org/event/ink-imagination-writing-club-2/
CATEGORIES:Teen/Tween
END:VEVENT
BEGIN:VEVENT
DTSTART;TZID=America/Detroit:20250716T170000
DTEND;TZID=America/Detroit:20250716T170000
DTSTAMP:20260419T091856
CREATED:20250417T141359Z
LAST-MODIFIED:20250417T141359Z
UID:11240-1752685200-1752685200@otsegolibrary.org
SUMMARY:Library Board Meeting
DESCRIPTION:The Library Board of Trustees meets on a monthly basis to discuss library business and housekeeping. Meetings are open to the public and include a period of time for patrons to discuss comments and concerns.\n\n\nThese meetings are held once a month on Wednesdays at 5 PM.
URL:https://otsegolibrary.org/event/library-board-meeting-34/
CATEGORIES:Library Board
END:VEVENT
BEGIN:VEVENT
DTSTART;TZID=America/Detroit:20250717T100000
DTEND;TZID=America/Detroit:20250717T100000
DTSTAMP:20260419T091856
CREATED:20250609T161730Z
LAST-MODIFIED:20250609T161739Z
UID:11412-1752746400-1752746400@otsegolibrary.org
SUMMARY:Masterpiece Makers
DESCRIPTION:Masterpiece Makers is intended for children Kindergarten – 5th Grade. \nJune 26 – July 31\n10 AM \nLearn about famous artists and create artwork inspired by their masterpieces.
URL:https://otsegolibrary.org/event/masterpiece-makers-5/
CATEGORIES:Children
END:VEVENT
BEGIN:VEVENT
DTSTART;TZID=America/Detroit:20250717T140000
DTEND;TZID=America/Detroit:20250717T140000
DTSTAMP:20260419T091856
CREATED:20250609T203036Z
LAST-MODIFIED:20250609T203045Z
UID:11454-1752760800-1752760800@otsegolibrary.org
SUMMARY:Canvas & Chaos - Paint Your Friend
DESCRIPTION:Canvas & Chaos is intended for middle and high school aged teens/tweens. \nThis group meets on Thursdays at 2 PM. \nCanvas Magnet Painting – JUNE 26 @ 2 PM\nBookshelf Doodles – JULY 3 @ 2 PM\nSharpie Tie Dye Tote Bags – JULY 10 @ 2 PM\nPaint Your Friend – JULY 17 @ 2 PM\nGeometric Mountains – JULY 24 @ 2 PM\nFantasy Drawing Class w/Natalie Budnick – JULY 31 @ 2 PM***\n*** Create a fantasy creature at this interactive class for all skill levels!
URL:https://otsegolibrary.org/event/canvas-chaos-paint-your-friend/
CATEGORIES:Teen/Tween
END:VEVENT
BEGIN:VEVENT
DTSTART;TZID=America/Detroit:20250721T100000
DTEND;TZID=America/Detroit:20250721T100000
DTSTAMP:20260419T091856
CREATED:20250609T144745Z
LAST-MODIFIED:20250609T145553Z
UID:11362-1753092000-1753092000@otsegolibrary.org
SUMMARY:Messy Colorful Play
DESCRIPTION:Messy Colorful Play is intended for children 0-5 Years Old. \nMondays at 10 AM\nJune 23 – July 28 \nColorful play stations will be set up so children can explore fun and interactive activities. Spoiler alert – you may get messy!
URL:https://otsegolibrary.org/event/messy-colorful-play-5/
CATEGORIES:Preschool
END:VEVENT
BEGIN:VEVENT
DTSTART;TZID=America/Detroit:20250722T140000
DTEND;TZID=America/Detroit:20250722T140000
DTSTAMP:20260419T091856
CREATED:20250609T192710Z
LAST-MODIFIED:20250716T140927Z
UID:11430-1753192800-1753192800@otsegolibrary.org
SUMMARY:Color Pop Art Lab - Popsicle Stick Art
DESCRIPTION:The Color Pop Art Lab meets on Tuesdays @ 2 PM. This event is intended for middle and high school aged teens/tweens. \nAir Dry Clay Magnets – JUNE 24 @ 2 PM\nWatercolor Bookmark Art – JULY 1 @ 2 PM\nMovie & Popcorn – “Elemental” (PG\, 1 hr 28min) – JULY 8 @ 2 PM\nWatercolor Cookies – JULY 15 @ 2 PM\nPopsicle Stick Art – JULY 22 @ 2 PM\nFingerprint Art – JULY 29 @ 2 PM
URL:https://otsegolibrary.org/event/color-pop-art-lab-popsicle-stick-art/
CATEGORIES:Teen/Tween
END:VEVENT
BEGIN:VEVENT
DTSTART;TZID=America/Detroit:20250722T100000
DTEND;TZID=America/Detroit:20250722T100000
DTSTAMP:20260419T091856
CREATED:20250609T145418Z
LAST-MODIFIED:20250721T172518Z
UID:11375-1753178400-1753178400@otsegolibrary.org
SUMMARY:Mosaics with Meijer
DESCRIPTION:Plainwell Meijer is coming to the library to bring you mosaic creations! Each participant will create beautiful mosaic art and make a mosaic cupcake to eat. \nMeijer staff will be on hand to add to the fun.
URL:https://otsegolibrary.org/event/mosaics-with-meijer/
CATEGORIES:Family
END:VEVENT
BEGIN:VEVENT
DTSTART;TZID=America/Detroit:20250723T100000
DTEND;TZID=America/Detroit:20250723T100000
DTSTAMP:20260419T091856
CREATED:20250609T154650Z
LAST-MODIFIED:20250612T181333Z
UID:11388-1753264800-1753264800@otsegolibrary.org
SUMMARY:Colorful Stories and Songs
DESCRIPTION:Colorful Stories and Songs is intended for children ages 0-5. \nJune 25 – July 30\nWednesdays at 10 AM \nStories\, songs\, crafts\, & fun!
URL:https://otsegolibrary.org/event/colorful-stories-and-songs-4/
CATEGORIES:Preschool
END:VEVENT
BEGIN:VEVENT
DTSTART;TZID=America/Detroit:20250723T140000
DTEND;TZID=America/Detroit:20250723T140000
DTSTAMP:20260419T091856
CREATED:20250609T155721Z
LAST-MODIFIED:20250612T181205Z
UID:11400-1753279200-1753279200@otsegolibrary.org
SUMMARY:Creative Station
DESCRIPTION:Creative Stations is intended for children in K – 5TH Grade. \nJune 25 – July 30\nWednesdays at 2 PM \nArt\, crafts\, and building sets!
URL:https://otsegolibrary.org/event/creative-station/
CATEGORIES:Children
END:VEVENT
BEGIN:VEVENT
DTSTART;TZID=America/Detroit:20250723T140000
DTEND;TZID=America/Detroit:20250723T140000
DTSTAMP:20260419T091856
CREATED:20250609T193425Z
LAST-MODIFIED:20250609T193818Z
UID:11438-1753279200-1753279200@otsegolibrary.org
SUMMARY:Bright & Bold Book Club
DESCRIPTION:This book club is intended for middle and high school aged teens/tweens. \nMeets on Wednesdays @ 2 PM\nJune 25\, July 9\, & July 23 \nShare what you are reading or your favorite book!
URL:https://otsegolibrary.org/event/bright-bold-book-club-2/
CATEGORIES:Teen/Tween
END:VEVENT
END:VCALENDAR