BEGIN:VCALENDAR
VERSION:2.0
PRODID:-//Otsego District Public Library - ECPv6.15.20//NONSGML v1.0//EN
CALSCALE:GREGORIAN
METHOD:PUBLISH
X-WR-CALNAME:Otsego District Public Library
X-ORIGINAL-URL:https://otsegolibrary.org
X-WR-CALDESC:Events for Otsego District Public Library
REFRESH-INTERVAL;VALUE=DURATION:PT1H
X-Robots-Tag:noindex
X-PUBLISHED-TTL:PT1H
BEGIN:VTIMEZONE
TZID:America/Detroit
BEGIN:DAYLIGHT
TZOFFSETFROM:-0500
TZOFFSETTO:-0400
TZNAME:EDT
DTSTART:20210314T070000
END:DAYLIGHT
BEGIN:STANDARD
TZOFFSETFROM:-0400
TZOFFSETTO:-0500
TZNAME:EST
DTSTART:20211107T060000
END:STANDARD
BEGIN:DAYLIGHT
TZOFFSETFROM:-0500
TZOFFSETTO:-0400
TZNAME:EDT
DTSTART:20220313T070000
END:DAYLIGHT
BEGIN:STANDARD
TZOFFSETFROM:-0400
TZOFFSETTO:-0500
TZNAME:EST
DTSTART:20221106T060000
END:STANDARD
BEGIN:DAYLIGHT
TZOFFSETFROM:-0500
TZOFFSETTO:-0400
TZNAME:EDT
DTSTART:20230312T070000
END:DAYLIGHT
BEGIN:STANDARD
TZOFFSETFROM:-0400
TZOFFSETTO:-0500
TZNAME:EST
DTSTART:20231105T060000
END:STANDARD
END:VTIMEZONE
BEGIN:VEVENT
DTSTART;TZID=America/Detroit:20221027T160000
DTEND;TZID=America/Detroit:20221027T160000
DTSTAMP:20260419T163635
CREATED:20220706T183812Z
LAST-MODIFIED:20220706T183812Z
UID:7053-1666886400-1666886400@otsegolibrary.org
SUMMARY:Sweet & Salty Book Club
DESCRIPTION:Teen/Tween Book Club\nSeptember 22 – October 27\n4th Thursday at 4 PM\nMiddle School – High School \nEach month we’ll get together to discuss what we are reading over snacks! Not everyone likes to read the same books so we let you choose the book you want to read and share with the group – your books\, your choice! Need a suggestion? Ask a staff member about new and popular book titles in the teen\, juvenile\, and young adult sections!
URL:https://otsegolibrary.org/event/sweet-salty-book-club-8/
CATEGORIES:Teen/Tween
END:VEVENT
BEGIN:VEVENT
DTSTART;TZID=America/Detroit:20221020T160000
DTEND;TZID=America/Detroit:20221020T160000
DTSTAMP:20260419T163635
CREATED:20220706T183301Z
LAST-MODIFIED:20220706T183301Z
UID:7045-1666281600-1666281600@otsegolibrary.org
SUMMARY:Teen Scene
DESCRIPTION:September 15 – November 17\n1st & 3rd Thursday at 4 PM\nMiddle School – High School \nHang out with us each week as we play games\, watch movies\, eat snacks\, and create some lasting memories. We will be featuring several Nintendo Switch consoles and tabletop games.
URL:https://otsegolibrary.org/event/teen-scene-12/
CATEGORIES:Teen/Tween
END:VEVENT
BEGIN:VEVENT
DTSTART;TZID=America/Detroit:20221013T160000
DTEND;TZID=America/Detroit:20221013T160000
DTSTAMP:20260419T163635
CREATED:20220706T165625Z
LAST-MODIFIED:20220706T165625Z
UID:7032-1665676800-1665676800@otsegolibrary.org
SUMMARY:Art Hub - Teen/Tween Craft Club
DESCRIPTION:September 8 – November 10\n2nd Thursday at 4 PM\nMiddle School – High School \nJoin us for drawing\, painting\, crafting and more! The crafts at these meetups are more advanced and picked with teens and tweens in mind. \nNo registration necessary.
URL:https://otsegolibrary.org/event/art-hub-teen-tween-craft-club-2/
CATEGORIES:Teen/Tween
END:VEVENT
BEGIN:VEVENT
DTSTART;TZID=America/Detroit:20221006T160000
DTEND;TZID=America/Detroit:20221006T160000
DTSTAMP:20260419T163635
CREATED:20220706T165928Z
LAST-MODIFIED:20220706T165928Z
UID:7038-1665072000-1665072000@otsegolibrary.org
SUMMARY:Teen Scene
DESCRIPTION:September 15 – November 17\n1st & 3rd Thursday at 4 PM\nMiddle School – High School \nHang out with us each week as we play games\, watch movies\, eat snacks\, and create some lasting memories. We will be featuring several Nintendo Switch consoles and tabletop games.
URL:https://otsegolibrary.org/event/teen-scene-11/
CATEGORIES:Teen/Tween
END:VEVENT
BEGIN:VEVENT
DTSTART;TZID=America/Detroit:20220922T160000
DTEND;TZID=America/Detroit:20220922T160000
DTSTAMP:20260419T163635
CREATED:20220706T183729Z
LAST-MODIFIED:20220706T183729Z
UID:7051-1663862400-1663862400@otsegolibrary.org
SUMMARY:Sweet & Salty Book Club
DESCRIPTION:Teen/Tween Book Club\nSeptember 22 – October 27\n4th Thursday at 4 PM\nMiddle School – High School \nEach month we’ll get together to discuss what we are reading over snacks! Not everyone likes to read the same books so we let you choose the book you want to read and share with the group – your books\, your choice! Need a suggestion? Ask a staff member about new and popular book titles in the teen\, juvenile\, and young adult sections!
URL:https://otsegolibrary.org/event/sweet-salty-book-club-7/
CATEGORIES:Teen/Tween
END:VEVENT
BEGIN:VEVENT
DTSTART;TZID=America/Detroit:20220915T160000
DTEND;TZID=America/Detroit:20220915T160000
DTSTAMP:20260419T163635
CREATED:20220706T165837Z
LAST-MODIFIED:20220706T165837Z
UID:7036-1663257600-1663257600@otsegolibrary.org
SUMMARY:Teen Scene
DESCRIPTION:September 15 – November 17\n1st & 3rd Thursday at 4 PM\nMiddle School – High School \nHang out with us each week as we play games\, watch movies\, eat snacks\, and create some lasting memories. We will be featuring several Nintendo Switch consoles and tabletop games.
URL:https://otsegolibrary.org/event/teen-scene-10/
CATEGORIES:Teen/Tween
END:VEVENT
BEGIN:VEVENT
DTSTART;TZID=America/Detroit:20220728T140000
DTEND;TZID=America/Detroit:20220728T140000
DTSTAMP:20260419T163635
CREATED:20220615T174235Z
LAST-MODIFIED:20220615T174235Z
UID:6867-1659016800-1659016800@otsegolibrary.org
SUMMARY:Sweet & Salty Book Club
DESCRIPTION:Books can be sweet… and some characters are salty! \nLet’s get together to discuss what we are reading with sweet and salty snacks! Not everyone likes to read the same book\, so choose the book you want to read and share with the group – your  books\, your choice! Ask a staff member about new and popular book titles in the young adult\, juvenile\, and graphic novel sections! \nThis event is for middle school and high school aged teens/tweens. No registration required – all are welcome.
URL:https://otsegolibrary.org/event/sweet-salty-book-club-6/
CATEGORIES:Teen/Tween
END:VEVENT
BEGIN:VEVENT
DTSTART;TZID=America/Detroit:20220726T140000
DTEND;TZID=America/Detroit:20220726T140000
DTSTAMP:20260419T163635
CREATED:20220615T173109Z
LAST-MODIFIED:20220615T173129Z
UID:6854-1658844000-1658844000@otsegolibrary.org
SUMMARY:Mermaid Bath Fizzies
DESCRIPTION:Create your own Mermaid bath fizzies that you can take home! These fizzies are fun to use as gifts! \nThis event is for middle school and high school aged teens/tweens. No registration required – all are welcome.
URL:https://otsegolibrary.org/event/mermaid-bath-fizzies/
CATEGORIES:Teen/Tween
END:VEVENT
BEGIN:VEVENT
DTSTART;TZID=America/Detroit:20220721T140000
DTEND;TZID=America/Detroit:20220721T140000
DTSTAMP:20260419T163635
CREATED:20220615T174028Z
LAST-MODIFIED:20220615T174142Z
UID:6864-1658412000-1658412000@otsegolibrary.org
SUMMARY:Teen Scene
DESCRIPTION:Hang out and we play games\, eat snacks\, and create lasting memories. We will be featuring several Nintendo Switch consoles and awesome new tabletop games. \nThis event is for middle school and high school aged teens/tweens. No registration required – all are welcome.
URL:https://otsegolibrary.org/event/teen-scene-9/
CATEGORIES:Teen/Tween
END:VEVENT
BEGIN:VEVENT
DTSTART;TZID=America/Detroit:20220719T140000
DTEND;TZID=America/Detroit:20220719T140000
DTSTAMP:20260419T163635
CREATED:20220615T172957Z
LAST-MODIFIED:20220615T173208Z
UID:6852-1658239200-1658239200@otsegolibrary.org
SUMMARY:Sea Turtle Painting
DESCRIPTION:Use black glue/paint to make an amazing sea turtle painting. \nThis event is for middle school and high school aged teens/tweens. No registration required – all are welcome.
URL:https://otsegolibrary.org/event/sea-turtle-painting/
CATEGORIES:Teen/Tween
END:VEVENT
BEGIN:VEVENT
DTSTART;TZID=America/Detroit:20220714T140000
DTEND;TZID=America/Detroit:20220714T160000
DTSTAMP:20260419T163635
CREATED:20220615T173853Z
LAST-MODIFIED:20220615T173934Z
UID:6862-1657807200-1657814400@otsegolibrary.org
SUMMARY:Luca Movie Day
DESCRIPTION:Come watch the Disney movie Luca with us and munch on popcorn!\nRating: PG\nRuntim: 1 hr 35 mins \nThis event is for middle school and high school aged teens/tweens. No registration required – all are welcome.
URL:https://otsegolibrary.org/event/luca-movie-day/
CATEGORIES:Teen/Tween
END:VEVENT
BEGIN:VEVENT
DTSTART;TZID=America/Detroit:20220712T140000
DTEND;TZID=America/Detroit:20220712T140000
DTSTAMP:20260419T163635
CREATED:20220615T172903Z
LAST-MODIFIED:20220615T172918Z
UID:6849-1657634400-1657634400@otsegolibrary.org
SUMMARY:Chalk Pastel Jellyfish
DESCRIPTION:Use chalk and oil pastels to create beautiful jellyfish art! \nThis event is for middle school and high school aged teens/tweens. No registration required – all are welcome.
URL:https://otsegolibrary.org/event/chalk-pastel-jellyfish/
CATEGORIES:Teen/Tween
END:VEVENT
BEGIN:VEVENT
DTSTART;TZID=America/Detroit:20220707T140000
DTEND;TZID=America/Detroit:20220707T140000
DTSTAMP:20260419T163635
CREATED:20220615T173618Z
LAST-MODIFIED:20220615T173618Z
UID:6860-1657202400-1657202400@otsegolibrary.org
SUMMARY:Teen Scene
DESCRIPTION:Hang out and we play games\, eat snacks\, and create lasting memories. We will be featuring several Nintendo Switch consoles and awesome new tabletop games. \nThis event is for middle school and high school aged teens/tweens. No registration required – all are welcome.
URL:https://otsegolibrary.org/event/teen-scene-2/
CATEGORIES:Teen/Tween
END:VEVENT
BEGIN:VEVENT
DTSTART;TZID=America/Detroit:20220705T140000
DTEND;TZID=America/Detroit:20220705T140000
DTSTAMP:20260419T163635
CREATED:20220615T172801Z
LAST-MODIFIED:20220615T172801Z
UID:6847-1657029600-1657029600@otsegolibrary.org
SUMMARY:Sun & Moon Shell Painting
DESCRIPTION:Paint Sun & Moon Shells with us – These flat shells are perfect for painting! \nThis event is for middle school and high school aged teens/tweens. No registration required – all are welcome.
URL:https://otsegolibrary.org/event/sun-moon-shell-painting/
CATEGORIES:Teen/Tween
END:VEVENT
BEGIN:VEVENT
DTSTART;TZID=America/Detroit:20220630T140000
DTEND;TZID=America/Detroit:20220630T140000
DTSTAMP:20260419T163635
CREATED:20220615T173510Z
LAST-MODIFIED:20220615T173510Z
UID:6858-1656597600-1656597600@otsegolibrary.org
SUMMARY:Sweet & Salty Book Club
DESCRIPTION:Books can be sweet… and some characters are salty! \nLet’s get together to discuss what we are reading with sweet and salty snacks! Not everyone likes to read the same book\, so choose the book you want to read and share with the group – your  books\, your choice! Ask a staff member about new and popular book titles in the young adult\, juvenile\, and graphic novel sections! \nThis event is for middle school and high school aged teens/tweens. No registration required – all are welcome.
URL:https://otsegolibrary.org/event/sweet-salty-book-club-5/
CATEGORIES:Teen/Tween
END:VEVENT
BEGIN:VEVENT
DTSTART;TZID=America/Detroit:20220628T140000
DTEND;TZID=America/Detroit:20220628T140000
DTSTAMP:20260419T163635
CREATED:20220615T172602Z
LAST-MODIFIED:20220615T172622Z
UID:6845-1656424800-1656424800@otsegolibrary.org
SUMMARY:Barnacle Bracelets
DESCRIPTION:Make a fun ocean themed bracelet out of tiny beads! \nThis event is for middle school and high school aged teens/tweens. No registration required – all are welcome.
URL:https://otsegolibrary.org/event/barnacle-bracelets/
CATEGORIES:Teen/Tween
END:VEVENT
BEGIN:VEVENT
DTSTART;TZID=America/Detroit:20220623T140000
DTEND;TZID=America/Detroit:20220623T140000
DTSTAMP:20260419T163635
CREATED:20220615T173345Z
LAST-MODIFIED:20220615T173345Z
UID:6856-1655992800-1655992800@otsegolibrary.org
SUMMARY:Beach Party
DESCRIPTION:Come to a fun beach party at the library! Play games\, eat snacks\, and have a great time! \nThis event is for middle school and high school aged teens/tweens. No registration required – all are welcome.
URL:https://otsegolibrary.org/event/beach-party/
CATEGORIES:Teen/Tween
END:VEVENT
BEGIN:VEVENT
DTSTART;TZID=America/Detroit:20220621T140000
DTEND;TZID=America/Detroit:20220621T140000
DTSTAMP:20260419T163635
CREATED:20220615T172528Z
LAST-MODIFIED:20220615T172528Z
UID:6843-1655820000-1655820000@otsegolibrary.org
SUMMARY:Whale Watercolor
DESCRIPTION:Create a fun whale watercolor painting . \nThis event is for middle school and high school aged teens/tweens. No registration required – all are welcome.
URL:https://otsegolibrary.org/event/whale-watercolor/
CATEGORIES:Teen/Tween
END:VEVENT
BEGIN:VEVENT
DTSTART;TZID=America/Detroit:20220526T160000
DTEND;TZID=America/Detroit:20220526T160000
DTSTAMP:20260419T163635
CREATED:20220511T185927Z
LAST-MODIFIED:20220511T185927Z
UID:6677-1653580800-1653580800@otsegolibrary.org
SUMMARY:Sweet & Salty Book Club
DESCRIPTION:February – May\n4th Thursday at 4 PM\nMiddle School – High School\nBooks can be sweet… and some characters are salty! \nLet’s get together to discuss what we are reading with sweet and salty snacks! Not everyone likes to read the same book\, so choose the book you want to read and share with the group – your books\, your choice! \nAsk a staff member about new and popular book titles in the young adult\, juvenile\, and graphic novel sections!
URL:https://otsegolibrary.org/event/sweet-salty-book-club-4/
CATEGORIES:Teen/Tween
END:VEVENT
BEGIN:VEVENT
DTSTART;TZID=America/Detroit:20220519T160000
DTEND;TZID=America/Detroit:20220519T160000
DTSTAMP:20260419T163635
CREATED:20220511T182427Z
LAST-MODIFIED:20220515T123351Z
UID:6657-1652976000-1652976000@otsegolibrary.org
SUMMARY:Teen Scene
DESCRIPTION:February – May\n1st & 3rd Thursday at 4 PM\nMiddle School – High School \nHang out with us each week as we play games\, eat snacks\, and create lasting memories. We will be featuring several Nintendo Switch consoles and awesome new tabletop games. \nThere is no Teen Scene during Spring Break – check out the special Spring Break Events the first week of April.
URL:https://otsegolibrary.org/event/teen-scene-7/
CATEGORIES:Teen/Tween
END:VEVENT
BEGIN:VEVENT
DTSTART;TZID=America/Detroit:20220512T160000
DTEND;TZID=America/Detroit:20220512T160000
DTSTAMP:20260419T163635
CREATED:20220511T185029Z
LAST-MODIFIED:20220511T185029Z
UID:6669-1652371200-1652371200@otsegolibrary.org
SUMMARY:Art Hub
DESCRIPTION:Teen/Tween Art Club\nFebruary – May\n2nd Thursday at 4 PM\nMiddle School – High School \nCreate beautiful and fun pieces of art at this art club. Join us for drawing\, painting\, crafting and more! The projects at these meet-ups are more advanced and picked with teens and tweens in mind.
URL:https://otsegolibrary.org/event/art-hub-4/
CATEGORIES:Teen/Tween
END:VEVENT
BEGIN:VEVENT
DTSTART;TZID=America/Detroit:20220505T160000
DTEND;TZID=America/Detroit:20220505T160000
DTSTAMP:20260419T163635
CREATED:20220511T182343Z
LAST-MODIFIED:20220511T182343Z
UID:6655-1651766400-1651766400@otsegolibrary.org
SUMMARY:Teen Scene
DESCRIPTION:February – May\n1st & 3rd Thursday at 4 PM\nMiddle School – High School \nHang out with us each week as we play games\, eat snacks\, and create lasting memories. We will be featuring several Nintendo Switch consoles and awesome new tabletop games. \nThere is no Teen Scene during Spring Break – check out the special Spring Break Events the first week of April.
URL:https://otsegolibrary.org/event/teen-scene-6/
CATEGORIES:Teen/Tween
END:VEVENT
BEGIN:VEVENT
DTSTART;TZID=America/Detroit:20220428T160000
DTEND;TZID=America/Detroit:20220428T160000
DTSTAMP:20260419T163635
CREATED:20220511T185845Z
LAST-MODIFIED:20220511T185845Z
UID:6675-1651161600-1651161600@otsegolibrary.org
SUMMARY:Sweet & Salty Book Club
DESCRIPTION:February – May\n4th Thursday at 4 PM\nMiddle School – High School\nBooks can be sweet… and some characters are salty! \nLet’s get together to discuss what we are reading with sweet and salty snacks! Not everyone likes to read the same book\, so choose the book you want to read and share with the group – your books\, your choice! \nAsk a staff member about new and popular book titles in the young adult\, juvenile\, and graphic novel sections!
URL:https://otsegolibrary.org/event/sweet-salty-book-club-3/
CATEGORIES:Teen/Tween
END:VEVENT
BEGIN:VEVENT
DTSTART;TZID=America/Detroit:20220421T160000
DTEND;TZID=America/Detroit:20220421T160000
DTSTAMP:20260419T163635
CREATED:20220511T182300Z
LAST-MODIFIED:20220511T182300Z
UID:6653-1650556800-1650556800@otsegolibrary.org
SUMMARY:Teen Scene
DESCRIPTION:February – May\n1st & 3rd Thursday at 4 PM\nMiddle School – High School \nHang out with us each week as we play games\, eat snacks\, and create lasting memories. We will be featuring several Nintendo Switch consoles and awesome new tabletop games. \nThere is no Teen Scene during Spring Break – check out the special Spring Break Events the first week of April.
URL:https://otsegolibrary.org/event/teen-scene-5/
CATEGORIES:Teen/Tween
END:VEVENT
BEGIN:VEVENT
DTSTART;TZID=America/Detroit:20220414T160000
DTEND;TZID=America/Detroit:20220414T160000
DTSTAMP:20260419T163635
CREATED:20220511T184913Z
LAST-MODIFIED:20220516T143739Z
UID:6667-1649952000-1649952000@otsegolibrary.org
SUMMARY:Art Hub
DESCRIPTION:Teen/Tween Art Club\nFebruary – May\n2nd Thursday at 4 PM\nMiddle School – High School \nCreate beautiful and fun pieces of art at this art club. Join us for drawing\, painting\, crafting and more! The projects at these meet-ups are more advanced and picked with teens and tweens in mind.
URL:https://otsegolibrary.org/event/art-hub-3/
CATEGORIES:Teen/Tween
END:VEVENT
BEGIN:VEVENT
DTSTART;TZID=America/Detroit:20220407T160000
DTEND;TZID=America/Detroit:20220407T160000
DTSTAMP:20260419T163635
CREATED:20220511T190445Z
LAST-MODIFIED:20220511T190445Z
UID:6681-1649347200-1649347200@otsegolibrary.org
SUMMARY:SPRING BREAK for Teens - Rose Watercolor
DESCRIPTION:Spring Break events for middle school and high school aged teens/tweens. \nDonut Delight!\nTuesday\, April 5 at 4 PM\nMake donut keychains with us with our *NEW* Cricut machine while we smash delicious donuts. No registration required. \nRose Watercolor Painting\nThursday\, April 7 at 4 PM\nGet crafty with us and create a beautiful faux stained glass piece of art. No registration required.
URL:https://otsegolibrary.org/event/spring-break-for-teens-rose-watercolor/
CATEGORIES:Teen/Tween
END:VEVENT
BEGIN:VEVENT
DTSTART;TZID=America/Detroit:20220405T160000
DTEND;TZID=America/Detroit:20220405T160000
DTSTAMP:20260419T163635
CREATED:20220511T190400Z
LAST-MODIFIED:20220511T190400Z
UID:6679-1649174400-1649174400@otsegolibrary.org
SUMMARY:SPRING BREAK for Teens - Donut Delight!
DESCRIPTION:Spring Break events for middle school and high school aged teens/tweens. \nDonut Delight!\nTuesday\, April 5 at 4 PM\nMake donut keychains with us with our *NEW* Cricut machine while we smash delicious donuts. No registration required. \nRose Watercolor Painting\nThursday\, April 7 at 4 PM\nGet crafty with us and create a beautiful faux stained glass piece of art. No registration required.
URL:https://otsegolibrary.org/event/spring-break-for-teens-donut-delight/
CATEGORIES:Teen/Tween
END:VEVENT
BEGIN:VEVENT
DTSTART;TZID=America/Detroit:20220324T160000
DTEND;TZID=America/Detroit:20220324T160000
DTSTAMP:20260419T163635
CREATED:20220511T185704Z
LAST-MODIFIED:20220511T185750Z
UID:6673-1648137600-1648137600@otsegolibrary.org
SUMMARY:Sweet & Salty Book Club
DESCRIPTION:February – May\n4th Thursday at 4 PM\nMiddle School – High School\nBooks can be sweet… and some characters are salty! \nLet’s get together to discuss what we are reading with sweet and salty snacks! Not everyone likes to read the same book\, so choose the book you want to read and share with the group – your books\, your choice! \nAsk a staff member about new and popular book titles in the young adult\, juvenile\, and graphic novel sections!
URL:https://otsegolibrary.org/event/sweet-salty-book-club-2/
CATEGORIES:Teen/Tween
END:VEVENT
BEGIN:VEVENT
DTSTART;TZID=America/Detroit:20220318T160000
DTEND;TZID=America/Detroit:20220318T180000
DTSTAMP:20260419T163635
CREATED:20220511T181908Z
LAST-MODIFIED:20220511T181908Z
UID:6643-1647619200-1647626400@otsegolibrary.org
SUMMARY:Creative Café - Fused Glass (Teen/Tween)
DESCRIPTION:Fused Glass with Kathy Kuipers\nFriday\, March 18 from 4 – 6 PM\nThis class is for 6th-12th graders with or without parents. \nCreate a spring-inspired fused glass art project. Participants will be able to choose from a variety of styles to make. \nThe cost is $20 (nonrefundable) and preregistration is required. Cost covers the instruction of the class\, your finished product\, and refreshments.
URL:https://otsegolibrary.org/event/creative-cafe-fused-glass-teen-tween/
CATEGORIES:Teen/Tween
END:VEVENT
BEGIN:VEVENT
DTSTART;TZID=America/Detroit:20220317T160000
DTEND;TZID=America/Detroit:20220317T160000
DTSTAMP:20260419T163635
CREATED:20220511T182225Z
LAST-MODIFIED:20220511T182225Z
UID:6651-1647532800-1647532800@otsegolibrary.org
SUMMARY:Teen Scene
DESCRIPTION:February – May\n1st & 3rd Thursday at 4 PM\nMiddle School – High School \nHang out with us each week as we play games\, eat snacks\, and create lasting memories. We will be featuring several Nintendo Switch consoles and awesome new tabletop games. \nThere is no Teen Scene during Spring Break – check out the special Spring Break Events the first week of April.
URL:https://otsegolibrary.org/event/teen-scene-4/
CATEGORIES:Teen/Tween
END:VEVENT
END:VCALENDAR