BEGIN:VCALENDAR
VERSION:2.0
PRODID:-//Otsego District Public Library - ECPv6.15.20//NONSGML v1.0//EN
CALSCALE:GREGORIAN
METHOD:PUBLISH
X-ORIGINAL-URL:https://otsegolibrary.org
X-WR-CALDESC:Events for Otsego District Public Library
REFRESH-INTERVAL;VALUE=DURATION:PT1H
X-Robots-Tag:noindex
X-PUBLISHED-TTL:PT1H
BEGIN:VTIMEZONE
TZID:America/Detroit
BEGIN:DAYLIGHT
TZOFFSETFROM:-0500
TZOFFSETTO:-0400
TZNAME:EDT
DTSTART:20250309T070000
END:DAYLIGHT
BEGIN:STANDARD
TZOFFSETFROM:-0400
TZOFFSETTO:-0500
TZNAME:EST
DTSTART:20251102T060000
END:STANDARD
BEGIN:DAYLIGHT
TZOFFSETFROM:-0500
TZOFFSETTO:-0400
TZNAME:EDT
DTSTART:20260308T070000
END:DAYLIGHT
BEGIN:STANDARD
TZOFFSETFROM:-0400
TZOFFSETTO:-0500
TZNAME:EST
DTSTART:20261101T060000
END:STANDARD
BEGIN:DAYLIGHT
TZOFFSETFROM:-0500
TZOFFSETTO:-0400
TZNAME:EDT
DTSTART:20270314T070000
END:DAYLIGHT
BEGIN:STANDARD
TZOFFSETFROM:-0400
TZOFFSETTO:-0500
TZNAME:EST
DTSTART:20271107T060000
END:STANDARD
END:VTIMEZONE
BEGIN:VEVENT
DTSTART;TZID=America/Detroit:20260416T160000
DTEND;TZID=America/Detroit:20260416T160000
DTSTAMP:20260419T122948
CREATED:20260102T214630Z
LAST-MODIFIED:20260102T214633Z
UID:12334-1776355200-1776355200@otsegolibrary.org
SUMMARY:Art Hub
DESCRIPTION:Art Hub meets on the 3rd Thursday @ 4 PM\nFebruary 19\, March 19\, and April 16 \nCreate beautiful and fun pieces of art at this art club! The crafts at these meetups are more advanced and picked for teens/tweens – drawing\, painting\, crafting\, and so much more! \n\nThese events are intended for teens and tweens in middle school thru high school. Newcomers are always welcome!
URL:https://otsegolibrary.org/event/art-hub-24/
CATEGORIES:Teen/Tween
END:VEVENT
END:VCALENDAR