BEGIN:VCALENDAR
VERSION:2.0
PRODID:-//Otsego District Public Library - ECPv6.15.20//NONSGML v1.0//EN
CALSCALE:GREGORIAN
METHOD:PUBLISH
X-ORIGINAL-URL:https://otsegolibrary.org
X-WR-CALDESC:Events for Otsego District Public Library
REFRESH-INTERVAL;VALUE=DURATION:PT1H
X-Robots-Tag:noindex
X-PUBLISHED-TTL:PT1H
BEGIN:VTIMEZONE
TZID:America/Detroit
BEGIN:DAYLIGHT
TZOFFSETFROM:-0500
TZOFFSETTO:-0400
TZNAME:EDT
DTSTART:20250309T070000
END:DAYLIGHT
BEGIN:STANDARD
TZOFFSETFROM:-0400
TZOFFSETTO:-0500
TZNAME:EST
DTSTART:20251102T060000
END:STANDARD
BEGIN:DAYLIGHT
TZOFFSETFROM:-0500
TZOFFSETTO:-0400
TZNAME:EDT
DTSTART:20260308T070000
END:DAYLIGHT
BEGIN:STANDARD
TZOFFSETFROM:-0400
TZOFFSETTO:-0500
TZNAME:EST
DTSTART:20261101T060000
END:STANDARD
BEGIN:DAYLIGHT
TZOFFSETFROM:-0500
TZOFFSETTO:-0400
TZNAME:EDT
DTSTART:20270314T070000
END:DAYLIGHT
BEGIN:STANDARD
TZOFFSETFROM:-0400
TZOFFSETTO:-0500
TZNAME:EST
DTSTART:20271107T060000
END:STANDARD
END:VTIMEZONE
BEGIN:VEVENT
DTSTART;TZID=America/Detroit:20260409T140000
DTEND;TZID=America/Detroit:20260409T140000
DTSTAMP:20260419T122956
CREATED:20260105T155249Z
LAST-MODIFIED:20260105T155303Z
UID:12353-1775743200-1775743200@otsegolibrary.org
SUMMARY:Lilo & Stitch Movie Day
DESCRIPTION:Spring Break Events for Teens & Tweens are listed below. Come to one or all of the events with your friends \nLilo & Stitch Movie Day\nThursday\, April 9 @ 2 PM\nRated: PG\, Run Time: 1 hr 48 mins\nMiddle School – High School\nCatch the live-action Lilo & Stitch (2025) and see your favorite alien duo like never before! With amazing visuals\, big laughs\, and all the heart of the original\, this movie brings Ohana to life in a whole new way. Enjoy FREE popcorn with your friends — don’t miss this feel-good movie! \n\nEARLIER IN THE WEEK FOR TEENS AND TWEENS \nLuau LEGO Challenge\nMonday\, April 6 @ 2 PM\nGrades 3-12\nChallenges will be given throughout the hour to make some awesome tropical creations using the Library’s LEGO collection!\n(Note: this program is only for older kids and teens.) \nUnderwater Watercolor Paintings\nTuesday\, April 7 @ 2 PM\nMiddle School – High School\nDive into watercolor and paint a glowing underwater world of sea creatures\, plants\, and sunlight. Explore color\, movement\, and light to create a vibrant seascape. \nCreatures of the Deep: Air-Dry Clay Edition\nWednesday\, April 8 @ 2 PM\nMiddle School – High School\nShape your own ocean creatures using air-dry clay — whales\, jellyfish\, mermaids\, or whatever drifts through your imagination.
URL:https://otsegolibrary.org/event/lilo-stitch-movie-day/
CATEGORIES:Teen/Tween Spring Break Events
END:VEVENT
END:VCALENDAR