BEGIN:VCALENDAR
VERSION:2.0
PRODID:-//Otsego District Public Library - ECPv6.15.20//NONSGML v1.0//EN
CALSCALE:GREGORIAN
METHOD:PUBLISH
X-WR-CALNAME:Otsego District Public Library
X-ORIGINAL-URL:https://otsegolibrary.org
X-WR-CALDESC:Events for Otsego District Public Library
REFRESH-INTERVAL;VALUE=DURATION:PT1H
X-Robots-Tag:noindex
X-PUBLISHED-TTL:PT1H
BEGIN:VTIMEZONE
TZID:America/Detroit
BEGIN:DAYLIGHT
TZOFFSETFROM:-0500
TZOFFSETTO:-0400
TZNAME:EDT
DTSTART:20230312T070000
END:DAYLIGHT
BEGIN:STANDARD
TZOFFSETFROM:-0400
TZOFFSETTO:-0500
TZNAME:EST
DTSTART:20231105T060000
END:STANDARD
BEGIN:DAYLIGHT
TZOFFSETFROM:-0500
TZOFFSETTO:-0400
TZNAME:EDT
DTSTART:20240310T070000
END:DAYLIGHT
BEGIN:STANDARD
TZOFFSETFROM:-0400
TZOFFSETTO:-0500
TZNAME:EST
DTSTART:20241103T060000
END:STANDARD
BEGIN:DAYLIGHT
TZOFFSETFROM:-0500
TZOFFSETTO:-0400
TZNAME:EDT
DTSTART:20250309T070000
END:DAYLIGHT
BEGIN:STANDARD
TZOFFSETFROM:-0400
TZOFFSETTO:-0500
TZNAME:EST
DTSTART:20251102T060000
END:STANDARD
END:VTIMEZONE
BEGIN:VEVENT
DTSTART;TZID=America/Detroit:20241107T100000
DTEND;TZID=America/Detroit:20241107T100000
DTSTAMP:20260422T041135
CREATED:20240705T200257Z
LAST-MODIFIED:20240705T200257Z
UID:9945-1730973600-1730973600@otsegolibrary.org
SUMMARY:Storytime
DESCRIPTION:Thursdays at 10 AM\nSeptember 12 – November 21 \nAges 0 – 5\nStories\, songs\, and a craft all focusing on a new weekly theme.
URL:https://otsegolibrary.org/event/storytime-69/
CATEGORIES:Preschool
END:VEVENT
BEGIN:VEVENT
DTSTART;TZID=America/Detroit:20241106T100000
DTEND;TZID=America/Detroit:20241106T100000
DTSTAMP:20260422T041135
CREATED:20240702T165251Z
LAST-MODIFIED:20240702T165622Z
UID:9907-1730887200-1730887200@otsegolibrary.org
SUMMARY:Music and Movement
DESCRIPTION:Wednesdays at 10 AM\nSeptember 11 – November 20\nAges 0 – 5\nMovin’ and Groovin’ fun with songs\, stories\, interactive play\, and sensory activities.
URL:https://otsegolibrary.org/event/music-and-movement-26/
CATEGORIES:Preschool
END:VEVENT
BEGIN:VEVENT
DTSTART;TZID=America/Detroit:20241105T100000
DTEND;TZID=America/Detroit:20241105T100000
DTSTAMP:20260422T041135
CREATED:20240702T164446Z
LAST-MODIFIED:20240702T165631Z
UID:9883-1730800800-1730800800@otsegolibrary.org
SUMMARY:Tiny Tots
DESCRIPTION:Tuesdays at 10 AM\nSeptember 10 – November 19\nAges 0 – 24 Months\nSing\, read\, and play with your little ones and friends!
URL:https://otsegolibrary.org/event/tiny-tots-71/
CATEGORIES:Preschool
END:VEVENT
BEGIN:VEVENT
DTSTART;TZID=America/Detroit:20241031T100000
DTEND;TZID=America/Detroit:20241031T100000
DTSTAMP:20260422T041135
CREATED:20240705T200222Z
LAST-MODIFIED:20240705T200222Z
UID:9943-1730368800-1730368800@otsegolibrary.org
SUMMARY:Halloween Storytime
DESCRIPTION:Thursdays at 10 AM\nSeptember 12 – November 21 \nSpecial Halloween Storytime – Wear your costume! \nAges 0 – 5\nStories\, songs\, and a craft all focusing on a new weekly theme.
URL:https://otsegolibrary.org/event/halloween-storytime/
CATEGORIES:Preschool
END:VEVENT
BEGIN:VEVENT
DTSTART;TZID=America/Detroit:20241030T100000
DTEND;TZID=America/Detroit:20241030T100000
DTSTAMP:20260422T041135
CREATED:20240702T165227Z
LAST-MODIFIED:20240702T165643Z
UID:9905-1730282400-1730282400@otsegolibrary.org
SUMMARY:Music and Movement
DESCRIPTION:Wednesdays at 10 AM\nSeptember 11 – November 20\nAges 0 – 5\nMovin’ and Groovin’ fun with songs\, stories\, interactive play\, and sensory activities.
URL:https://otsegolibrary.org/event/music-and-movement-25/
CATEGORIES:Preschool
END:VEVENT
BEGIN:VEVENT
DTSTART;TZID=America/Detroit:20241029T100000
DTEND;TZID=America/Detroit:20241029T100000
DTSTAMP:20260422T041135
CREATED:20240702T164402Z
LAST-MODIFIED:20240702T165650Z
UID:9881-1730196000-1730196000@otsegolibrary.org
SUMMARY:Tiny Tots
DESCRIPTION:Tuesdays at 10 AM\nSeptember 10 – November 19\nAges 0 – 24 Months\nSing\, read\, and play with your little ones and friends!
URL:https://otsegolibrary.org/event/tiny-tots-70/
CATEGORIES:Preschool
END:VEVENT
BEGIN:VEVENT
DTSTART;TZID=America/Detroit:20241024T100000
DTEND;TZID=America/Detroit:20241024T100000
DTSTAMP:20260422T041135
CREATED:20240705T200059Z
LAST-MODIFIED:20240705T200059Z
UID:9941-1729764000-1729764000@otsegolibrary.org
SUMMARY:Storytime
DESCRIPTION:Thursdays at 10 AM\nSeptember 12 – November 21 \nAges 0 – 5\nStories\, songs\, and a craft all focusing on a new weekly theme.
URL:https://otsegolibrary.org/event/storytime-68/
CATEGORIES:Preschool
END:VEVENT
BEGIN:VEVENT
DTSTART;TZID=America/Detroit:20241023T100000
DTEND;TZID=America/Detroit:20241023T100000
DTSTAMP:20260422T041135
CREATED:20240702T165153Z
LAST-MODIFIED:20240702T165658Z
UID:9903-1729677600-1729677600@otsegolibrary.org
SUMMARY:Music and Movement
DESCRIPTION:Wednesdays at 10 AM\nSeptember 11 – November 20\nAges 0 – 5\nMovin’ and Groovin’ fun with songs\, stories\, interactive play\, and sensory activities.
URL:https://otsegolibrary.org/event/music-and-movement-24/
CATEGORIES:Preschool
END:VEVENT
BEGIN:VEVENT
DTSTART;TZID=America/Detroit:20241022T100000
DTEND;TZID=America/Detroit:20241022T100000
DTSTAMP:20260422T041135
CREATED:20240702T163842Z
LAST-MODIFIED:20240702T165709Z
UID:9879-1729591200-1729591200@otsegolibrary.org
SUMMARY:Tiny Tots
DESCRIPTION:Tuesdays at 10 AM\nSeptember 10 – November 19\nAges 0 – 24 Months\nSing\, read\, and play with your little ones and friends!
URL:https://otsegolibrary.org/event/tiny-tots-69/
CATEGORIES:Preschool
END:VEVENT
BEGIN:VEVENT
DTSTART;TZID=America/Detroit:20241019T100000
DTEND;TZID=America/Detroit:20241019T120000
DTSTAMP:20260422T041135
CREATED:20240702T164814Z
LAST-MODIFIED:20240705T195444Z
UID:9889-1729332000-1729339200@otsegolibrary.org
SUMMARY:Pumpkin Party
DESCRIPTION:Preschool – 5th Grade \nDrop in to celebrate the harvest season with a variety of pumpkin projects and activities. Several stations will be set up to do pumpkin painting\, crafts\, and games. Plus there will be special pumpkin snacks!
URL:https://otsegolibrary.org/event/pumpkin-party/
CATEGORIES:Children,Preschool
END:VEVENT
BEGIN:VEVENT
DTSTART;TZID=America/Detroit:20241017T100000
DTEND;TZID=America/Detroit:20241017T100000
DTSTAMP:20260422T041135
CREATED:20240705T200033Z
LAST-MODIFIED:20240705T200033Z
UID:9939-1729159200-1729159200@otsegolibrary.org
SUMMARY:Storytime
DESCRIPTION:Thursdays at 10 AM\nSeptember 12 – November 21 \nAges 0 – 5\nStories\, songs\, and a craft all focusing on a new weekly theme.
URL:https://otsegolibrary.org/event/storytime-67/
CATEGORIES:Preschool
END:VEVENT
BEGIN:VEVENT
DTSTART;TZID=America/Detroit:20241016T100000
DTEND;TZID=America/Detroit:20241016T100000
DTSTAMP:20260422T041135
CREATED:20240702T165126Z
LAST-MODIFIED:20240702T165741Z
UID:9901-1729072800-1729072800@otsegolibrary.org
SUMMARY:Music and Movement
DESCRIPTION:Wednesdays at 10 AM\nSeptember 11 – November 20\nAges 0 – 5\nMovin’ and Groovin’ fun with songs\, stories\, interactive play\, and sensory activities.
URL:https://otsegolibrary.org/event/music-and-movement-23/
CATEGORIES:Preschool
END:VEVENT
BEGIN:VEVENT
DTSTART;TZID=America/Detroit:20241015T100000
DTEND;TZID=America/Detroit:20241015T100000
DTSTAMP:20260422T041135
CREATED:20240702T163819Z
LAST-MODIFIED:20240702T165752Z
UID:9877-1728986400-1728986400@otsegolibrary.org
SUMMARY:Tiny Tots
DESCRIPTION:Tuesdays at 10 AM\nSeptember 10 – November 19\nAges 0 – 24 Months\nSing\, read\, and play with your little ones and friends!
URL:https://otsegolibrary.org/event/tiny-tots-68/
CATEGORIES:Preschool
END:VEVENT
BEGIN:VEVENT
DTSTART;TZID=America/Detroit:20241010T100000
DTEND;TZID=America/Detroit:20241010T100000
DTSTAMP:20260422T041135
CREATED:20240705T200004Z
LAST-MODIFIED:20240705T200004Z
UID:9937-1728554400-1728554400@otsegolibrary.org
SUMMARY:Storytime
DESCRIPTION:Thursdays at 10 AM\nSeptember 12 – November 21 \nAges 0 – 5\nStories\, songs\, and a craft all focusing on a new weekly theme.
URL:https://otsegolibrary.org/event/storytime-66/
CATEGORIES:Preschool
END:VEVENT
BEGIN:VEVENT
DTSTART;TZID=America/Detroit:20241009T100000
DTEND;TZID=America/Detroit:20241009T100000
DTSTAMP:20260422T041135
CREATED:20240702T165104Z
LAST-MODIFIED:20240702T165800Z
UID:9899-1728468000-1728468000@otsegolibrary.org
SUMMARY:Music and Movement
DESCRIPTION:Wednesdays at 10 AM\nSeptember 11 – November 20\nAges 0 – 5\nMovin’ and Groovin’ fun with songs\, stories\, interactive play\, and sensory activities.
URL:https://otsegolibrary.org/event/music-and-movement-22/
CATEGORIES:Preschool
END:VEVENT
BEGIN:VEVENT
DTSTART;TZID=America/Detroit:20241008T100000
DTEND;TZID=America/Detroit:20241008T100000
DTSTAMP:20260422T041135
CREATED:20240702T163757Z
LAST-MODIFIED:20240702T165909Z
UID:9875-1728381600-1728381600@otsegolibrary.org
SUMMARY:Tiny Tots
DESCRIPTION:Tuesdays at 10 AM\nSeptember 10 – November 19\nAges 0 – 24 Months\nSing\, read\, and play with your little ones and friends!
URL:https://otsegolibrary.org/event/tiny-tots-67/
CATEGORIES:Preschool
END:VEVENT
BEGIN:VEVENT
DTSTART;TZID=America/Detroit:20241003T100000
DTEND;TZID=America/Detroit:20241003T100000
DTSTAMP:20260422T041135
CREATED:20240705T195931Z
LAST-MODIFIED:20240705T195931Z
UID:9935-1727949600-1727949600@otsegolibrary.org
SUMMARY:Storytime
DESCRIPTION:Thursdays at 10 AM\nSeptember 12 – November 21 \nAges 0 – 5\nStories\, songs\, and a craft all focusing on a new weekly theme.
URL:https://otsegolibrary.org/event/storytime-65/
CATEGORIES:Preschool
END:VEVENT
BEGIN:VEVENT
DTSTART;TZID=America/Detroit:20241002T100000
DTEND;TZID=America/Detroit:20241002T100000
DTSTAMP:20260422T041135
CREATED:20240702T165035Z
LAST-MODIFIED:20240702T165917Z
UID:9897-1727863200-1727863200@otsegolibrary.org
SUMMARY:Music and Movement
DESCRIPTION:Wednesdays at 10 AM\nSeptember 11 – November 20\nAges 0 – 5\nMovin’ and Groovin’ fun with songs\, stories\, interactive play\, and sensory activities.
URL:https://otsegolibrary.org/event/music-and-movement-21/
CATEGORIES:Preschool
END:VEVENT
BEGIN:VEVENT
DTSTART;TZID=America/Detroit:20241001T100000
DTEND;TZID=America/Detroit:20241001T100000
DTSTAMP:20260422T041135
CREATED:20240702T163732Z
LAST-MODIFIED:20240702T165928Z
UID:9873-1727776800-1727776800@otsegolibrary.org
SUMMARY:Tiny Tots
DESCRIPTION:Tuesdays at 10 AM\nSeptember 10 – November 19\nAges 0 – 24 Months\nSing\, read\, and play with your little ones and friends!
URL:https://otsegolibrary.org/event/tiny-tots-66/
CATEGORIES:Preschool
END:VEVENT
BEGIN:VEVENT
DTSTART;TZID=America/Detroit:20240926T100000
DTEND;TZID=America/Detroit:20240926T100000
DTSTAMP:20260422T041135
CREATED:20240705T195901Z
LAST-MODIFIED:20240705T195901Z
UID:9933-1727344800-1727344800@otsegolibrary.org
SUMMARY:Storytime
DESCRIPTION:Thursdays at 10 AM\nSeptember 12 – November 21 \nAges 0 – 5\nStories\, songs\, and a craft all focusing on a new weekly theme.
URL:https://otsegolibrary.org/event/storytime-64/
CATEGORIES:Preschool
END:VEVENT
BEGIN:VEVENT
DTSTART;TZID=America/Detroit:20240925T100000
DTEND;TZID=America/Detroit:20240925T100000
DTSTAMP:20260422T041135
CREATED:20240702T165008Z
LAST-MODIFIED:20240702T165938Z
UID:9895-1727258400-1727258400@otsegolibrary.org
SUMMARY:Music and Movement
DESCRIPTION:Wednesdays at 10 AM\nSeptember 11 – November 20\nAges 0 – 5\nMovin’ and Groovin’ fun with songs\, stories\, interactive play\, and sensory activities.
URL:https://otsegolibrary.org/event/music-and-movement-20/
CATEGORIES:Preschool
END:VEVENT
BEGIN:VEVENT
DTSTART;TZID=America/Detroit:20240924T100000
DTEND;TZID=America/Detroit:20240924T100000
DTSTAMP:20260422T041135
CREATED:20240702T163703Z
LAST-MODIFIED:20240703T140141Z
UID:9871-1727172000-1727172000@otsegolibrary.org
SUMMARY:Tiny Tots
DESCRIPTION:Tuesdays at 10 AM\nSeptember 10 – November 19\nAges 0 – 24 Months\nSing\, read\, and play with your little ones and friends!
URL:https://otsegolibrary.org/event/tiny-tots-65/
CATEGORIES:Preschool
END:VEVENT
BEGIN:VEVENT
DTSTART;TZID=America/Detroit:20240919T100000
DTEND;TZID=America/Detroit:20240919T100000
DTSTAMP:20260422T041135
CREATED:20240705T195836Z
LAST-MODIFIED:20240705T195836Z
UID:9931-1726740000-1726740000@otsegolibrary.org
SUMMARY:Storytime
DESCRIPTION:Thursdays at 10 AM\nSeptember 12 – November 21 \nAges 0 – 5\nStories\, songs\, and a craft all focusing on a new weekly theme.
URL:https://otsegolibrary.org/event/storytime-63/
CATEGORIES:Preschool
END:VEVENT
BEGIN:VEVENT
DTSTART;TZID=America/Detroit:20240918T100000
DTEND;TZID=America/Detroit:20240918T100000
DTSTAMP:20260422T041135
CREATED:20240702T164944Z
LAST-MODIFIED:20240703T140143Z
UID:9893-1726653600-1726653600@otsegolibrary.org
SUMMARY:Music and Movement
DESCRIPTION:Wednesdays at 10 AM\nSeptember 11 – November 20\nAges 0 – 5\nMovin’ and Groovin’ fun with songs\, stories\, interactive play\, and sensory activities.
URL:https://otsegolibrary.org/event/music-and-movement-19/
CATEGORIES:Preschool
END:VEVENT
BEGIN:VEVENT
DTSTART;TZID=America/Detroit:20240917T100000
DTEND;TZID=America/Detroit:20240917T100000
DTSTAMP:20260422T041135
CREATED:20240702T163628Z
LAST-MODIFIED:20240703T140146Z
UID:9869-1726567200-1726567200@otsegolibrary.org
SUMMARY:Tiny Tots
DESCRIPTION:Tuesdays at 10 AM\nSeptember 10 – November 19\nAges 0 – 24 Months\nSing\, read\, and play with your little ones and friends!
URL:https://otsegolibrary.org/event/tiny-tots-64/
CATEGORIES:Preschool
END:VEVENT
BEGIN:VEVENT
DTSTART;TZID=America/Detroit:20240912T100000
DTEND;TZID=America/Detroit:20240912T100000
DTSTAMP:20260422T041135
CREATED:20240705T195801Z
LAST-MODIFIED:20240705T195801Z
UID:9929-1726135200-1726135200@otsegolibrary.org
SUMMARY:Storytime
DESCRIPTION:Thursdays at 10 AM\nSeptember 12 – November 21 \nAges 0 – 5\nStories\, songs\, and a craft all focusing on a new weekly theme.
URL:https://otsegolibrary.org/event/storytime-62/
CATEGORIES:Preschool
END:VEVENT
BEGIN:VEVENT
DTSTART;TZID=America/Detroit:20240911T100000
DTEND;TZID=America/Detroit:20240911T100000
DTSTAMP:20260422T041135
CREATED:20240702T164902Z
LAST-MODIFIED:20240703T140148Z
UID:9891-1726048800-1726048800@otsegolibrary.org
SUMMARY:Music and Movement
DESCRIPTION:Wednesdays at 10 AM\nSeptember 11 – November 20\nAges 0 – 5\nMovin’ and Groovin’ fun with songs\, stories\, interactive play\, and sensory activities.
URL:https://otsegolibrary.org/event/music-and-movement-18/
CATEGORIES:Preschool
END:VEVENT
BEGIN:VEVENT
DTSTART;TZID=America/Detroit:20240910T100000
DTEND;TZID=America/Detroit:20240910T100000
DTSTAMP:20260422T041135
CREATED:20240702T163557Z
LAST-MODIFIED:20240703T140150Z
UID:9867-1725962400-1725962400@otsegolibrary.org
SUMMARY:Tiny Tots
DESCRIPTION:Tuesdays at 10 AM\nSeptember 10 – November 19\nAges 0 – 24 Months\nSing\, read\, and play with your little ones and friends!
URL:https://otsegolibrary.org/event/tiny-tots-62/
CATEGORIES:Preschool
END:VEVENT
BEGIN:VEVENT
DTSTART;TZID=America/Detroit:20240724T100000
DTEND;TZID=America/Detroit:20240724T100000
DTSTAMP:20260422T041135
CREATED:20240607T210036Z
LAST-MODIFIED:20240610T141958Z
UID:9717-1721815200-1721815200@otsegolibrary.org
SUMMARY:Adventurous Stories & Songs
DESCRIPTION:June 19 – July 24 \nWednesdays at 10 AM  \nAges 0-5 \nEach week we will focus on different adventures while we hear stories\, sing songs\, play games\, make a craft\, and have sensory activities.
URL:https://otsegolibrary.org/event/adventurous-stories-songs-6/
CATEGORIES:Preschool
END:VEVENT
BEGIN:VEVENT
DTSTART;TZID=America/Detroit:20240722T100000
DTEND;TZID=America/Detroit:20240722T110000
DTSTAMP:20260422T041135
CREATED:20240603T205827Z
LAST-MODIFIED:20240603T205827Z
UID:9681-1721642400-1721646000@otsegolibrary.org
SUMMARY:Stroller Adventure Walk
DESCRIPTION:(0 – 5 Years Old)\n \nJune 17 – July 22 \nMondays at 10 AM \nJoin your friends while we walk to Memorial Park and play at the park.
URL:https://otsegolibrary.org/event/stroller-adventure-walk-6/
CATEGORIES:Preschool
END:VEVENT
END:VCALENDAR