BEGIN:VCALENDAR
VERSION:2.0
PRODID:-//Otsego District Public Library - ECPv6.15.20//NONSGML v1.0//EN
CALSCALE:GREGORIAN
METHOD:PUBLISH
X-WR-CALNAME:Otsego District Public Library
X-ORIGINAL-URL:https://otsegolibrary.org
X-WR-CALDESC:Events for Otsego District Public Library
REFRESH-INTERVAL;VALUE=DURATION:PT1H
X-Robots-Tag:noindex
X-PUBLISHED-TTL:PT1H
BEGIN:VTIMEZONE
TZID:America/Detroit
BEGIN:DAYLIGHT
TZOFFSETFROM:-0500
TZOFFSETTO:-0400
TZNAME:EDT
DTSTART:20250309T070000
END:DAYLIGHT
BEGIN:STANDARD
TZOFFSETFROM:-0400
TZOFFSETTO:-0500
TZNAME:EST
DTSTART:20251102T060000
END:STANDARD
BEGIN:DAYLIGHT
TZOFFSETFROM:-0500
TZOFFSETTO:-0400
TZNAME:EDT
DTSTART:20260308T070000
END:DAYLIGHT
BEGIN:STANDARD
TZOFFSETFROM:-0400
TZOFFSETTO:-0500
TZNAME:EST
DTSTART:20261101T060000
END:STANDARD
BEGIN:DAYLIGHT
TZOFFSETFROM:-0500
TZOFFSETTO:-0400
TZNAME:EDT
DTSTART:20270314T070000
END:DAYLIGHT
BEGIN:STANDARD
TZOFFSETFROM:-0400
TZOFFSETTO:-0500
TZNAME:EST
DTSTART:20271107T060000
END:STANDARD
END:VTIMEZONE
BEGIN:VEVENT
DTSTART;TZID=America/Detroit:20260401T100000
DTEND;TZID=America/Detroit:20260401T100000
DTSTAMP:20260422T180246
CREATED:20260105T182807Z
LAST-MODIFIED:20260105T182810Z
UID:12402-1775037600-1775037600@otsegolibrary.org
SUMMARY:Music & Movement
DESCRIPTION:Music & Movement meets on Wednesdays @ 10 AM\nFebruary 4 – April 29 (No meetup on April 8) \nAges 0 – 5 \nYoung children will sing\, dance\, play interactive games\, and enjoy sensory activities during this lively musical class.
URL:https://otsegolibrary.org/event/music-movement-64/
CATEGORIES:Preschool
END:VEVENT
BEGIN:VEVENT
DTSTART;TZID=America/Detroit:20260402T100000
DTEND;TZID=America/Detroit:20260402T100000
DTSTAMP:20260422T180246
CREATED:20260105T192712Z
LAST-MODIFIED:20260105T192715Z
UID:12428-1775124000-1775124000@otsegolibrary.org
SUMMARY:Storytime
DESCRIPTION:Storytime is on Thursdays @ 10 AM\nFebruary 5 – April 30 (No meetup on April 9) \nAges 0 – 5 \nEach session focuses on a fun theme including stories\, songs\, and a craft.
URL:https://otsegolibrary.org/event/storytime-102/
CATEGORIES:Preschool
END:VEVENT
BEGIN:VEVENT
DTSTART;TZID=America/Detroit:20260414T100000
DTEND;TZID=America/Detroit:20260414T100000
DTSTAMP:20260422T180246
CREATED:20260105T182034Z
LAST-MODIFIED:20260105T182038Z
UID:12380-1776160800-1776160800@otsegolibrary.org
SUMMARY:Tiny Tots
DESCRIPTION:Tiny Tots meets on Tuesdays @ 10 AM\nFebruary 3 – April 28 (No meetup on April 7) \nAges 0 – 24 months \nBabies and their caregivers will learn fun songs\, hear a story\, and play with new friends!
URL:https://otsegolibrary.org/event/tiny-tots-105/
CATEGORIES:Preschool
END:VEVENT
BEGIN:VEVENT
DTSTART;TZID=America/Detroit:20260415T100000
DTEND;TZID=America/Detroit:20260415T100000
DTSTAMP:20260422T180246
CREATED:20260105T184602Z
LAST-MODIFIED:20260105T184605Z
UID:12404-1776247200-1776247200@otsegolibrary.org
SUMMARY:Music & Movement
DESCRIPTION:Music & Movement meets on Wednesdays @ 10 AM\nFebruary 4 – April 29 (No meetup on April 8) \nAges 0 – 5 \nYoung children will sing\, dance\, play interactive games\, and enjoy sensory activities during this lively musical class.
URL:https://otsegolibrary.org/event/music-movement-65/
CATEGORIES:Preschool
END:VEVENT
BEGIN:VEVENT
DTSTART;TZID=America/Detroit:20260416T100000
DTEND;TZID=America/Detroit:20260416T100000
DTSTAMP:20260422T180246
CREATED:20260105T192824Z
LAST-MODIFIED:20260105T192903Z
UID:12430-1776333600-1776333600@otsegolibrary.org
SUMMARY:Storytime
DESCRIPTION:Storytime is on Thursdays @ 10 AM\nFebruary 5 – April 30 (No meetup on April 9) \nAges 0 – 5 \nEach session focuses on a fun theme including stories\, songs\, and a craft.
URL:https://otsegolibrary.org/event/storytime-103/
CATEGORIES:Preschool
END:VEVENT
BEGIN:VEVENT
DTSTART;TZID=America/Detroit:20260421T100000
DTEND;TZID=America/Detroit:20260421T100000
DTSTAMP:20260422T180246
CREATED:20260105T182057Z
LAST-MODIFIED:20260105T182135Z
UID:12382-1776765600-1776765600@otsegolibrary.org
SUMMARY:Tiny Tots
DESCRIPTION:Tiny Tots meets on Tuesdays @ 10 AM\nFebruary 3 – April 28 (No meetup on April 7) \nAges 0 – 24 months \nBabies and their caregivers will learn fun songs\, hear a story\, and play with new friends!
URL:https://otsegolibrary.org/event/tiny-tots-106/
CATEGORIES:Preschool
END:VEVENT
BEGIN:VEVENT
DTSTART;TZID=America/Detroit:20260422T100000
DTEND;TZID=America/Detroit:20260422T100000
DTSTAMP:20260422T180246
CREATED:20260105T184633Z
LAST-MODIFIED:20260105T184635Z
UID:12406-1776852000-1776852000@otsegolibrary.org
SUMMARY:Music & Movement
DESCRIPTION:Music & Movement meets on Wednesdays @ 10 AM\nFebruary 4 – April 29 (No meetup on April 8) \nAges 0 – 5 \nYoung children will sing\, dance\, play interactive games\, and enjoy sensory activities during this lively musical class.
URL:https://otsegolibrary.org/event/music-movement-66/
CATEGORIES:Preschool
END:VEVENT
BEGIN:VEVENT
DTSTART;TZID=America/Detroit:20260423T100000
DTEND;TZID=America/Detroit:20260423T100000
DTSTAMP:20260422T180246
CREATED:20260105T192935Z
LAST-MODIFIED:20260105T192938Z
UID:12432-1776938400-1776938400@otsegolibrary.org
SUMMARY:Storytime
DESCRIPTION:Storytime is on Thursdays @ 10 AM\nFebruary 5 – April 30 (No meetup on April 9) \nAges 0 – 5 \nEach session focuses on a fun theme including stories\, songs\, and a craft.
URL:https://otsegolibrary.org/event/storytime-104/
CATEGORIES:Preschool
END:VEVENT
BEGIN:VEVENT
DTSTART;TZID=America/Detroit:20260428T100000
DTEND;TZID=America/Detroit:20260428T100000
DTSTAMP:20260422T180246
CREATED:20260105T182200Z
LAST-MODIFIED:20260105T182204Z
UID:12384-1777370400-1777370400@otsegolibrary.org
SUMMARY:Tiny Tots
DESCRIPTION:Tiny Tots meets on Tuesdays @ 10 AM\nFebruary 3 – April 28 (No meetup on April 7) \nAges 0 – 24 months \nBabies and their caregivers will learn fun songs\, hear a story\, and play with new friends!
URL:https://otsegolibrary.org/event/tiny-tots-107/
CATEGORIES:Preschool
END:VEVENT
BEGIN:VEVENT
DTSTART;TZID=America/Detroit:20260429T100000
DTEND;TZID=America/Detroit:20260429T100000
DTSTAMP:20260422T180246
CREATED:20260105T184655Z
LAST-MODIFIED:20260105T184657Z
UID:12408-1777456800-1777456800@otsegolibrary.org
SUMMARY:Music & Movement
DESCRIPTION:Music & Movement meets on Wednesdays @ 10 AM\nFebruary 4 – April 29 (No meetup on April 8) \nAges 0 – 5 \nYoung children will sing\, dance\, play interactive games\, and enjoy sensory activities during this lively musical class.
URL:https://otsegolibrary.org/event/music-movement-67/
CATEGORIES:Preschool
END:VEVENT
BEGIN:VEVENT
DTSTART;TZID=America/Detroit:20260430T100000
DTEND;TZID=America/Detroit:20260430T100000
DTSTAMP:20260422T180246
CREATED:20260105T193003Z
LAST-MODIFIED:20260105T193006Z
UID:12434-1777543200-1777543200@otsegolibrary.org
SUMMARY:Storytime
DESCRIPTION:Storytime is on Thursdays @ 10 AM\nFebruary 5 – April 30 (No meetup on April 9) \nAges 0 – 5 \nEach session focuses on a fun theme including stories\, songs\, and a craft.
URL:https://otsegolibrary.org/event/storytime-105/
CATEGORIES:Preschool
END:VEVENT
END:VCALENDAR