BEGIN:VCALENDAR
VERSION:2.0
PRODID:-//Otsego District Public Library - ECPv6.15.20//NONSGML v1.0//EN
CALSCALE:GREGORIAN
METHOD:PUBLISH
X-ORIGINAL-URL:https://otsegolibrary.org
X-WR-CALDESC:Events for Otsego District Public Library
REFRESH-INTERVAL;VALUE=DURATION:PT1H
X-Robots-Tag:noindex
X-PUBLISHED-TTL:PT1H
BEGIN:VTIMEZONE
TZID:America/Detroit
BEGIN:DAYLIGHT
TZOFFSETFROM:-0500
TZOFFSETTO:-0400
TZNAME:EDT
DTSTART:20240310T070000
END:DAYLIGHT
BEGIN:STANDARD
TZOFFSETFROM:-0400
TZOFFSETTO:-0500
TZNAME:EST
DTSTART:20241103T060000
END:STANDARD
BEGIN:DAYLIGHT
TZOFFSETFROM:-0500
TZOFFSETTO:-0400
TZNAME:EDT
DTSTART:20250309T070000
END:DAYLIGHT
BEGIN:STANDARD
TZOFFSETFROM:-0400
TZOFFSETTO:-0500
TZNAME:EST
DTSTART:20251102T060000
END:STANDARD
BEGIN:DAYLIGHT
TZOFFSETFROM:-0500
TZOFFSETTO:-0400
TZNAME:EDT
DTSTART:20260308T070000
END:DAYLIGHT
BEGIN:STANDARD
TZOFFSETFROM:-0400
TZOFFSETTO:-0500
TZNAME:EST
DTSTART:20261101T060000
END:STANDARD
BEGIN:DAYLIGHT
TZOFFSETFROM:-0500
TZOFFSETTO:-0400
TZNAME:EDT
DTSTART:20270314T070000
END:DAYLIGHT
BEGIN:STANDARD
TZOFFSETFROM:-0400
TZOFFSETTO:-0500
TZNAME:EST
DTSTART:20271107T060000
END:STANDARD
END:VTIMEZONE
BEGIN:VEVENT
DTSTART;TZID=America/Detroit:20251113T100000
DTEND;TZID=America/Detroit:20251113T100000
DTSTAMP:20260422T180323
CREATED:20250619T161052Z
LAST-MODIFIED:20250619T161141Z
UID:11788-1763028000-1763028000@otsegolibrary.org
SUMMARY:Storytime
DESCRIPTION:Storytime meets on Thursdays at 10 AM!\nSeptember 11 – November 20 \nAges 0 – 5 \nStories\, songs\, and crafts focusing on a new theme each week. \nWear your costume on October 30 for a Special Halloween Storytime!
URL:https://otsegolibrary.org/event/storytime-93/
CATEGORIES:Preschool
END:VEVENT
BEGIN:VEVENT
DTSTART;TZID=America/Detroit:20251118T100000
DTEND;TZID=America/Detroit:20251118T100000
DTSTAMP:20260422T180323
CREATED:20250619T153836Z
LAST-MODIFIED:20250619T153845Z
UID:11743-1763460000-1763460000@otsegolibrary.org
SUMMARY:Tiny Tots
DESCRIPTION:Tiny Tots meets on Tuesdays at 10 AM\nSeptember 9 – November 18 \nAges 0 – 24 Months \nSing\, read\, and play with your little ones and friends!
URL:https://otsegolibrary.org/event/tiny-tots-95/
CATEGORIES:Preschool
END:VEVENT
BEGIN:VEVENT
DTSTART;TZID=America/Detroit:20251119T100000
DTEND;TZID=America/Detroit:20251119T100000
DTSTAMP:20260422T180323
CREATED:20250619T154947Z
LAST-MODIFIED:20250619T154956Z
UID:11768-1763546400-1763546400@otsegolibrary.org
SUMMARY:Music & Movement
DESCRIPTION:Music & Movement meets on Wednesdays at 10 AM!\nSeptember 10 – November 19 (No meetup on September 17) \nAges 0 – 5 \nMovin’ and Groovin’ fun with songs\, stories\, interactive play\, and sensory activities.
URL:https://otsegolibrary.org/event/music-movement-54/
CATEGORIES:Preschool
END:VEVENT
BEGIN:VEVENT
DTSTART;TZID=America/Detroit:20251120T100000
DTEND;TZID=America/Detroit:20251120T100000
DTSTAMP:20260422T180323
CREATED:20250619T161158Z
LAST-MODIFIED:20250619T161205Z
UID:11790-1763632800-1763632800@otsegolibrary.org
SUMMARY:Storytime
DESCRIPTION:Storytime meets on Thursdays at 10 AM!\nSeptember 11 – November 20 \nAges 0 – 5 \nStories\, songs\, and crafts focusing on a new theme each week. \nWear your costume on October 30 for a Special Halloween Storytime!
URL:https://otsegolibrary.org/event/11790/
CATEGORIES:Preschool
END:VEVENT
BEGIN:VEVENT
DTSTART;TZID=America/Detroit:20251203T100000
DTEND;TZID=America/Detroit:20251203T100000
DTSTAMP:20260422T180323
CREATED:20250619T152919Z
LAST-MODIFIED:20250619T152936Z
UID:11720-1764756000-1764756000@otsegolibrary.org
SUMMARY:Santa Storytime & Party
DESCRIPTION:This event is for children ages 0-5. \nSanta is coming to the library to see our young friends! \nChildren will hear a couple of holiday stories\, make a craft\, see Santa\, and receive a special gift from the library. Plus\, a party would not be complete without a fun holiday snack. It’s going to be a festive and fun event!
URL:https://otsegolibrary.org/event/santa-storytime-party/
CATEGORIES:Preschool
END:VEVENT
BEGIN:VEVENT
DTSTART;TZID=America/Detroit:20260203T100000
DTEND;TZID=America/Detroit:20260203T100000
DTSTAMP:20260422T180323
CREATED:20260105T181512Z
LAST-MODIFIED:20260105T181530Z
UID:12362-1770112800-1770112800@otsegolibrary.org
SUMMARY:Tiny Tots
DESCRIPTION:Tiny Tots meets on Tuesdays @ 10 AM\nFebruary 3 – April 28 (No meetup on April 7) \nAges 0 – 24 months \nBabies and their caregivers will learn fun songs\, hear a story\, and play with new friends!
URL:https://otsegolibrary.org/event/tiny-tots-96/
CATEGORIES:Preschool
END:VEVENT
BEGIN:VEVENT
DTSTART;TZID=America/Detroit:20260204T100000
DTEND;TZID=America/Detroit:20260204T100000
DTSTAMP:20260422T180323
CREATED:20260105T182316Z
LAST-MODIFIED:20260105T182340Z
UID:12386-1770199200-1770199200@otsegolibrary.org
SUMMARY:Music & Movement
DESCRIPTION:Music & Movement meets on Wednesdays @ 10 AM\nFebruary 4 – April 29 (No meetup on April 8) \nAges 0 – 5 \nYoung children will sing\, dance\, play interactive games\, and enjoy sensory activities during this lively musical class.
URL:https://otsegolibrary.org/event/music-movement-56/
CATEGORIES:Preschool
END:VEVENT
BEGIN:VEVENT
DTSTART;TZID=America/Detroit:20260205T100000
DTEND;TZID=America/Detroit:20260205T100000
DTSTAMP:20260422T180323
CREATED:20260105T191910Z
LAST-MODIFIED:20260105T191929Z
UID:12412-1770285600-1770285600@otsegolibrary.org
SUMMARY:Storytime
DESCRIPTION:Storytime is on Thursdays @ 10 AM\nFebruary 5 – April 30 (No meetup on April 9) \nAges 0 – 5 \nEach session focuses on a fun theme including stories\, songs\, and a craft.
URL:https://otsegolibrary.org/event/storytime-94/
CATEGORIES:Preschool
END:VEVENT
BEGIN:VEVENT
DTSTART;TZID=America/Detroit:20260210T100000
DTEND;TZID=America/Detroit:20260210T100000
DTSTAMP:20260422T180323
CREATED:20260105T181556Z
LAST-MODIFIED:20260105T181559Z
UID:12364-1770717600-1770717600@otsegolibrary.org
SUMMARY:Tiny Tots
DESCRIPTION:Tiny Tots meets on Tuesdays @ 10 AM\nFebruary 3 – April 28 (No meetup on April 7) \nAges 0 – 24 months \nBabies and their caregivers will learn fun songs\, hear a story\, and play with new friends!
URL:https://otsegolibrary.org/event/tiny-tots-97/
CATEGORIES:Preschool
END:VEVENT
BEGIN:VEVENT
DTSTART;TZID=America/Detroit:20260211T100000
DTEND;TZID=America/Detroit:20260211T100000
DTSTAMP:20260422T180323
CREATED:20260105T182355Z
LAST-MODIFIED:20260105T182507Z
UID:12388-1770804000-1770804000@otsegolibrary.org
SUMMARY:Music & Movement
DESCRIPTION:Music & Movement meets on Wednesdays @ 10 AM\nFebruary 4 – April 29 (No meetup on April 8) \nAges 0 – 5 \nYoung children will sing\, dance\, play interactive games\, and enjoy sensory activities during this lively musical class.
URL:https://otsegolibrary.org/event/music-movement-57/
CATEGORIES:Preschool
END:VEVENT
BEGIN:VEVENT
DTSTART;TZID=America/Detroit:20260212T100000
DTEND;TZID=America/Detroit:20260212T100000
DTSTAMP:20260422T180323
CREATED:20260105T191946Z
LAST-MODIFIED:20260105T191953Z
UID:12414-1770890400-1770890400@otsegolibrary.org
SUMMARY:Storytime
DESCRIPTION:Storytime is on Thursdays @ 10 AM\nFebruary 5 – April 30 (No meetup on April 9) \nAges 0 – 5 \nEach session focuses on a fun theme including stories\, songs\, and a craft.
URL:https://otsegolibrary.org/event/storytime-95/
CATEGORIES:Preschool
END:VEVENT
BEGIN:VEVENT
DTSTART;TZID=America/Detroit:20260217T100000
DTEND;TZID=America/Detroit:20260217T100000
DTSTAMP:20260422T180323
CREATED:20260105T181619Z
LAST-MODIFIED:20260105T181706Z
UID:12366-1771322400-1771322400@otsegolibrary.org
SUMMARY:Tiny Tots
DESCRIPTION:Tiny Tots meets on Tuesdays @ 10 AM\nFebruary 3 – April 28 (No meetup on April 7) \nAges 0 – 24 months \nBabies and their caregivers will learn fun songs\, hear a story\, and play with new friends!
URL:https://otsegolibrary.org/event/tiny-tots-98/
CATEGORIES:Preschool
END:VEVENT
BEGIN:VEVENT
DTSTART;TZID=America/Detroit:20260218T100000
DTEND;TZID=America/Detroit:20260218T100000
DTSTAMP:20260422T180323
CREATED:20260105T182417Z
LAST-MODIFIED:20260105T182512Z
UID:12390-1771408800-1771408800@otsegolibrary.org
SUMMARY:Music & Movement
DESCRIPTION:Music & Movement meets on Wednesdays @ 10 AM\nFebruary 4 – April 29 (No meetup on April 8) \nAges 0 – 5 \nYoung children will sing\, dance\, play interactive games\, and enjoy sensory activities during this lively musical class.
URL:https://otsegolibrary.org/event/music-movement-58/
CATEGORIES:Preschool
END:VEVENT
BEGIN:VEVENT
DTSTART;TZID=America/Detroit:20260219T100000
DTEND;TZID=America/Detroit:20260219T100000
DTSTAMP:20260422T180323
CREATED:20260105T192025Z
LAST-MODIFIED:20260105T192033Z
UID:12416-1771495200-1771495200@otsegolibrary.org
SUMMARY:Storytime
DESCRIPTION:Storytime is on Thursdays @ 10 AM\nFebruary 5 – April 30 (No meetup on April 9) \nAges 0 – 5 \nEach session focuses on a fun theme including stories\, songs\, and a craft.
URL:https://otsegolibrary.org/event/storytime-96/
CATEGORIES:Preschool
END:VEVENT
BEGIN:VEVENT
DTSTART;TZID=America/Detroit:20260224T100000
DTEND;TZID=America/Detroit:20260224T100000
DTSTAMP:20260422T180323
CREATED:20260105T181728Z
LAST-MODIFIED:20260105T181731Z
UID:12368-1771927200-1771927200@otsegolibrary.org
SUMMARY:Tiny Tots
DESCRIPTION:Tiny Tots meets on Tuesdays @ 10 AM\nFebruary 3 – April 28 (No meetup on April 7) \nAges 0 – 24 months \nBabies and their caregivers will learn fun songs\, hear a story\, and play with new friends!
URL:https://otsegolibrary.org/event/tiny-tots-99/
CATEGORIES:Preschool
END:VEVENT
BEGIN:VEVENT
DTSTART;TZID=America/Detroit:20260225T100000
DTEND;TZID=America/Detroit:20260225T100000
DTSTAMP:20260422T180323
CREATED:20260105T182543Z
LAST-MODIFIED:20260105T182550Z
UID:12392-1772013600-1772013600@otsegolibrary.org
SUMMARY:Music & Movement
DESCRIPTION:Music & Movement meets on Wednesdays @ 10 AM\nFebruary 4 – April 29 (No meetup on April 8) \nAges 0 – 5 \nYoung children will sing\, dance\, play interactive games\, and enjoy sensory activities during this lively musical class.
URL:https://otsegolibrary.org/event/music-movement-59/
CATEGORIES:Preschool
END:VEVENT
BEGIN:VEVENT
DTSTART;TZID=America/Detroit:20260226T100000
DTEND;TZID=America/Detroit:20260226T100000
DTSTAMP:20260422T180323
CREATED:20260105T192056Z
LAST-MODIFIED:20260105T192118Z
UID:12418-1772100000-1772100000@otsegolibrary.org
SUMMARY:Storytime
DESCRIPTION:Storytime is on Thursdays @ 10 AM\nFebruary 5 – April 30 (No meetup on April 9) \nAges 0 – 5 \nEach session focuses on a fun theme including stories\, songs\, and a craft.
URL:https://otsegolibrary.org/event/storytime-97/
CATEGORIES:Preschool
END:VEVENT
BEGIN:VEVENT
DTSTART;TZID=America/Detroit:20260303T100000
DTEND;TZID=America/Detroit:20260303T100000
DTSTAMP:20260422T180323
CREATED:20260105T181756Z
LAST-MODIFIED:20260105T181806Z
UID:12370-1772532000-1772532000@otsegolibrary.org
SUMMARY:Tiny Tots
DESCRIPTION:Tiny Tots meets on Tuesdays @ 10 AM\nFebruary 3 – April 28 (No meetup on April 7) \nAges 0 – 24 months \nBabies and their caregivers will learn fun songs\, hear a story\, and play with new friends!
URL:https://otsegolibrary.org/event/tiny-tots-100/
CATEGORIES:Preschool
END:VEVENT
BEGIN:VEVENT
DTSTART;TZID=America/Detroit:20260304T100000
DTEND;TZID=America/Detroit:20260304T100000
DTSTAMP:20260422T180323
CREATED:20260105T182615Z
LAST-MODIFIED:20260105T182619Z
UID:12394-1772618400-1772618400@otsegolibrary.org
SUMMARY:Music & Movement
DESCRIPTION:Music & Movement meets on Wednesdays @ 10 AM\nFebruary 4 – April 29 (No meetup on April 8) \nAges 0 – 5 \nYoung children will sing\, dance\, play interactive games\, and enjoy sensory activities during this lively musical class.
URL:https://otsegolibrary.org/event/music-movement-60/
CATEGORIES:Preschool
END:VEVENT
BEGIN:VEVENT
DTSTART;TZID=America/Detroit:20260305T100000
DTEND;TZID=America/Detroit:20260305T100000
DTSTAMP:20260422T180323
CREATED:20260105T192143Z
LAST-MODIFIED:20260105T192514Z
UID:12420-1772704800-1772704800@otsegolibrary.org
SUMMARY:Storytime
DESCRIPTION:Storytime is on Thursdays @ 10 AM\nFebruary 5 – April 30 (No meetup on April 9) \nAges 0 – 5 \nEach session focuses on a fun theme including stories\, songs\, and a craft.
URL:https://otsegolibrary.org/event/storytime-98/
CATEGORIES:Preschool
END:VEVENT
BEGIN:VEVENT
DTSTART;TZID=America/Detroit:20260310T100000
DTEND;TZID=America/Detroit:20260310T100000
DTSTAMP:20260422T180323
CREATED:20260105T181827Z
LAST-MODIFIED:20260105T181833Z
UID:12372-1773136800-1773136800@otsegolibrary.org
SUMMARY:Tiny Tots
DESCRIPTION:Tiny Tots meets on Tuesdays @ 10 AM\nFebruary 3 – April 28 (No meetup on April 7) \nAges 0 – 24 months \nBabies and their caregivers will learn fun songs\, hear a story\, and play with new friends!
URL:https://otsegolibrary.org/event/tiny-tots-101/
CATEGORIES:Preschool
END:VEVENT
BEGIN:VEVENT
DTSTART;TZID=America/Detroit:20260311T100000
DTEND;TZID=America/Detroit:20260311T100000
DTSTAMP:20260422T180323
CREATED:20260105T182638Z
LAST-MODIFIED:20260105T182640Z
UID:12396-1773223200-1773223200@otsegolibrary.org
SUMMARY:Music & Movement
DESCRIPTION:Music & Movement meets on Wednesdays @ 10 AM\nFebruary 4 – April 29 (No meetup on April 8) \nAges 0 – 5 \nYoung children will sing\, dance\, play interactive games\, and enjoy sensory activities during this lively musical class.
URL:https://otsegolibrary.org/event/music-movement-61/
CATEGORIES:Preschool
END:VEVENT
BEGIN:VEVENT
DTSTART;TZID=America/Detroit:20260312T100000
DTEND;TZID=America/Detroit:20260312T100000
DTSTAMP:20260422T180323
CREATED:20260105T192539Z
LAST-MODIFIED:20260105T192542Z
UID:12422-1773309600-1773309600@otsegolibrary.org
SUMMARY:Storytime
DESCRIPTION:Storytime is on Thursdays @ 10 AM\nFebruary 5 – April 30 (No meetup on April 9) \nAges 0 – 5 \nEach session focuses on a fun theme including stories\, songs\, and a craft.
URL:https://otsegolibrary.org/event/storytime-99/
CATEGORIES:Preschool
END:VEVENT
BEGIN:VEVENT
DTSTART;TZID=America/Detroit:20260317T100000
DTEND;TZID=America/Detroit:20260317T100000
DTSTAMP:20260422T180323
CREATED:20260105T181909Z
LAST-MODIFIED:20260105T181913Z
UID:12374-1773741600-1773741600@otsegolibrary.org
SUMMARY:Tiny Tots
DESCRIPTION:Tiny Tots meets on Tuesdays @ 10 AM\nFebruary 3 – April 28 (No meetup on April 7) \nAges 0 – 24 months \nBabies and their caregivers will learn fun songs\, hear a story\, and play with new friends!
URL:https://otsegolibrary.org/event/tiny-tots-102/
CATEGORIES:Preschool
END:VEVENT
BEGIN:VEVENT
DTSTART;TZID=America/Detroit:20260318T100000
DTEND;TZID=America/Detroit:20260318T100000
DTSTAMP:20260422T180323
CREATED:20260105T182716Z
LAST-MODIFIED:20260105T182720Z
UID:12398-1773828000-1773828000@otsegolibrary.org
SUMMARY:Music & Movement
DESCRIPTION:Music & Movement meets on Wednesdays @ 10 AM\nFebruary 4 – April 29 (No meetup on April 8) \nAges 0 – 5 \nYoung children will sing\, dance\, play interactive games\, and enjoy sensory activities during this lively musical class.
URL:https://otsegolibrary.org/event/music-movement-62/
CATEGORIES:Preschool
END:VEVENT
BEGIN:VEVENT
DTSTART;TZID=America/Detroit:20260319T100000
DTEND;TZID=America/Detroit:20260319T100000
DTSTAMP:20260422T180323
CREATED:20260105T192607Z
LAST-MODIFIED:20260105T192611Z
UID:12424-1773914400-1773914400@otsegolibrary.org
SUMMARY:Storytime
DESCRIPTION:Storytime is on Thursdays @ 10 AM\nFebruary 5 – April 30 (No meetup on April 9) \nAges 0 – 5 \nEach session focuses on a fun theme including stories\, songs\, and a craft.
URL:https://otsegolibrary.org/event/storytime-100/
CATEGORIES:Preschool
END:VEVENT
BEGIN:VEVENT
DTSTART;TZID=America/Detroit:20260324T100000
DTEND;TZID=America/Detroit:20260324T100000
DTSTAMP:20260422T180323
CREATED:20260105T181932Z
LAST-MODIFIED:20260105T181936Z
UID:12376-1774346400-1774346400@otsegolibrary.org
SUMMARY:Tiny Tots
DESCRIPTION:Tiny Tots meets on Tuesdays @ 10 AM\nFebruary 3 – April 28 (No meetup on April 7) \nAges 0 – 24 months \nBabies and their caregivers will learn fun songs\, hear a story\, and play with new friends!
URL:https://otsegolibrary.org/event/tiny-tots-103/
CATEGORIES:Preschool
END:VEVENT
BEGIN:VEVENT
DTSTART;TZID=America/Detroit:20260325T100000
DTEND;TZID=America/Detroit:20260325T100000
DTSTAMP:20260422T180323
CREATED:20260105T182736Z
LAST-MODIFIED:20260105T182741Z
UID:12400-1774432800-1774432800@otsegolibrary.org
SUMMARY:Music & Movement
DESCRIPTION:Music & Movement meets on Wednesdays @ 10 AM\nFebruary 4 – April 29 (No meetup on April 8) \nAges 0 – 5 \nYoung children will sing\, dance\, play interactive games\, and enjoy sensory activities during this lively musical class.
URL:https://otsegolibrary.org/event/music-movement-63/
CATEGORIES:Preschool
END:VEVENT
BEGIN:VEVENT
DTSTART;TZID=America/Detroit:20260326T100000
DTEND;TZID=America/Detroit:20260326T100000
DTSTAMP:20260422T180323
CREATED:20260105T192625Z
LAST-MODIFIED:20260105T192647Z
UID:12426-1774519200-1774519200@otsegolibrary.org
SUMMARY:Storytime
DESCRIPTION:Storytime is on Thursdays @ 10 AM\nFebruary 5 – April 30 (No meetup on April 9) \nAges 0 – 5 \nEach session focuses on a fun theme including stories\, songs\, and a craft.
URL:https://otsegolibrary.org/event/storytime-101/
CATEGORIES:Preschool
END:VEVENT
BEGIN:VEVENT
DTSTART;TZID=America/Detroit:20260331T100000
DTEND;TZID=America/Detroit:20260331T100000
DTSTAMP:20260422T180323
CREATED:20260105T182000Z
LAST-MODIFIED:20260105T182006Z
UID:12378-1774951200-1774951200@otsegolibrary.org
SUMMARY:Tiny Tots
DESCRIPTION:Tiny Tots meets on Tuesdays @ 10 AM\nFebruary 3 – April 28 (No meetup on April 7) \nAges 0 – 24 months \nBabies and their caregivers will learn fun songs\, hear a story\, and play with new friends!
URL:https://otsegolibrary.org/event/tiny-tots-104/
CATEGORIES:Preschool
END:VEVENT
END:VCALENDAR