BEGIN:VCALENDAR
VERSION:2.0
PRODID:-//Otsego District Public Library - ECPv6.15.20//NONSGML v1.0//EN
CALSCALE:GREGORIAN
METHOD:PUBLISH
X-ORIGINAL-URL:https://otsegolibrary.org
X-WR-CALDESC:Events for Otsego District Public Library
REFRESH-INTERVAL;VALUE=DURATION:PT1H
X-Robots-Tag:noindex
X-PUBLISHED-TTL:PT1H
BEGIN:VTIMEZONE
TZID:America/Detroit
BEGIN:DAYLIGHT
TZOFFSETFROM:-0500
TZOFFSETTO:-0400
TZNAME:EDT
DTSTART:20240310T070000
END:DAYLIGHT
BEGIN:STANDARD
TZOFFSETFROM:-0400
TZOFFSETTO:-0500
TZNAME:EST
DTSTART:20241103T060000
END:STANDARD
BEGIN:DAYLIGHT
TZOFFSETFROM:-0500
TZOFFSETTO:-0400
TZNAME:EDT
DTSTART:20250309T070000
END:DAYLIGHT
BEGIN:STANDARD
TZOFFSETFROM:-0400
TZOFFSETTO:-0500
TZNAME:EST
DTSTART:20251102T060000
END:STANDARD
BEGIN:DAYLIGHT
TZOFFSETFROM:-0500
TZOFFSETTO:-0400
TZNAME:EDT
DTSTART:20260308T070000
END:DAYLIGHT
BEGIN:STANDARD
TZOFFSETFROM:-0400
TZOFFSETTO:-0500
TZNAME:EST
DTSTART:20261101T060000
END:STANDARD
END:VTIMEZONE
BEGIN:VEVENT
DTSTART;TZID=America/Detroit:20250311T100000
DTEND;TZID=America/Detroit:20250311T100000
DTSTAMP:20260423T074239
CREATED:20241226T205257Z
LAST-MODIFIED:20241226T205308Z
UID:10681-1741687200-1741687200@otsegolibrary.org
SUMMARY:Tiny Tots
DESCRIPTION:Tuesdays at 10 AM\nFebruary 4 – April 29 (No meet up on April 8)\nAges 0 – 24 months \nBabies and their caregivers will learn fun songs\, hear a story\, and play with new friends!
URL:https://otsegolibrary.org/event/tiny-tots-78/
CATEGORIES:Preschool
END:VEVENT
BEGIN:VEVENT
DTSTART;TZID=America/Detroit:20250312T100000
DTEND;TZID=America/Detroit:20250312T100000
DTSTAMP:20260423T074239
CREATED:20241227T161152Z
LAST-MODIFIED:20241227T202803Z
UID:10710-1741773600-1741773600@otsegolibrary.org
SUMMARY:Music & Movement
DESCRIPTION:Wednesdays at 10 AM\n\n\nFebruary 5 – April 30 (No meet up on April 9)\nAges 0 – 5\n\nYoung children will sing\, dance\, play interactive games\, and enjoy sensory activities during this lively musical class.
URL:https://otsegolibrary.org/event/music-and-movement-30/
CATEGORIES:Preschool
END:VEVENT
BEGIN:VEVENT
DTSTART;TZID=America/Detroit:20250313T100000
DTEND;TZID=America/Detroit:20250313T100000
DTSTAMP:20260423T074239
CREATED:20241227T162108Z
LAST-MODIFIED:20241227T162114Z
UID:10734-1741860000-1741860000@otsegolibrary.org
SUMMARY:Storytime
DESCRIPTION:Thursdays at 10 AM\nFebruary 6 – May 1 (No meet up on April 10)\nAges 0 – 5 \nEach session focuses on a fun theme including stories\, songs\, and a craft.
URL:https://otsegolibrary.org/event/storytime-77/
CATEGORIES:Preschool
END:VEVENT
BEGIN:VEVENT
DTSTART;TZID=America/Detroit:20250318T100000
DTEND;TZID=America/Detroit:20250318T100000
DTSTAMP:20260423T074239
CREATED:20241226T205340Z
LAST-MODIFIED:20241226T205346Z
UID:10683-1742292000-1742292000@otsegolibrary.org
SUMMARY:Tiny Tots
DESCRIPTION:Tuesdays at 10 AM\nFebruary 4 – April 29 (No meet up on April 8)\nAges 0 – 24 months \nBabies and their caregivers will learn fun songs\, hear a story\, and play with new friends!
URL:https://otsegolibrary.org/event/tiny-tots-79/
CATEGORIES:Preschool
END:VEVENT
BEGIN:VEVENT
DTSTART;TZID=America/Detroit:20250319T100000
DTEND;TZID=America/Detroit:20250319T100000
DTSTAMP:20260423T074239
CREATED:20241227T161218Z
LAST-MODIFIED:20241227T202801Z
UID:10712-1742378400-1742378400@otsegolibrary.org
SUMMARY:Music & Movement
DESCRIPTION:Wednesdays at 10 AM\n\n\nFebruary 5 – April 30 (No meet up on April 9)\nAges 0 – 5\n\nYoung children will sing\, dance\, play interactive games\, and enjoy sensory activities during this lively musical class.
URL:https://otsegolibrary.org/event/music-and-movement-31/
CATEGORIES:Preschool
END:VEVENT
BEGIN:VEVENT
DTSTART;TZID=America/Detroit:20250320T100000
DTEND;TZID=America/Detroit:20250320T100000
DTSTAMP:20260423T074239
CREATED:20241227T162132Z
LAST-MODIFIED:20241227T162135Z
UID:10736-1742464800-1742464800@otsegolibrary.org
SUMMARY:Storytime
DESCRIPTION:Thursdays at 10 AM\nFebruary 6 – May 1 (No meet up on April 10)\nAges 0 – 5 \nEach session focuses on a fun theme including stories\, songs\, and a craft.
URL:https://otsegolibrary.org/event/storytime-78/
CATEGORIES:Preschool
END:VEVENT
BEGIN:VEVENT
DTSTART;TZID=America/Detroit:20250325T100000
DTEND;TZID=America/Detroit:20250325T100000
DTSTAMP:20260423T074239
CREATED:20241226T205416Z
LAST-MODIFIED:20241226T205503Z
UID:10685-1742896800-1742896800@otsegolibrary.org
SUMMARY:Tiny Tots
DESCRIPTION:Tuesdays at 10 AM\nFebruary 4 – April 29 (No meet up on April 8)\nAges 0 – 24 months \nBabies and their caregivers will learn fun songs\, hear a story\, and play with new friends!
URL:https://otsegolibrary.org/event/tiny-tots-80/
CATEGORIES:Preschool
END:VEVENT
BEGIN:VEVENT
DTSTART;TZID=America/Detroit:20250326T100000
DTEND;TZID=America/Detroit:20250326T100000
DTSTAMP:20260423T074239
CREATED:20241227T161301Z
LAST-MODIFIED:20250325T165143Z
UID:10714-1742983200-1742983200@otsegolibrary.org
SUMMARY:Music & Movement
DESCRIPTION:Wednesdays at 10 AM\n\n\nFebruary 5 – April 30 (No meet up on April 9)\nAges 0 – 5\n\nYoung children will sing\, dance\, play interactive games\, and enjoy sensory activities during this lively musical class.
URL:https://otsegolibrary.org/event/music-and-movement-32/
CATEGORIES:Preschool
END:VEVENT
BEGIN:VEVENT
DTSTART;TZID=America/Detroit:20250327T100000
DTEND;TZID=America/Detroit:20250327T100000
DTSTAMP:20260423T074239
CREATED:20241227T162200Z
LAST-MODIFIED:20241227T162202Z
UID:10738-1743069600-1743069600@otsegolibrary.org
SUMMARY:Storytime
DESCRIPTION:Thursdays at 10 AM\nFebruary 6 – May 1 (No meet up on April 10)\nAges 0 – 5 \nEach session focuses on a fun theme including stories\, songs\, and a craft.
URL:https://otsegolibrary.org/event/storytime-79/
CATEGORIES:Preschool
END:VEVENT
BEGIN:VEVENT
DTSTART;TZID=America/Detroit:20250401T100000
DTEND;TZID=America/Detroit:20250401T100000
DTSTAMP:20260423T074239
CREATED:20241226T205530Z
LAST-MODIFIED:20241226T205536Z
UID:10687-1743501600-1743501600@otsegolibrary.org
SUMMARY:Tiny Tots
DESCRIPTION:Tuesdays at 10 AM\nFebruary 4 – April 29 (No meet up on April 8)\nAges 0 – 24 months \nBabies and their caregivers will learn fun songs\, hear a story\, and play with new friends!
URL:https://otsegolibrary.org/event/tiny-tots-81/
CATEGORIES:Preschool
END:VEVENT
BEGIN:VEVENT
DTSTART;TZID=America/Detroit:20250402T100000
DTEND;TZID=America/Detroit:20250402T100000
DTSTAMP:20260423T074239
CREATED:20241227T161331Z
LAST-MODIFIED:20250325T165118Z
UID:10716-1743588000-1743588000@otsegolibrary.org
SUMMARY:Music & Movement
DESCRIPTION:Wednesdays at 10 AM\n\n\nFebruary 5 – April 30 (No meet up on April 9)\nAges 0 – 5\n\nYoung children will sing\, dance\, play interactive games\, and enjoy sensory activities during this lively musical class.
URL:https://otsegolibrary.org/event/music-and-movement-33/
CATEGORIES:Preschool
END:VEVENT
BEGIN:VEVENT
DTSTART;TZID=America/Detroit:20250403T100000
DTEND;TZID=America/Detroit:20250403T100000
DTSTAMP:20260423T074239
CREATED:20241227T162235Z
LAST-MODIFIED:20241227T162248Z
UID:10740-1743674400-1743674400@otsegolibrary.org
SUMMARY:Storytime
DESCRIPTION:Thursdays at 10 AM\nFebruary 6 – May 1 (No meet up on April 10)\nAges 0 – 5 \nEach session focuses on a fun theme including stories\, songs\, and a craft.
URL:https://otsegolibrary.org/event/storytime-80/
CATEGORIES:Preschool
END:VEVENT
BEGIN:VEVENT
DTSTART;TZID=America/Detroit:20250415T100000
DTEND;TZID=America/Detroit:20250415T100000
DTSTAMP:20260423T074239
CREATED:20241226T205602Z
LAST-MODIFIED:20241226T205606Z
UID:10689-1744711200-1744711200@otsegolibrary.org
SUMMARY:Tiny Tots
DESCRIPTION:Tuesdays at 10 AM\nFebruary 4 – April 29 (No meet up on April 8)\nAges 0 – 24 months \nBabies and their caregivers will learn fun songs\, hear a story\, and play with new friends!
URL:https://otsegolibrary.org/event/tiny-tots-82/
CATEGORIES:Preschool
END:VEVENT
BEGIN:VEVENT
DTSTART;TZID=America/Detroit:20250416T100000
DTEND;TZID=America/Detroit:20250416T100000
DTSTAMP:20260423T074239
CREATED:20241227T161354Z
LAST-MODIFIED:20241227T202755Z
UID:10718-1744797600-1744797600@otsegolibrary.org
SUMMARY:Music & Movement
DESCRIPTION:Wednesdays at 10 AM\n\n\nFebruary 5 – April 30 (No meet up on April 9)\nAges 0 – 5\n\nYoung children will sing\, dance\, play interactive games\, and enjoy sensory activities during this lively musical class.
URL:https://otsegolibrary.org/event/music-and-movement-34/
CATEGORIES:Preschool
END:VEVENT
BEGIN:VEVENT
DTSTART;TZID=America/Detroit:20250417T100000
DTEND;TZID=America/Detroit:20250417T100000
DTSTAMP:20260423T074239
CREATED:20241227T162311Z
LAST-MODIFIED:20241227T162313Z
UID:10742-1744884000-1744884000@otsegolibrary.org
SUMMARY:Storytime
DESCRIPTION:Thursdays at 10 AM\nFebruary 6 – May 1 (No meet up on April 10)\nAges 0 – 5 \nEach session focuses on a fun theme including stories\, songs\, and a craft.
URL:https://otsegolibrary.org/event/storytime-81/
CATEGORIES:Preschool
END:VEVENT
BEGIN:VEVENT
DTSTART;TZID=America/Detroit:20250422T100000
DTEND;TZID=America/Detroit:20250422T100000
DTSTAMP:20260423T074239
CREATED:20241226T205637Z
LAST-MODIFIED:20241226T205642Z
UID:10691-1745316000-1745316000@otsegolibrary.org
SUMMARY:Tiny Tots
DESCRIPTION:Tuesdays at 10 AM\nFebruary 4 – April 29 (No meet up on April 8)\nAges 0 – 24 months \nBabies and their caregivers will learn fun songs\, hear a story\, and play with new friends!
URL:https://otsegolibrary.org/event/tiny-tots-83/
CATEGORIES:Preschool
END:VEVENT
BEGIN:VEVENT
DTSTART;TZID=America/Detroit:20250423T100000
DTEND;TZID=America/Detroit:20250423T100000
DTSTAMP:20260423T074239
CREATED:20241227T161449Z
LAST-MODIFIED:20241227T202753Z
UID:10720-1745402400-1745402400@otsegolibrary.org
SUMMARY:Music & Movement
DESCRIPTION:Wednesdays at 10 AM\n\n\nFebruary 5 – April 30 (No meet up on April 9)\nAges 0 – 5\n\nYoung children will sing\, dance\, play interactive games\, and enjoy sensory activities during this lively musical class.
URL:https://otsegolibrary.org/event/music-and-movement-35/
CATEGORIES:Preschool
END:VEVENT
BEGIN:VEVENT
DTSTART;TZID=America/Detroit:20250424T100000
DTEND;TZID=America/Detroit:20250424T100000
DTSTAMP:20260423T074239
CREATED:20241227T162349Z
LAST-MODIFIED:20241227T162351Z
UID:10744-1745488800-1745488800@otsegolibrary.org
SUMMARY:Storytime
DESCRIPTION:Thursdays at 10 AM\nFebruary 6 – May 1 (No meet up on April 10)\nAges 0 – 5 \nEach session focuses on a fun theme including stories\, songs\, and a craft.
URL:https://otsegolibrary.org/event/storytime-82/
CATEGORIES:Preschool
END:VEVENT
BEGIN:VEVENT
DTSTART;TZID=America/Detroit:20250429T100000
DTEND;TZID=America/Detroit:20250429T100000
DTSTAMP:20260423T074239
CREATED:20241226T205711Z
LAST-MODIFIED:20241226T205921Z
UID:10694-1745920800-1745920800@otsegolibrary.org
SUMMARY:Tiny Tots
DESCRIPTION:Tuesdays at 10 AM\nFebruary 4 – April 29 (No meet up on April 8)\nAges 0 – 24 months \nBabies and their caregivers will learn fun songs\, hear a story\, and play with new friends!
URL:https://otsegolibrary.org/event/tiny-tots-84/
CATEGORIES:Preschool
END:VEVENT
BEGIN:VEVENT
DTSTART;TZID=America/Detroit:20250430T100000
DTEND;TZID=America/Detroit:20250430T100000
DTSTAMP:20260423T074239
CREATED:20241227T161512Z
LAST-MODIFIED:20241227T202750Z
UID:10722-1746007200-1746007200@otsegolibrary.org
SUMMARY:Music & Movement
DESCRIPTION:Wednesdays at 10 AM\n\n\nFebruary 5 – April 30 (No meet up on April 9)\nAges 0 – 5\n\nYoung children will sing\, dance\, play interactive games\, and enjoy sensory activities during this lively musical class.
URL:https://otsegolibrary.org/event/music-and-movement-36/
CATEGORIES:Preschool
END:VEVENT
BEGIN:VEVENT
DTSTART;TZID=America/Detroit:20250501T100000
DTEND;TZID=America/Detroit:20250501T100000
DTSTAMP:20260423T074239
CREATED:20241227T162417Z
LAST-MODIFIED:20241227T162419Z
UID:10746-1746093600-1746093600@otsegolibrary.org
SUMMARY:Storytime
DESCRIPTION:Thursdays at 10 AM\nFebruary 6 – May 1 (No meet up on April 10)\nAges 0 – 5 \nEach session focuses on a fun theme including stories\, songs\, and a craft.
URL:https://otsegolibrary.org/event/storytime-83/
CATEGORIES:Preschool
END:VEVENT
BEGIN:VEVENT
DTSTART;TZID=America/Detroit:20250623T100000
DTEND;TZID=America/Detroit:20250623T100000
DTSTAMP:20260423T074239
CREATED:20250609T141211Z
LAST-MODIFIED:20250609T141752Z
UID:11353-1750672800-1750672800@otsegolibrary.org
SUMMARY:Messy Colorful Play
DESCRIPTION:Messy Colorful Play is intended for children 0-5 Years Old. \nMondays at 10 AM\nJune 23 – July 28 \nColorful play stations will be set up so children can explore fun and interactive activities. Spoiler alert – you may get messy!
URL:https://otsegolibrary.org/event/messy-colorful-play/
CATEGORIES:Preschool
END:VEVENT
BEGIN:VEVENT
DTSTART;TZID=America/Detroit:20250625T100000
DTEND;TZID=America/Detroit:20250625T100000
DTSTAMP:20260423T074239
CREATED:20250609T154403Z
LAST-MODIFIED:20250612T181429Z
UID:11380-1750845600-1750845600@otsegolibrary.org
SUMMARY:Colorful Stories and Songs
DESCRIPTION:Colorful Stories and Songs is intended for children ages 0-5. \nJune 25 – July 30\nWednesdays at 10 AM \nStories\, songs\, crafts\, & fun!
URL:https://otsegolibrary.org/event/colorful-stories-songs/
CATEGORIES:Preschool
END:VEVENT
BEGIN:VEVENT
DTSTART;TZID=America/Detroit:20250630T100000
DTEND;TZID=America/Detroit:20250630T100000
DTSTAMP:20260423T074239
CREATED:20250609T141242Z
LAST-MODIFIED:20250609T141756Z
UID:11355-1751277600-1751277600@otsegolibrary.org
SUMMARY:Messy Colorful Play
DESCRIPTION:Messy Colorful Play is intended for children 0-5 Years Old. \nMondays at 10 AM\nJune 23 – July 28 \nColorful play stations will be set up so children can explore fun and interactive activities. Spoiler alert – you may get messy!
URL:https://otsegolibrary.org/event/messy-colorful-play-2/
CATEGORIES:Preschool
END:VEVENT
BEGIN:VEVENT
DTSTART;TZID=America/Detroit:20250702T100000
DTEND;TZID=America/Detroit:20250702T100000
DTSTAMP:20260423T074239
CREATED:20250609T154433Z
LAST-MODIFIED:20250612T181342Z
UID:11382-1751450400-1751450400@otsegolibrary.org
SUMMARY:Colorful Stories and Songs
DESCRIPTION:Colorful Stories and Songs is intended for children ages 0-5. \nJune 25 – July 30\nWednesdays at 10 AM \nStories\, songs\, crafts\, & fun!
URL:https://otsegolibrary.org/event/colorful-stories-and-songs/
CATEGORIES:Preschool
END:VEVENT
BEGIN:VEVENT
DTSTART;TZID=America/Detroit:20250707T100000
DTEND;TZID=America/Detroit:20250707T100000
DTSTAMP:20260423T074239
CREATED:20250609T141529Z
LAST-MODIFIED:20250609T141648Z
UID:11357-1751882400-1751882400@otsegolibrary.org
SUMMARY:Messy Colorful Play
DESCRIPTION:Messy Colorful Play is intended for children 0-5 Years Old. \nMondays at 10 AM\nJune 23 – July 28 \nColorful play stations will be set up so children can explore fun and interactive activities. Spoiler alert – you may get messy!
URL:https://otsegolibrary.org/event/messy-colorful-play-3/
CATEGORIES:Preschool
END:VEVENT
BEGIN:VEVENT
DTSTART;TZID=America/Detroit:20250709T100000
DTEND;TZID=America/Detroit:20250709T100000
DTSTAMP:20260423T074239
CREATED:20250609T154450Z
LAST-MODIFIED:20250612T181338Z
UID:11384-1752055200-1752055200@otsegolibrary.org
SUMMARY:Colorful Stories and Songs
DESCRIPTION:Colorful Stories and Songs is intended for children ages 0-5. \nJune 25 – July 30\nWednesdays at 10 AM \nStories\, songs\, crafts\, & fun!
URL:https://otsegolibrary.org/event/colorful-stories-and-songs-2/
CATEGORIES:Preschool
END:VEVENT
BEGIN:VEVENT
DTSTART;TZID=America/Detroit:20250714T100000
DTEND;TZID=America/Detroit:20250714T100000
DTSTAMP:20260423T074239
CREATED:20250609T141926Z
LAST-MODIFIED:20250609T144703Z
UID:11360-1752487200-1752487200@otsegolibrary.org
SUMMARY:Messy Colorful Play
DESCRIPTION:Messy Colorful Play is intended for children 0-5 Years Old. \nMondays at 10 AM\nJune 23 – July 28 \nColorful play stations will be set up so children can explore fun and interactive activities. Spoiler alert – you may get messy!
URL:https://otsegolibrary.org/event/messy-colorful-play-4/
CATEGORIES:Preschool
END:VEVENT
BEGIN:VEVENT
DTSTART;TZID=America/Detroit:20250716T100000
DTEND;TZID=America/Detroit:20250716T100000
DTSTAMP:20260423T074239
CREATED:20250609T154619Z
LAST-MODIFIED:20250612T181336Z
UID:11386-1752660000-1752660000@otsegolibrary.org
SUMMARY:Colorful Stories and Songs
DESCRIPTION:Colorful Stories and Songs is intended for children ages 0-5. \nJune 25 – July 30\nWednesdays at 10 AM \nStories\, songs\, crafts\, & fun!
URL:https://otsegolibrary.org/event/colorful-stories-and-songs-3/
CATEGORIES:Preschool
END:VEVENT
BEGIN:VEVENT
DTSTART;TZID=America/Detroit:20250721T100000
DTEND;TZID=America/Detroit:20250721T100000
DTSTAMP:20260423T074239
CREATED:20250609T144745Z
LAST-MODIFIED:20250609T145553Z
UID:11362-1753092000-1753092000@otsegolibrary.org
SUMMARY:Messy Colorful Play
DESCRIPTION:Messy Colorful Play is intended for children 0-5 Years Old. \nMondays at 10 AM\nJune 23 – July 28 \nColorful play stations will be set up so children can explore fun and interactive activities. Spoiler alert – you may get messy!
URL:https://otsegolibrary.org/event/messy-colorful-play-5/
CATEGORIES:Preschool
END:VEVENT
END:VCALENDAR