BEGIN:VCALENDAR
VERSION:2.0
PRODID:-//Otsego District Public Library - ECPv6.15.20//NONSGML v1.0//EN
CALSCALE:GREGORIAN
METHOD:PUBLISH
X-WR-CALNAME:Otsego District Public Library
X-ORIGINAL-URL:https://otsegolibrary.org
X-WR-CALDESC:Events for Otsego District Public Library
REFRESH-INTERVAL;VALUE=DURATION:PT1H
X-Robots-Tag:noindex
X-PUBLISHED-TTL:PT1H
BEGIN:VTIMEZONE
TZID:America/Detroit
BEGIN:DAYLIGHT
TZOFFSETFROM:-0500
TZOFFSETTO:-0400
TZNAME:EDT
DTSTART:20240310T070000
END:DAYLIGHT
BEGIN:STANDARD
TZOFFSETFROM:-0400
TZOFFSETTO:-0500
TZNAME:EST
DTSTART:20241103T060000
END:STANDARD
BEGIN:DAYLIGHT
TZOFFSETFROM:-0500
TZOFFSETTO:-0400
TZNAME:EDT
DTSTART:20250309T070000
END:DAYLIGHT
BEGIN:STANDARD
TZOFFSETFROM:-0400
TZOFFSETTO:-0500
TZNAME:EST
DTSTART:20251102T060000
END:STANDARD
BEGIN:DAYLIGHT
TZOFFSETFROM:-0500
TZOFFSETTO:-0400
TZNAME:EDT
DTSTART:20260308T070000
END:DAYLIGHT
BEGIN:STANDARD
TZOFFSETFROM:-0400
TZOFFSETTO:-0500
TZNAME:EST
DTSTART:20261101T060000
END:STANDARD
BEGIN:DAYLIGHT
TZOFFSETFROM:-0500
TZOFFSETTO:-0400
TZNAME:EDT
DTSTART:20270314T070000
END:DAYLIGHT
BEGIN:STANDARD
TZOFFSETFROM:-0400
TZOFFSETTO:-0500
TZNAME:EST
DTSTART:20271107T060000
END:STANDARD
END:VTIMEZONE
BEGIN:VEVENT
DTSTART;TZID=America/Detroit:20250924T100000
DTEND;TZID=America/Detroit:20250924T100000
DTSTAMP:20260422T185847
CREATED:20250619T154238Z
LAST-MODIFIED:20250619T154417Z
UID:11750-1758708000-1758708000@otsegolibrary.org
SUMMARY:Music & Movement
DESCRIPTION:Music and Movement meets on Wednesdays at 10 AM!\nSeptember 10 – November 19 (No meetup on September 17) \nAges 0 – 5 \nMovin’ and Groovin’ fun with songs\, stories\, interactive play\, and sensory activities.
URL:https://otsegolibrary.org/event/music-and-movement-39/
CATEGORIES:Preschool
END:VEVENT
BEGIN:VEVENT
DTSTART;TZID=America/Detroit:20250925T100000
DTEND;TZID=America/Detroit:20250925T100000
DTSTAMP:20260422T185847
CREATED:20250619T155132Z
LAST-MODIFIED:20250619T160617Z
UID:11774-1758794400-1758794400@otsegolibrary.org
SUMMARY:Storytime
DESCRIPTION:Storytime meets on Thursdays at 10 AM!\nSeptember 11 – November 20 \nAges 0 – 5 \nStories\, songs\, and crafts focusing on a new theme each week. \nWear your costume on October 30 for a Special Halloween Storytime!
URL:https://otsegolibrary.org/event/storytime-86/
CATEGORIES:Preschool
END:VEVENT
BEGIN:VEVENT
DTSTART;TZID=America/Detroit:20250930T100000
DTEND;TZID=America/Detroit:20250930T100000
DTSTAMP:20260422T185847
CREATED:20250619T153218Z
LAST-MODIFIED:20250619T153224Z
UID:11729-1759226400-1759226400@otsegolibrary.org
SUMMARY:Tiny Tots
DESCRIPTION:Tiny Tots meets on Tuesdays at 10 AM\nSeptember 9 – November 18 \nAges 0 – 24 Months \nSing\, read\, and play with your little ones and friends!
URL:https://otsegolibrary.org/event/tiny-tots-88/
CATEGORIES:Preschool
END:VEVENT
BEGIN:VEVENT
DTSTART;TZID=America/Detroit:20251001T100000
DTEND;TZID=America/Detroit:20251001T100000
DTSTAMP:20260422T185847
CREATED:20250619T154305Z
LAST-MODIFIED:20250619T154447Z
UID:11752-1759312800-1759312800@otsegolibrary.org
SUMMARY:Music & Movement
DESCRIPTION:Music and Movement meets on Wednesdays at 10 AM!\nSeptember 10 – November 19 (No meetup on September 17) \nAges 0 – 5 \nMovin’ and Groovin’ fun with songs\, stories\, interactive play\, and sensory activities.
URL:https://otsegolibrary.org/event/music-and-movement-40/
CATEGORIES:Preschool
END:VEVENT
BEGIN:VEVENT
DTSTART;TZID=America/Detroit:20251002T100000
DTEND;TZID=America/Detroit:20251002T100000
DTSTAMP:20260422T185847
CREATED:20250619T160650Z
LAST-MODIFIED:20250619T160734Z
UID:11776-1759399200-1759399200@otsegolibrary.org
SUMMARY:Storytime
DESCRIPTION:Storytime meets on Thursdays at 10 AM!\nSeptember 11 – November 20 \nAges 0 – 5 \nStories\, songs\, and crafts focusing on a new theme each week. \nWear your costume on October 30 for a Special Halloween Storytime!
URL:https://otsegolibrary.org/event/storytime-87/
CATEGORIES:Preschool
END:VEVENT
BEGIN:VEVENT
DTSTART;TZID=America/Detroit:20251007T100000
DTEND;TZID=America/Detroit:20251007T100000
DTSTAMP:20260422T185847
CREATED:20250619T153253Z
LAST-MODIFIED:20250619T153255Z
UID:11731-1759831200-1759831200@otsegolibrary.org
SUMMARY:Tiny Tots
DESCRIPTION:Tiny Tots meets on Tuesdays at 10 AM\nSeptember 9 – November 18 \nAges 0 – 24 Months \nSing\, read\, and play with your little ones and friends!
URL:https://otsegolibrary.org/event/tiny-tots-89/
CATEGORIES:Preschool
END:VEVENT
BEGIN:VEVENT
DTSTART;TZID=America/Detroit:20251008T100000
DTEND;TZID=America/Detroit:20251008T100000
DTSTAMP:20260422T185847
CREATED:20250619T154521Z
LAST-MODIFIED:20250619T154530Z
UID:11758-1759917600-1759917600@otsegolibrary.org
SUMMARY:Music & Movement
DESCRIPTION:Music & Movement meets on Wednesdays at 10 AM!\nSeptember 10 – November 19 (No meetup on September 17) \nAges 0 – 5 \nMovin’ and Groovin’ fun with songs\, stories\, interactive play\, and sensory activities.
URL:https://otsegolibrary.org/event/music-movement-49/
CATEGORIES:Preschool
END:VEVENT
BEGIN:VEVENT
DTSTART;TZID=America/Detroit:20251009T100000
DTEND;TZID=America/Detroit:20251009T100000
DTSTAMP:20260422T185847
CREATED:20250619T160804Z
LAST-MODIFIED:20250619T160809Z
UID:11778-1760004000-1760004000@otsegolibrary.org
SUMMARY:Storytime
DESCRIPTION:Storytime meets on Thursdays at 10 AM!\nSeptember 11 – November 20 \nAges 0 – 5 \nStories\, songs\, and crafts focusing on a new theme each week. \nWear your costume on October 30 for a Special Halloween Storytime!
URL:https://otsegolibrary.org/event/storytime-88/
CATEGORIES:Preschool
END:VEVENT
BEGIN:VEVENT
DTSTART;TZID=America/Detroit:20251014T100000
DTEND;TZID=America/Detroit:20251014T100000
DTSTAMP:20260422T185847
CREATED:20250619T153317Z
LAST-MODIFIED:20250619T153319Z
UID:11733-1760436000-1760436000@otsegolibrary.org
SUMMARY:Tiny Tots
DESCRIPTION:Tiny Tots meets on Tuesdays at 10 AM\nSeptember 9 – November 18 \nAges 0 – 24 Months \nSing\, read\, and play with your little ones and friends!
URL:https://otsegolibrary.org/event/tiny-tots-90/
CATEGORIES:Preschool
END:VEVENT
BEGIN:VEVENT
DTSTART;TZID=America/Detroit:20251015T100000
DTEND;TZID=America/Detroit:20251015T100000
DTSTAMP:20260422T185847
CREATED:20250619T154551Z
LAST-MODIFIED:20250619T154554Z
UID:11760-1760522400-1760522400@otsegolibrary.org
SUMMARY:Music & Movement
DESCRIPTION:Music & Movement meets on Wednesdays at 10 AM!\nSeptember 10 – November 19 (No meetup on September 17) \nAges 0 – 5 \nMovin’ and Groovin’ fun with songs\, stories\, interactive play\, and sensory activities.
URL:https://otsegolibrary.org/event/music-movement-50/
CATEGORIES:Preschool
END:VEVENT
BEGIN:VEVENT
DTSTART;TZID=America/Detroit:20251016T100000
DTEND;TZID=America/Detroit:20251016T100000
DTSTAMP:20260422T185847
CREATED:20250619T160828Z
LAST-MODIFIED:20250619T160841Z
UID:11780-1760608800-1760608800@otsegolibrary.org
SUMMARY:Storytime
DESCRIPTION:Storytime meets on Thursdays at 10 AM!\nSeptember 11 – November 20 \nAges 0 – 5 \nStories\, songs\, and crafts focusing on a new theme each week. \nWear your costume on October 30 for a Special Halloween Storytime!
URL:https://otsegolibrary.org/event/storytime-89/
CATEGORIES:Preschool
END:VEVENT
BEGIN:VEVENT
DTSTART;TZID=America/Detroit:20251021T100000
DTEND;TZID=America/Detroit:20251021T100000
DTSTAMP:20260422T185847
CREATED:20250619T153337Z
LAST-MODIFIED:20250619T153339Z
UID:11735-1761040800-1761040800@otsegolibrary.org
SUMMARY:Tiny Tots
DESCRIPTION:Tiny Tots meets on Tuesdays at 10 AM\nSeptember 9 – November 18 \nAges 0 – 24 Months \nSing\, read\, and play with your little ones and friends!
URL:https://otsegolibrary.org/event/tiny-tots-91/
CATEGORIES:Preschool
END:VEVENT
BEGIN:VEVENT
DTSTART;TZID=America/Detroit:20251022T100000
DTEND;TZID=America/Detroit:20251022T100000
DTSTAMP:20260422T185847
CREATED:20250813T195022Z
LAST-MODIFIED:20250813T195051Z
UID:11952-1761127200-1761127200@otsegolibrary.org
SUMMARY:Music & Movement
DESCRIPTION:Music & Movement meets on Wednesdays at 10 AM!\nSeptember 10 – November 19 (No meetup on September 17) \nAges 0 – 5 \nMovin’ and Groovin’ fun with songs\, stories\, interactive play\, and sensory activities.
URL:https://otsegolibrary.org/event/music-movement-55/
CATEGORIES:Preschool
END:VEVENT
BEGIN:VEVENT
DTSTART;TZID=America/Detroit:20251023T100000
DTEND;TZID=America/Detroit:20251023T100000
DTSTAMP:20260422T185847
CREATED:20250619T160922Z
LAST-MODIFIED:20250619T160925Z
UID:11782-1761213600-1761213600@otsegolibrary.org
SUMMARY:Storytime
DESCRIPTION:Storytime meets on Thursdays at 10 AM!\nSeptember 11 – November 20 \nAges 0 – 5 \nStories\, songs\, and crafts focusing on a new theme each week. \nWear your costume on October 30 for a Special Halloween Storytime!
URL:https://otsegolibrary.org/event/storytime-90/
CATEGORIES:Preschool
END:VEVENT
BEGIN:VEVENT
DTSTART;TZID=America/Detroit:20251028T100000
DTEND;TZID=America/Detroit:20251028T100000
DTSTAMP:20260422T185847
CREATED:20250619T153402Z
LAST-MODIFIED:20250619T153404Z
UID:11737-1761645600-1761645600@otsegolibrary.org
SUMMARY:Tiny Tots
DESCRIPTION:Tiny Tots meets on Tuesdays at 10 AM\nSeptember 9 – November 18 \nAges 0 – 24 Months \nSing\, read\, and play with your little ones and friends!
URL:https://otsegolibrary.org/event/tiny-tots-92/
CATEGORIES:Preschool
END:VEVENT
BEGIN:VEVENT
DTSTART;TZID=America/Detroit:20251029T100000
DTEND;TZID=America/Detroit:20251029T100000
DTSTAMP:20260422T185847
CREATED:20250619T154743Z
LAST-MODIFIED:20250619T154801Z
UID:11762-1761732000-1761732000@otsegolibrary.org
SUMMARY:Music & Movement
DESCRIPTION:Music & Movement meets on Wednesdays at 10 AM!\nSeptember 10 – November 19 (No meetup on September 17) \nAges 0 – 5 \nMovin’ and Groovin’ fun with songs\, stories\, interactive play\, and sensory activities.
URL:https://otsegolibrary.org/event/music-movement-51/
CATEGORIES:Preschool
END:VEVENT
BEGIN:VEVENT
DTSTART;TZID=America/Detroit:20251030T100000
DTEND;TZID=America/Detroit:20251030T100000
DTSTAMP:20260422T185847
CREATED:20250619T160950Z
LAST-MODIFIED:20250619T160953Z
UID:11784-1761818400-1761818400@otsegolibrary.org
SUMMARY:Storytime
DESCRIPTION:Storytime meets on Thursdays at 10 AM!\nSeptember 11 – November 20 \nAges 0 – 5 \nStories\, songs\, and crafts focusing on a new theme each week. \nWear your costume on October 30 for a Special Halloween Storytime!
URL:https://otsegolibrary.org/event/storytime-91/
CATEGORIES:Preschool
END:VEVENT
BEGIN:VEVENT
DTSTART;TZID=America/Detroit:20251104T100000
DTEND;TZID=America/Detroit:20251104T100000
DTSTAMP:20260422T185847
CREATED:20250619T153436Z
LAST-MODIFIED:20250619T153445Z
UID:11739-1762250400-1762250400@otsegolibrary.org
SUMMARY:Tiny Tots
DESCRIPTION:Tiny Tots meets on Tuesdays at 10 AM\nSeptember 9 – November 18 \nAges 0 – 24 Months \nSing\, read\, and play with your little ones and friends!
URL:https://otsegolibrary.org/event/tiny-tots-93/
CATEGORIES:Preschool
END:VEVENT
BEGIN:VEVENT
DTSTART;TZID=America/Detroit:20251105T100000
DTEND;TZID=America/Detroit:20251105T100000
DTSTAMP:20260422T185847
CREATED:20250619T154825Z
LAST-MODIFIED:20250619T154827Z
UID:11764-1762336800-1762336800@otsegolibrary.org
SUMMARY:Music & Movement
DESCRIPTION:Music & Movement meets on Wednesdays at 10 AM!\nSeptember 10 – November 19 (No meetup on September 17) \nAges 0 – 5 \nMovin’ and Groovin’ fun with songs\, stories\, interactive play\, and sensory activities.
URL:https://otsegolibrary.org/event/music-movement-52/
CATEGORIES:Preschool
END:VEVENT
BEGIN:VEVENT
DTSTART;TZID=America/Detroit:20251106T100000
DTEND;TZID=America/Detroit:20251106T100000
DTSTAMP:20260422T185847
CREATED:20250619T161024Z
LAST-MODIFIED:20250619T161032Z
UID:11786-1762423200-1762423200@otsegolibrary.org
SUMMARY:Storytime
DESCRIPTION:Storytime meets on Thursdays at 10 AM!\nSeptember 11 – November 20 \nAges 0 – 5 \nStories\, songs\, and crafts focusing on a new theme each week. \nWear your costume on October 30 for a Special Halloween Storytime!
URL:https://otsegolibrary.org/event/storytime-92/
CATEGORIES:Preschool
END:VEVENT
BEGIN:VEVENT
DTSTART;TZID=America/Detroit:20251111T100000
DTEND;TZID=America/Detroit:20251111T100000
DTSTAMP:20260422T185847
CREATED:20250619T153812Z
LAST-MODIFIED:20250619T153815Z
UID:11741-1762855200-1762855200@otsegolibrary.org
SUMMARY:Tiny Tots
DESCRIPTION:Tiny Tots meets on Tuesdays at 10 AM\nSeptember 9 – November 18 \nAges 0 – 24 Months \nSing\, read\, and play with your little ones and friends!
URL:https://otsegolibrary.org/event/tiny-tots-94/
CATEGORIES:Preschool
END:VEVENT
BEGIN:VEVENT
DTSTART;TZID=America/Detroit:20251112T100000
DTEND;TZID=America/Detroit:20251112T100000
DTSTAMP:20260422T185847
CREATED:20250619T154846Z
LAST-MODIFIED:20250619T154853Z
UID:11766-1762941600-1762941600@otsegolibrary.org
SUMMARY:Music & Movement
DESCRIPTION:Music & Movement meets on Wednesdays at 10 AM!\nSeptember 10 – November 19 (No meetup on September 17) \nAges 0 – 5 \nMovin’ and Groovin’ fun with songs\, stories\, interactive play\, and sensory activities.
URL:https://otsegolibrary.org/event/music-movement-53/
CATEGORIES:Preschool
END:VEVENT
BEGIN:VEVENT
DTSTART;TZID=America/Detroit:20251113T100000
DTEND;TZID=America/Detroit:20251113T100000
DTSTAMP:20260422T185847
CREATED:20250619T161052Z
LAST-MODIFIED:20250619T161141Z
UID:11788-1763028000-1763028000@otsegolibrary.org
SUMMARY:Storytime
DESCRIPTION:Storytime meets on Thursdays at 10 AM!\nSeptember 11 – November 20 \nAges 0 – 5 \nStories\, songs\, and crafts focusing on a new theme each week. \nWear your costume on October 30 for a Special Halloween Storytime!
URL:https://otsegolibrary.org/event/storytime-93/
CATEGORIES:Preschool
END:VEVENT
BEGIN:VEVENT
DTSTART;TZID=America/Detroit:20251118T100000
DTEND;TZID=America/Detroit:20251118T100000
DTSTAMP:20260422T185847
CREATED:20250619T153836Z
LAST-MODIFIED:20250619T153845Z
UID:11743-1763460000-1763460000@otsegolibrary.org
SUMMARY:Tiny Tots
DESCRIPTION:Tiny Tots meets on Tuesdays at 10 AM\nSeptember 9 – November 18 \nAges 0 – 24 Months \nSing\, read\, and play with your little ones and friends!
URL:https://otsegolibrary.org/event/tiny-tots-95/
CATEGORIES:Preschool
END:VEVENT
BEGIN:VEVENT
DTSTART;TZID=America/Detroit:20251119T100000
DTEND;TZID=America/Detroit:20251119T100000
DTSTAMP:20260422T185847
CREATED:20250619T154947Z
LAST-MODIFIED:20250619T154956Z
UID:11768-1763546400-1763546400@otsegolibrary.org
SUMMARY:Music & Movement
DESCRIPTION:Music & Movement meets on Wednesdays at 10 AM!\nSeptember 10 – November 19 (No meetup on September 17) \nAges 0 – 5 \nMovin’ and Groovin’ fun with songs\, stories\, interactive play\, and sensory activities.
URL:https://otsegolibrary.org/event/music-movement-54/
CATEGORIES:Preschool
END:VEVENT
BEGIN:VEVENT
DTSTART;TZID=America/Detroit:20251120T100000
DTEND;TZID=America/Detroit:20251120T100000
DTSTAMP:20260422T185847
CREATED:20250619T161158Z
LAST-MODIFIED:20250619T161205Z
UID:11790-1763632800-1763632800@otsegolibrary.org
SUMMARY:Storytime
DESCRIPTION:Storytime meets on Thursdays at 10 AM!\nSeptember 11 – November 20 \nAges 0 – 5 \nStories\, songs\, and crafts focusing on a new theme each week. \nWear your costume on October 30 for a Special Halloween Storytime!
URL:https://otsegolibrary.org/event/11790/
CATEGORIES:Preschool
END:VEVENT
BEGIN:VEVENT
DTSTART;TZID=America/Detroit:20251203T100000
DTEND;TZID=America/Detroit:20251203T100000
DTSTAMP:20260422T185847
CREATED:20250619T152919Z
LAST-MODIFIED:20250619T152936Z
UID:11720-1764756000-1764756000@otsegolibrary.org
SUMMARY:Santa Storytime & Party
DESCRIPTION:This event is for children ages 0-5. \nSanta is coming to the library to see our young friends! \nChildren will hear a couple of holiday stories\, make a craft\, see Santa\, and receive a special gift from the library. Plus\, a party would not be complete without a fun holiday snack. It’s going to be a festive and fun event!
URL:https://otsegolibrary.org/event/santa-storytime-party/
CATEGORIES:Preschool
END:VEVENT
BEGIN:VEVENT
DTSTART;TZID=America/Detroit:20260203T100000
DTEND;TZID=America/Detroit:20260203T100000
DTSTAMP:20260422T185847
CREATED:20260105T181512Z
LAST-MODIFIED:20260105T181530Z
UID:12362-1770112800-1770112800@otsegolibrary.org
SUMMARY:Tiny Tots
DESCRIPTION:Tiny Tots meets on Tuesdays @ 10 AM\nFebruary 3 – April 28 (No meetup on April 7) \nAges 0 – 24 months \nBabies and their caregivers will learn fun songs\, hear a story\, and play with new friends!
URL:https://otsegolibrary.org/event/tiny-tots-96/
CATEGORIES:Preschool
END:VEVENT
BEGIN:VEVENT
DTSTART;TZID=America/Detroit:20260204T100000
DTEND;TZID=America/Detroit:20260204T100000
DTSTAMP:20260422T185847
CREATED:20260105T182316Z
LAST-MODIFIED:20260105T182340Z
UID:12386-1770199200-1770199200@otsegolibrary.org
SUMMARY:Music & Movement
DESCRIPTION:Music & Movement meets on Wednesdays @ 10 AM\nFebruary 4 – April 29 (No meetup on April 8) \nAges 0 – 5 \nYoung children will sing\, dance\, play interactive games\, and enjoy sensory activities during this lively musical class.
URL:https://otsegolibrary.org/event/music-movement-56/
CATEGORIES:Preschool
END:VEVENT
BEGIN:VEVENT
DTSTART;TZID=America/Detroit:20260205T100000
DTEND;TZID=America/Detroit:20260205T100000
DTSTAMP:20260422T185847
CREATED:20260105T191910Z
LAST-MODIFIED:20260105T191929Z
UID:12412-1770285600-1770285600@otsegolibrary.org
SUMMARY:Storytime
DESCRIPTION:Storytime is on Thursdays @ 10 AM\nFebruary 5 – April 30 (No meetup on April 9) \nAges 0 – 5 \nEach session focuses on a fun theme including stories\, songs\, and a craft.
URL:https://otsegolibrary.org/event/storytime-94/
CATEGORIES:Preschool
END:VEVENT
END:VCALENDAR