BEGIN:VCALENDAR
VERSION:2.0
PRODID:-//Otsego District Public Library - ECPv6.15.20//NONSGML v1.0//EN
CALSCALE:GREGORIAN
METHOD:PUBLISH
X-ORIGINAL-URL:https://otsegolibrary.org
X-WR-CALDESC:Events for Otsego District Public Library
REFRESH-INTERVAL;VALUE=DURATION:PT1H
X-Robots-Tag:noindex
X-PUBLISHED-TTL:PT1H
BEGIN:VTIMEZONE
TZID:America/Detroit
BEGIN:DAYLIGHT
TZOFFSETFROM:-0500
TZOFFSETTO:-0400
TZNAME:EDT
DTSTART:20210314T070000
END:DAYLIGHT
BEGIN:STANDARD
TZOFFSETFROM:-0400
TZOFFSETTO:-0500
TZNAME:EST
DTSTART:20211107T060000
END:STANDARD
BEGIN:DAYLIGHT
TZOFFSETFROM:-0500
TZOFFSETTO:-0400
TZNAME:EDT
DTSTART:20220313T070000
END:DAYLIGHT
BEGIN:STANDARD
TZOFFSETFROM:-0400
TZOFFSETTO:-0500
TZNAME:EST
DTSTART:20221106T060000
END:STANDARD
BEGIN:DAYLIGHT
TZOFFSETFROM:-0500
TZOFFSETTO:-0400
TZNAME:EDT
DTSTART:20230312T070000
END:DAYLIGHT
BEGIN:STANDARD
TZOFFSETFROM:-0400
TZOFFSETTO:-0500
TZNAME:EST
DTSTART:20231105T060000
END:STANDARD
END:VTIMEZONE
BEGIN:VEVENT
DTSTART;TZID=America/Detroit:20220914T100000
DTEND;TZID=America/Detroit:20220914T100000
DTSTAMP:20260422T151937
CREATED:20220706T193315Z
LAST-MODIFIED:20220706T193315Z
UID:7075-1663149600-1663149600@otsegolibrary.org
SUMMARY:Music & Movement
DESCRIPTION:Wednesdays at 10 AM\nSeptember 14 – November 16\nAges 0 – 5 \nYoung children will sing\, dance\, play interactive games\, and enjoy sensory activities in this lively\, musical class.
URL:https://otsegolibrary.org/event/music-movement-16/
CATEGORIES:Preschool
END:VEVENT
BEGIN:VEVENT
DTSTART;TZID=America/Detroit:20220913T100000
DTEND;TZID=America/Detroit:20220913T100000
DTSTAMP:20260422T151937
CREATED:20220706T184435Z
LAST-MODIFIED:20220706T185521Z
UID:7055-1663063200-1663063200@otsegolibrary.org
SUMMARY:Tiny Tots
DESCRIPTION:Tuesdays at 10 AM\nSeptember 13 – November 15\nAges 0 – 24 \nMonths Babies and their caregivers will learn fun songs\, hear a story\, and play with their new friends!
URL:https://otsegolibrary.org/event/tiny-tots-16/
CATEGORIES:Preschool
END:VEVENT
BEGIN:VEVENT
DTSTART;TZID=America/Detroit:20220727T100000
DTEND;TZID=America/Detroit:20220727T100000
DTSTAMP:20260422T151937
CREATED:20220608T193310Z
LAST-MODIFIED:20220608T193310Z
UID:6790-1658916000-1658916000@otsegolibrary.org
SUMMARY:Splishie\, Splashie\, Stories & Songs
DESCRIPTION:June 22 – July 27\nWednesdays at 10 AM \nGet ready to make waves as we sing\, dance\, read stories\, play\, and create! It’s going to be splishy\, splashy fun!\nAges 0 – 5
URL:https://otsegolibrary.org/event/splishie-splashie-stories-songs-2/
CATEGORIES:Preschool
END:VEVENT
BEGIN:VEVENT
DTSTART;TZID=America/Detroit:20220725T100000
DTEND;TZID=America/Detroit:20220725T100000
DTSTAMP:20260422T151937
CREATED:20220608T191503Z
LAST-MODIFIED:20220608T191524Z
UID:6780-1658743200-1658743200@otsegolibrary.org
SUMMARY:Splash & Bubbles Tiny Tots
DESCRIPTION:June 20 – July 25\n(No meeting on July 4) \nMondays at 10 AM \n0-24 Months \nSing\, read\, and play with other ocean friends.
URL:https://otsegolibrary.org/event/splash-bubbles-tiny-tots-5/
CATEGORIES:Preschool
END:VEVENT
BEGIN:VEVENT
DTSTART;TZID=America/Detroit:20220720T100000
DTEND;TZID=America/Detroit:20220720T100000
DTSTAMP:20260422T151937
CREATED:20220608T193409Z
LAST-MODIFIED:20220608T193409Z
UID:6792-1658311200-1658311200@otsegolibrary.org
SUMMARY:Splishie\, Splashie\, Stories & Songs
DESCRIPTION:June 22 – July 27\nWednesdays at 10 AM \nGet ready to make waves as we sing\, dance\, read stories\, play\, and create! It’s going to be splishy\, splashy fun!\nAges 0 – 5
URL:https://otsegolibrary.org/event/splishie-splashie-stories-songs-3/
CATEGORIES:Preschool
END:VEVENT
BEGIN:VEVENT
DTSTART;TZID=America/Detroit:20220718T100000
DTEND;TZID=America/Detroit:20220718T100000
DTSTAMP:20260422T151937
CREATED:20220608T191357Z
LAST-MODIFIED:20220608T191432Z
UID:6778-1658138400-1658138400@otsegolibrary.org
SUMMARY:Splash & Bubbles Tiny Tots
DESCRIPTION:June 20 – July 25\n(No meeting on July 4) \nMondays at 10 AM \n0-24 Months \nSing\, read\, and play with other ocean friends.
URL:https://otsegolibrary.org/event/splash-bubbles-tiny-tots-4/
CATEGORIES:Preschool
END:VEVENT
BEGIN:VEVENT
DTSTART;TZID=America/Detroit:20220713T100000
DTEND;TZID=America/Detroit:20220713T100000
DTSTAMP:20260422T151937
CREATED:20220608T192614Z
LAST-MODIFIED:20220608T192614Z
UID:6786-1657706400-1657706400@otsegolibrary.org
SUMMARY:Splishy\, Splashy\, Stories & Songs
DESCRIPTION:June 22 – July 27\nWednesdays at 10 AM \nGet ready to make waves as we sing\, dance\, read stories\, play\, and create! It’s going to be splishy\, splashy fun!\nAges 0 – 5
URL:https://otsegolibrary.org/event/splishy-splashy-stories-songs-3/
CATEGORIES:Preschool
END:VEVENT
BEGIN:VEVENT
DTSTART;TZID=America/Detroit:20220711T100000
DTEND;TZID=America/Detroit:20220711T100000
DTSTAMP:20260422T151937
CREATED:20220608T191332Z
LAST-MODIFIED:20220608T191332Z
UID:6776-1657533600-1657533600@otsegolibrary.org
SUMMARY:Splash & Bubbles Tiny Tots
DESCRIPTION:June 20 – July 25\n(No meeting on July 4) \nMondays at 10 AM \n0-24 Months \nSing\, read\, and play with other ocean friends.
URL:https://otsegolibrary.org/event/splash-bubbles-tiny-tots-3/
CATEGORIES:Preschool
END:VEVENT
BEGIN:VEVENT
DTSTART;TZID=America/Detroit:20220706T100000
DTEND;TZID=America/Detroit:20220706T100000
DTSTAMP:20260422T151937
CREATED:20220608T193203Z
LAST-MODIFIED:20220608T193203Z
UID:6788-1657101600-1657101600@otsegolibrary.org
SUMMARY:Splishie\, Splashie\, Stories & Songs
DESCRIPTION:June 22 – July 27\nWednesdays at 10 AM \nGet ready to make waves as we sing\, dance\, read stories\, play\, and create! It’s going to be splishy\, splashy fun!\nAges 0 – 5
URL:https://otsegolibrary.org/event/splishie-splashie-stories-songs/
CATEGORIES:Preschool
END:VEVENT
BEGIN:VEVENT
DTSTART;TZID=America/Detroit:20220629T100000
DTEND;TZID=America/Detroit:20220629T100000
DTSTAMP:20260422T151937
CREATED:20220608T191817Z
LAST-MODIFIED:20220608T191817Z
UID:6784-1656496800-1656496800@otsegolibrary.org
SUMMARY:Splishy\, Splashy\, Stories & Songs
DESCRIPTION:June 22 – July 27\nWednesdays at 10 AM \nGet ready to make waves as we sing\, dance\, read stories\, play\, and create! It’s going to be splishy\, splashy fun!\nAges 0 – 5
URL:https://otsegolibrary.org/event/splishy-splashy-stories-songs-2/
CATEGORIES:Preschool
END:VEVENT
BEGIN:VEVENT
DTSTART;TZID=America/Detroit:20220627T100000
DTEND;TZID=America/Detroit:20220627T100000
DTSTAMP:20260422T151937
CREATED:20220608T191246Z
LAST-MODIFIED:20220608T191246Z
UID:6774-1656324000-1656324000@otsegolibrary.org
SUMMARY:Splash & Bubbles Tiny Tots
DESCRIPTION:June 20 – July 25\n(No meeting on July 4) \nMondays at 10 AM \n0-24 Months \nSing\, read\, and play with other ocean friends.
URL:https://otsegolibrary.org/event/splash-bubbles-tiny-tots-2/
CATEGORIES:Preschool
END:VEVENT
BEGIN:VEVENT
DTSTART;TZID=America/Detroit:20220622T100000
DTEND;TZID=America/Detroit:20220622T100000
DTSTAMP:20260422T151937
CREATED:20220608T191719Z
LAST-MODIFIED:20220608T191719Z
UID:6782-1655892000-1655892000@otsegolibrary.org
SUMMARY:Splishy\, Splashy\, Stories & Songs
DESCRIPTION:June 22 – July 27\nWednesdays at 10 AM \nGet ready to make waves as we sing\, dance\, read stories\, play\, and create! It’s going to be splishy\, splashy fun!\nAges 0 – 5
URL:https://otsegolibrary.org/event/splishy-splashy-stories-songs/
CATEGORIES:Preschool
END:VEVENT
BEGIN:VEVENT
DTSTART;TZID=America/Detroit:20220620T100000
DTEND;TZID=America/Detroit:20220620T100000
DTSTAMP:20260422T151937
CREATED:20220608T191136Z
LAST-MODIFIED:20220608T191209Z
UID:6772-1655719200-1655719200@otsegolibrary.org
SUMMARY:Splash & Bubbles Tiny Tots
DESCRIPTION:June 20 – July 25\n(No meeting on July 4) \nMondays at 10 AM \n0-24 Months \nSing\, read\, and play with other ocean friends.
URL:https://otsegolibrary.org/event/splash-bubbles-tiny-tots/
CATEGORIES:Preschool
END:VEVENT
BEGIN:VEVENT
DTSTART;TZID=America/Detroit:20220512T100000
DTEND;TZID=America/Detroit:20220512T100000
DTSTAMP:20260422T151937
CREATED:20220511T164350Z
LAST-MODIFIED:20220511T164350Z
UID:6604-1652349600-1652349600@otsegolibrary.org
SUMMARY:Storytime
DESCRIPTION:Thursdays at 10 AM\nFebruary 3 – May 12\nAges 2-5 \nEach session includes stories\, songs\, and a craft. \nFebruary – Winter Wonderland\nMarch Spring – Surprises\nApril/May – Feathered Friends
URL:https://otsegolibrary.org/event/storytime-15/
CATEGORIES:Preschool
END:VEVENT
BEGIN:VEVENT
DTSTART;TZID=America/Detroit:20220511T100000
DTEND;TZID=America/Detroit:20220511T100000
DTSTAMP:20260422T151937
CREATED:20220510T184204Z
LAST-MODIFIED:20220515T123702Z
UID:6457-1652263200-1652263200@otsegolibrary.org
SUMMARY:Music & Movement
DESCRIPTION:Wednesdays at 10 AM\nFebruary 2 – May 11\nAges 0-5 \nMovin’ & groovin’ fun with sensory play!
URL:https://otsegolibrary.org/event/music-movement-3/
CATEGORIES:Preschool
END:VEVENT
BEGIN:VEVENT
DTSTART;TZID=America/Detroit:20220510T100000
DTEND;TZID=America/Detroit:20220510T100000
DTSTAMP:20260422T151937
CREATED:20220511T155423Z
LAST-MODIFIED:20220511T155505Z
UID:6573-1652176800-1652176800@otsegolibrary.org
SUMMARY:Tiny Tots
DESCRIPTION:Tuesdays at 10 AM\nFebruary 1 – May 10\nAges 0-24 months\nSing\, read\, and play with your little ones and friends!
URL:https://otsegolibrary.org/event/tiny-tots-15/
CATEGORIES:Preschool
END:VEVENT
BEGIN:VEVENT
DTSTART;TZID=America/Detroit:20220505T100000
DTEND;TZID=America/Detroit:20220505T100000
DTSTAMP:20260422T151937
CREATED:20220511T164311Z
LAST-MODIFIED:20220511T164311Z
UID:6602-1651744800-1651744800@otsegolibrary.org
SUMMARY:Storytime
DESCRIPTION:Thursdays at 10 AM\nFebruary 3 – May 12\nAges 2-5 \nEach session includes stories\, songs\, and a craft. \nFebruary – Winter Wonderland\nMarch Spring – Surprises\nApril/May – Feathered Friends
URL:https://otsegolibrary.org/event/storytime-14/
CATEGORIES:Preschool
END:VEVENT
BEGIN:VEVENT
DTSTART;TZID=America/Detroit:20220504T100000
DTEND;TZID=America/Detroit:20220504T100000
DTSTAMP:20260422T151937
CREATED:20220510T195418Z
LAST-MODIFIED:20220511T155531Z
UID:6485-1651658400-1651658400@otsegolibrary.org
SUMMARY:Music & Movement
DESCRIPTION:Wednesdays at 10 AM\nFebruary 2 – May 11\nAges 0-5 \nMovin’ & groovin’ fun with sensory play!
URL:https://otsegolibrary.org/event/music-movement-15/
CATEGORIES:Preschool
END:VEVENT
BEGIN:VEVENT
DTSTART;TZID=America/Detroit:20220503T100000
DTEND;TZID=America/Detroit:20220503T100000
DTSTAMP:20260422T151937
CREATED:20220511T155306Z
LAST-MODIFIED:20220511T155306Z
UID:6571-1651572000-1651572000@otsegolibrary.org
SUMMARY:Tiny Tots
DESCRIPTION:Tuesdays at 10 AM\nFebruary 1 – May 10\nAges 0-24 months\nSing\, read\, and play with your little ones and friends!
URL:https://otsegolibrary.org/event/tiny-tots-14/
CATEGORIES:Preschool
END:VEVENT
BEGIN:VEVENT
DTSTART;TZID=America/Detroit:20220428T100000
DTEND;TZID=America/Detroit:20220428T100000
DTSTAMP:20260422T151937
CREATED:20220511T164110Z
LAST-MODIFIED:20220511T164231Z
UID:6600-1651140000-1651140000@otsegolibrary.org
SUMMARY:Storytime
DESCRIPTION:Thursdays at 10 AM\nFebruary 3 – May 12\nAges 2-5 \nEach session includes stories\, songs\, and a craft. \nFebruary – Winter Wonderland\nMarch Spring – Surprises\nApril/May – Feathered Friends
URL:https://otsegolibrary.org/event/storytime-13/
CATEGORIES:Preschool
END:VEVENT
BEGIN:VEVENT
DTSTART;TZID=America/Detroit:20220427T100000
DTEND;TZID=America/Detroit:20220427T100000
DTSTAMP:20260422T151937
CREATED:20220510T195324Z
LAST-MODIFIED:20220515T124004Z
UID:6483-1651053600-1651053600@otsegolibrary.org
SUMMARY:Music & Movement
DESCRIPTION:Wednesdays at 10 AM\nFebruary 2 – May 11\nAges 0-5 \nMovin’ & groovin’ fun with sensory play!
URL:https://otsegolibrary.org/event/music-movement-14/
CATEGORIES:Preschool
END:VEVENT
BEGIN:VEVENT
DTSTART;TZID=America/Detroit:20220426T100000
DTEND;TZID=America/Detroit:20220426T100000
DTSTAMP:20260422T151937
CREATED:20220511T155037Z
LAST-MODIFIED:20220511T155138Z
UID:6569-1650967200-1650967200@otsegolibrary.org
SUMMARY:Tiny Tots
DESCRIPTION:Tuesdays at 10 AM\nFebruary 1 – May 10\nAges 0-24 months\nSing\, read\, and play with your little ones and friends!
URL:https://otsegolibrary.org/event/tiny-tots-13/
CATEGORIES:Preschool
END:VEVENT
BEGIN:VEVENT
DTSTART;TZID=America/Detroit:20220421T100000
DTEND;TZID=America/Detroit:20220421T100000
DTSTAMP:20260422T151937
CREATED:20220511T164033Z
LAST-MODIFIED:20220511T164033Z
UID:6598-1650535200-1650535200@otsegolibrary.org
SUMMARY:Storytime
DESCRIPTION:Thursdays at 10 AM\nFebruary 3 – May 12\nAges 2-5 \nEach session includes stories\, songs\, and a craft. \nFebruary – Winter Wonderland\nMarch Spring – Surprises\nApril/May – Feathered Friends
URL:https://otsegolibrary.org/event/storytime-12/
CATEGORIES:Preschool
END:VEVENT
BEGIN:VEVENT
DTSTART;TZID=America/Detroit:20220420T100000
DTEND;TZID=America/Detroit:20220420T100000
DTSTAMP:20260422T151937
CREATED:20220510T195207Z
LAST-MODIFIED:20220515T124039Z
UID:6481-1650448800-1650448800@otsegolibrary.org
SUMMARY:Music & Movement
DESCRIPTION:Wednesdays at 10 AM\nFebruary 2 – May 11\nAges 0-5 \nMovin’ & groovin’ fun with sensory play!
URL:https://otsegolibrary.org/event/music-movement-13/
CATEGORIES:Preschool
END:VEVENT
BEGIN:VEVENT
DTSTART;TZID=America/Detroit:20220419T100000
DTEND;TZID=America/Detroit:20220419T100000
DTSTAMP:20260422T151937
CREATED:20220511T154843Z
LAST-MODIFIED:20220511T154843Z
UID:6567-1650362400-1650362400@otsegolibrary.org
SUMMARY:Tiny Tots
DESCRIPTION:Tuesdays at 10 AM\nFebruary 1 – May 10\nAges 0-24 months\nSing\, read\, and play with your little ones and friends!
URL:https://otsegolibrary.org/event/tiny-tots-12/
CATEGORIES:Preschool
END:VEVENT
BEGIN:VEVENT
DTSTART;TZID=America/Detroit:20220414T100000
DTEND;TZID=America/Detroit:20220414T100000
DTSTAMP:20260422T151937
CREATED:20220511T163940Z
LAST-MODIFIED:20220511T163940Z
UID:6596-1649930400-1649930400@otsegolibrary.org
SUMMARY:Storytime
DESCRIPTION:Thursdays at 10 AM\nFebruary 3 – May 12\nAges 2-5 \nEach session includes stories\, songs\, and a craft. \nFebruary – Winter Wonderland\nMarch Spring – Surprises\nApril/May – Feathered Friends
URL:https://otsegolibrary.org/event/storytime-11/
CATEGORIES:Preschool
END:VEVENT
BEGIN:VEVENT
DTSTART;TZID=America/Detroit:20220413T100000
DTEND;TZID=America/Detroit:20220413T100000
DTSTAMP:20260422T151937
CREATED:20220510T195113Z
LAST-MODIFIED:20220515T124209Z
UID:6479-1649844000-1649844000@otsegolibrary.org
SUMMARY:Music & Movement
DESCRIPTION:Wednesdays at 10 AM\nFebruary 2 – May 11\nAges 0-5 \nMovin’ & groovin’ fun with sensory play!
URL:https://otsegolibrary.org/event/music-movement-12/
CATEGORIES:Preschool
END:VEVENT
BEGIN:VEVENT
DTSTART;TZID=America/Detroit:20220412T100000
DTEND;TZID=America/Detroit:20220412T100000
DTSTAMP:20260422T151937
CREATED:20220511T154737Z
LAST-MODIFIED:20220511T154737Z
UID:6565-1649757600-1649757600@otsegolibrary.org
SUMMARY:Tiny Tots
DESCRIPTION:Tuesdays at 10 AM\nFebruary 1 – May 10\nAges 0-24 months\nSing\, read\, and play with your little ones and friends!
URL:https://otsegolibrary.org/event/tiny-tots-11/
CATEGORIES:Preschool
END:VEVENT
BEGIN:VEVENT
DTSTART;TZID=America/Detroit:20220407T100000
DTEND;TZID=America/Detroit:20220407T100000
DTSTAMP:20260422T151937
CREATED:20220511T163856Z
LAST-MODIFIED:20220511T163856Z
UID:6594-1649325600-1649325600@otsegolibrary.org
SUMMARY:Storytime
DESCRIPTION:Thursdays at 10 AM\nFebruary 3 – May 12\nAges 2-5 \nEach session includes stories\, songs\, and a craft. \nFebruary – Winter Wonderland\nMarch Spring – Surprises\nApril/May – Feathered Friends
URL:https://otsegolibrary.org/event/storytime-10/
CATEGORIES:Preschool
END:VEVENT
BEGIN:VEVENT
DTSTART;TZID=America/Detroit:20220406T100000
DTEND;TZID=America/Detroit:20220406T100000
DTSTAMP:20260422T151937
CREATED:20220510T195007Z
LAST-MODIFIED:20220515T124317Z
UID:6475-1649239200-1649239200@otsegolibrary.org
SUMMARY:Music & Movement
DESCRIPTION:Wednesdays at 10 AM\nFebruary 2 – May 11\nAges 0-5 \nMovin’ & groovin’ fun with sensory play!
URL:https://otsegolibrary.org/event/music-movement-11/
CATEGORIES:Preschool
END:VEVENT
END:VCALENDAR