BEGIN:VCALENDAR
VERSION:2.0
PRODID:-//Otsego District Public Library - ECPv6.15.20//NONSGML v1.0//EN
CALSCALE:GREGORIAN
METHOD:PUBLISH
X-ORIGINAL-URL:https://otsegolibrary.org
X-WR-CALDESC:Events for Otsego District Public Library
REFRESH-INTERVAL;VALUE=DURATION:PT1H
X-Robots-Tag:noindex
X-PUBLISHED-TTL:PT1H
BEGIN:VTIMEZONE
TZID:America/Detroit
BEGIN:DAYLIGHT
TZOFFSETFROM:-0500
TZOFFSETTO:-0400
TZNAME:EDT
DTSTART:20210314T070000
END:DAYLIGHT
BEGIN:STANDARD
TZOFFSETFROM:-0400
TZOFFSETTO:-0500
TZNAME:EST
DTSTART:20211107T060000
END:STANDARD
BEGIN:DAYLIGHT
TZOFFSETFROM:-0500
TZOFFSETTO:-0400
TZNAME:EDT
DTSTART:20220313T070000
END:DAYLIGHT
BEGIN:STANDARD
TZOFFSETFROM:-0400
TZOFFSETTO:-0500
TZNAME:EST
DTSTART:20221106T060000
END:STANDARD
BEGIN:DAYLIGHT
TZOFFSETFROM:-0500
TZOFFSETTO:-0400
TZNAME:EDT
DTSTART:20230312T070000
END:DAYLIGHT
BEGIN:STANDARD
TZOFFSETFROM:-0400
TZOFFSETTO:-0500
TZNAME:EST
DTSTART:20231105T060000
END:STANDARD
BEGIN:DAYLIGHT
TZOFFSETFROM:-0500
TZOFFSETTO:-0400
TZNAME:EDT
DTSTART:20240310T070000
END:DAYLIGHT
BEGIN:STANDARD
TZOFFSETFROM:-0400
TZOFFSETTO:-0500
TZNAME:EST
DTSTART:20241103T060000
END:STANDARD
END:VTIMEZONE
BEGIN:VEVENT
DTSTART;TZID=America/Detroit:20230201T100000
DTEND;TZID=America/Detroit:20230201T100000
DTSTAMP:20260422T133117
CREATED:20221222T214358Z
LAST-MODIFIED:20221222T220057Z
UID:7802-1675245600-1675245600@otsegolibrary.org
SUMMARY:Music & Movement
DESCRIPTION:Wednesdays at 10 AM\nFebruary 1 – May 10 (No meeting on April 5)\nAges 0-5 \nJoin us for a wild adventure each week while we sing\, dance\, move\, and experience sensory play!
URL:https://otsegolibrary.org/event/music-and-movement/
CATEGORIES:Preschool
END:VEVENT
BEGIN:VEVENT
DTSTART;TZID=America/Detroit:20230131T100000
DTEND;TZID=America/Detroit:20230131T100000
DTSTAMP:20260422T133117
CREATED:20221222T213038Z
LAST-MODIFIED:20221222T213038Z
UID:7765-1675159200-1675159200@otsegolibrary.org
SUMMARY:Tiny Tots
DESCRIPTION:Tuesdays at 10 AM\nJanuary 31 – May 9 (No meeting on April 4)\nAges 0 – 24 months \nSongs\, books\, rhymes\, and fun group play for our youngest patrons!
URL:https://otsegolibrary.org/event/tiny-tots-26/
CATEGORIES:Preschool
END:VEVENT
BEGIN:VEVENT
DTSTART;TZID=America/Detroit:20221117T100000
DTEND;TZID=America/Detroit:20221117T100000
DTSTAMP:20260422T133117
CREATED:20221020T145221Z
LAST-MODIFIED:20221020T145221Z
UID:7505-1668679200-1668679200@otsegolibrary.org
SUMMARY:Storytime
DESCRIPTION:Thursdays at 10 AM\nSeptember 15 – November 17\nAges 0 – 5 \nAutumn stories\, songs\, and crafts will help children FALL in love with Storytime and their library!
URL:https://otsegolibrary.org/event/storytime-24/
CATEGORIES:Preschool
END:VEVENT
BEGIN:VEVENT
DTSTART;TZID=America/Detroit:20221116T100000
DTEND;TZID=America/Detroit:20221116T100000
DTSTAMP:20260422T133117
CREATED:20221018T235214Z
LAST-MODIFIED:20221018T235214Z
UID:7485-1668592800-1668592800@otsegolibrary.org
SUMMARY:Music & Movement
DESCRIPTION:Wednesdays at 10 AM\nSeptember 14 – November 16\nAges 0 – 5 \nYoung children will sing\, dance\, play interactive games\, and enjoy sensory activities in this lively\, musical class.
URL:https://otsegolibrary.org/event/music-movement-25/
CATEGORIES:Preschool
END:VEVENT
BEGIN:VEVENT
DTSTART;TZID=America/Detroit:20221115T100000
DTEND;TZID=America/Detroit:20221115T100000
DTSTAMP:20260422T133117
CREATED:20220706T193156Z
LAST-MODIFIED:20220706T193156Z
UID:7073-1668506400-1668506400@otsegolibrary.org
SUMMARY:Tiny Tots
DESCRIPTION:Tuesdays at 10 AM\nSeptember 13 – November 15\nAges 0 – 24 \nMonths Babies and their caregivers will learn fun songs\, hear a story\, and play with their new friends!
URL:https://otsegolibrary.org/event/tiny-tots-25/
CATEGORIES:Preschool
END:VEVENT
BEGIN:VEVENT
DTSTART;TZID=America/Detroit:20221110T100000
DTEND;TZID=America/Detroit:20221110T100000
DTSTAMP:20260422T133117
CREATED:20221020T145149Z
LAST-MODIFIED:20221020T145149Z
UID:7503-1668074400-1668074400@otsegolibrary.org
SUMMARY:Storytime
DESCRIPTION:Thursdays at 10 AM\nSeptember 15 – November 17\nAges 0 – 5 \nAutumn stories\, songs\, and crafts will help children FALL in love with Storytime and their library!
URL:https://otsegolibrary.org/event/storytime-23/
CATEGORIES:Preschool
END:VEVENT
BEGIN:VEVENT
DTSTART;TZID=America/Detroit:20221109T100000
DTEND;TZID=America/Detroit:20221109T100000
DTSTAMP:20260422T133117
CREATED:20221018T235121Z
LAST-MODIFIED:20221018T235121Z
UID:7483-1667988000-1667988000@otsegolibrary.org
SUMMARY:Music & Movement
DESCRIPTION:Wednesdays at 10 AM\nSeptember 14 – November 16\nAges 0 – 5 \nYoung children will sing\, dance\, play interactive games\, and enjoy sensory activities in this lively\, musical class.
URL:https://otsegolibrary.org/event/music-movement-24/
CATEGORIES:Preschool
END:VEVENT
BEGIN:VEVENT
DTSTART;TZID=America/Detroit:20221108T100000
DTEND;TZID=America/Detroit:20221108T100000
DTSTAMP:20260422T133117
CREATED:20220706T193037Z
LAST-MODIFIED:20220706T193037Z
UID:7069-1667901600-1667901600@otsegolibrary.org
SUMMARY:Tiny Tots
DESCRIPTION:Tuesdays at 10 AM\nSeptember 13 – November 15\nAges 0 – 24 \nMonths Babies and their caregivers will learn fun songs\, hear a story\, and play with their new friends!
URL:https://otsegolibrary.org/event/tiny-tots-23/
CATEGORIES:Preschool
END:VEVENT
BEGIN:VEVENT
DTSTART;TZID=America/Detroit:20221103T100000
DTEND;TZID=America/Detroit:20221103T100000
DTSTAMP:20260422T133117
CREATED:20221020T145252Z
LAST-MODIFIED:20221020T145311Z
UID:7507-1667469600-1667469600@otsegolibrary.org
SUMMARY:Storytime
DESCRIPTION:Thursdays at 10 AM\nSeptember 15 – November 17\nAges 0 – 5 \nAutumn stories\, songs\, and crafts will help children FALL in love with Storytime and their library!
URL:https://otsegolibrary.org/event/storytime-25/
CATEGORIES:Preschool
END:VEVENT
BEGIN:VEVENT
DTSTART;TZID=America/Detroit:20221102T100000
DTEND;TZID=America/Detroit:20221102T100000
DTSTAMP:20260422T133117
CREATED:20221018T235023Z
LAST-MODIFIED:20221018T235023Z
UID:7481-1667383200-1667383200@otsegolibrary.org
SUMMARY:Music & Movement
DESCRIPTION:Wednesdays at 10 AM\nSeptember 14 – November 16\nAges 0 – 5 \nYoung children will sing\, dance\, play interactive games\, and enjoy sensory activities in this lively\, musical class.
URL:https://otsegolibrary.org/event/music-movement-23/
CATEGORIES:Preschool
END:VEVENT
BEGIN:VEVENT
DTSTART;TZID=America/Detroit:20221101T100000
DTEND;TZID=America/Detroit:20221101T100000
DTSTAMP:20260422T133117
CREATED:20220706T192934Z
LAST-MODIFIED:20220706T192934Z
UID:7067-1667296800-1667296800@otsegolibrary.org
SUMMARY:Tiny Tots
DESCRIPTION:Tuesdays at 10 AM\nSeptember 13 – November 15\nAges 0 – 24 \nMonths Babies and their caregivers will learn fun songs\, hear a story\, and play with their new friends!
URL:https://otsegolibrary.org/event/tiny-tots-22/
CATEGORIES:Preschool
END:VEVENT
BEGIN:VEVENT
DTSTART;TZID=America/Detroit:20221027T100000
DTEND;TZID=America/Detroit:20221027T100000
DTSTAMP:20260422T133117
CREATED:20221020T145109Z
LAST-MODIFIED:20221020T145109Z
UID:7501-1666864800-1666864800@otsegolibrary.org
SUMMARY:Storytime
DESCRIPTION:Thursdays at 10 AM\nSeptember 15 – November 17\nAges 0 – 5 \nAutumn stories\, songs\, and crafts will help children FALL in love with Storytime and their library!
URL:https://otsegolibrary.org/event/storytime-22/
CATEGORIES:Preschool
END:VEVENT
BEGIN:VEVENT
DTSTART;TZID=America/Detroit:20221026T100000
DTEND;TZID=America/Detroit:20221026T100000
DTSTAMP:20260422T133117
CREATED:20220706T194331Z
LAST-MODIFIED:20220706T194331Z
UID:7087-1666778400-1666778400@otsegolibrary.org
SUMMARY:Music & Movement
DESCRIPTION:Wednesdays at 10 AM\nSeptember 14 – November 16\nAges 0 – 5 \nYoung children will sing\, dance\, play interactive games\, and enjoy sensory activities in this lively\, musical class.
URL:https://otsegolibrary.org/event/music-movement-22/
CATEGORIES:Preschool
END:VEVENT
BEGIN:VEVENT
DTSTART;TZID=America/Detroit:20221025T100000
DTEND;TZID=America/Detroit:20221025T100000
DTSTAMP:20260422T133117
CREATED:20220706T192859Z
LAST-MODIFIED:20220706T192859Z
UID:7065-1666692000-1666692000@otsegolibrary.org
SUMMARY:Tiny Tots
DESCRIPTION:Tuesdays at 10 AM\nSeptember 13 – November 15\nAges 0 – 24 \nMonths Babies and their caregivers will learn fun songs\, hear a story\, and play with their new friends!
URL:https://otsegolibrary.org/event/tiny-tots-21/
CATEGORIES:Preschool
END:VEVENT
BEGIN:VEVENT
DTSTART;TZID=America/Detroit:20221020T100000
DTEND;TZID=America/Detroit:20221020T100000
DTSTAMP:20260422T133117
CREATED:20221020T145034Z
LAST-MODIFIED:20221020T145034Z
UID:7499-1666260000-1666260000@otsegolibrary.org
SUMMARY:Storytime
DESCRIPTION:Thursdays at 10 AM\nSeptember 15 – November 17\nAges 0 – 5 \nAutumn stories\, songs\, and crafts will help children FALL in love with Storytime and their library!
URL:https://otsegolibrary.org/event/storytime-21/
CATEGORIES:Preschool
END:VEVENT
BEGIN:VEVENT
DTSTART;TZID=America/Detroit:20221019T100000
DTEND;TZID=America/Detroit:20221019T100000
DTSTAMP:20260422T133117
CREATED:20220706T194245Z
LAST-MODIFIED:20220706T194245Z
UID:7085-1666173600-1666173600@otsegolibrary.org
SUMMARY:Music & Movement
DESCRIPTION:Wednesdays at 10 AM\nSeptember 14 – November 16\nAges 0 – 5 \nYoung children will sing\, dance\, play interactive games\, and enjoy sensory activities in this lively\, musical class.
URL:https://otsegolibrary.org/event/music-movement-21/
CATEGORIES:Preschool
END:VEVENT
BEGIN:VEVENT
DTSTART;TZID=America/Detroit:20221018T100000
DTEND;TZID=America/Detroit:20221018T100000
DTSTAMP:20260422T133117
CREATED:20220706T192623Z
LAST-MODIFIED:20220706T192828Z
UID:7063-1666087200-1666087200@otsegolibrary.org
SUMMARY:Tiny Tots
DESCRIPTION:Tuesdays at 10 AM\nSeptember 13 – November 15\nAges 0 – 24 \nMonths Babies and their caregivers will learn fun songs\, hear a story\, and play with their new friends!
URL:https://otsegolibrary.org/event/tiny-tots-20/
CATEGORIES:Preschool
END:VEVENT
BEGIN:VEVENT
DTSTART;TZID=America/Detroit:20221013T100000
DTEND;TZID=America/Detroit:20221013T100000
DTSTAMP:20260422T133117
CREATED:20221020T145011Z
LAST-MODIFIED:20221020T145011Z
UID:7497-1665655200-1665655200@otsegolibrary.org
SUMMARY:Storytime
DESCRIPTION:Thursdays at 10 AM\nSeptember 15 – November 17\nAges 0 – 5 \nAutumn stories\, songs\, and crafts will help children FALL in love with Storytime and their library!
URL:https://otsegolibrary.org/event/storytime-20/
CATEGORIES:Preschool
END:VEVENT
BEGIN:VEVENT
DTSTART;TZID=America/Detroit:20221012T100000
DTEND;TZID=America/Detroit:20221012T100000
DTSTAMP:20260422T133117
CREATED:20220706T194200Z
LAST-MODIFIED:20220706T194200Z
UID:7083-1665568800-1665568800@otsegolibrary.org
SUMMARY:Music & Movement
DESCRIPTION:Wednesdays at 10 AM\nSeptember 14 – November 16\nAges 0 – 5 \nYoung children will sing\, dance\, play interactive games\, and enjoy sensory activities in this lively\, musical class.
URL:https://otsegolibrary.org/event/music-movement-20/
CATEGORIES:Preschool
END:VEVENT
BEGIN:VEVENT
DTSTART;TZID=America/Detroit:20221011T100000
DTEND;TZID=America/Detroit:20221011T100000
DTSTAMP:20260422T133117
CREATED:20220706T193117Z
LAST-MODIFIED:20220706T193117Z
UID:7071-1665482400-1665482400@otsegolibrary.org
SUMMARY:Tiny Tots
DESCRIPTION:Tuesdays at 10 AM\nSeptember 13 – November 15\nAges 0 – 24 \nMonths Babies and their caregivers will learn fun songs\, hear a story\, and play with their new friends!
URL:https://otsegolibrary.org/event/tiny-tots-24/
CATEGORIES:Preschool
END:VEVENT
BEGIN:VEVENT
DTSTART;TZID=America/Detroit:20221006T100000
DTEND;TZID=America/Detroit:20221006T100000
DTSTAMP:20260422T133117
CREATED:20221020T144941Z
LAST-MODIFIED:20221020T144941Z
UID:7495-1665050400-1665050400@otsegolibrary.org
SUMMARY:Storytime
DESCRIPTION:Thursdays at 10 AM\nSeptember 15 – November 17\nAges 0 – 5 \nAutumn stories\, songs\, and crafts will help children FALL in love with Storytime and their library!
URL:https://otsegolibrary.org/event/storytime-19/
CATEGORIES:Preschool
END:VEVENT
BEGIN:VEVENT
DTSTART;TZID=America/Detroit:20221005T100000
DTEND;TZID=America/Detroit:20221005T100000
DTSTAMP:20260422T133117
CREATED:20220706T193501Z
LAST-MODIFIED:20220706T193550Z
UID:7081-1664964000-1664964000@otsegolibrary.org
SUMMARY:Music & Movement
DESCRIPTION:Wednesdays at 10 AM\nSeptember 14 – November 16\nAges 0 – 5 \nYoung children will sing\, dance\, play interactive games\, and enjoy sensory activities in this lively\, musical class.
URL:https://otsegolibrary.org/event/music-movement-19/
CATEGORIES:Preschool
END:VEVENT
BEGIN:VEVENT
DTSTART;TZID=America/Detroit:20221004T100000
DTEND;TZID=America/Detroit:20221004T100000
DTSTAMP:20260422T133117
CREATED:20220706T185859Z
LAST-MODIFIED:20220706T190206Z
UID:7061-1664877600-1664877600@otsegolibrary.org
SUMMARY:Tiny Tots
DESCRIPTION:Tuesdays at 10 AM\nSeptember 13 – November 15\nAges 0 – 24 \nMonths Babies and their caregivers will learn fun songs\, hear a story\, and play with their new friends!
URL:https://otsegolibrary.org/event/tiny-tots-19/
CATEGORIES:Preschool
END:VEVENT
BEGIN:VEVENT
DTSTART;TZID=America/Detroit:20220929T100000
DTEND;TZID=America/Detroit:20220929T100000
DTSTAMP:20260422T133117
CREATED:20221020T144405Z
LAST-MODIFIED:20221020T144405Z
UID:7493-1664445600-1664445600@otsegolibrary.org
SUMMARY:Storytime
DESCRIPTION:Thursdays at 10 AM\nSeptember 15 – November 17\nAges 0 – 5 \nAutumn stories\, songs\, and crafts will help children FALL in love with Storytime and their library!
URL:https://otsegolibrary.org/event/storytime-18/
CATEGORIES:Preschool
END:VEVENT
BEGIN:VEVENT
DTSTART;TZID=America/Detroit:20220928T100000
DTEND;TZID=America/Detroit:20220928T100000
DTSTAMP:20260422T133117
CREATED:20220706T193425Z
LAST-MODIFIED:20220706T193425Z
UID:7079-1664359200-1664359200@otsegolibrary.org
SUMMARY:Music & Movement
DESCRIPTION:Wednesdays at 10 AM\nSeptember 14 – November 16\nAges 0 – 5 \nYoung children will sing\, dance\, play interactive games\, and enjoy sensory activities in this lively\, musical class.
URL:https://otsegolibrary.org/event/music-movement-18/
CATEGORIES:Preschool
END:VEVENT
BEGIN:VEVENT
DTSTART;TZID=America/Detroit:20220927T100000
DTEND;TZID=America/Detroit:20220927T100000
DTSTAMP:20260422T133117
CREATED:20220706T185823Z
LAST-MODIFIED:20220706T185823Z
UID:7059-1664272800-1664272800@otsegolibrary.org
SUMMARY:Tiny Tots
DESCRIPTION:Tuesdays at 10 AM\nSeptember 13 – November 15\nAges 0 – 24 \nMonths Babies and their caregivers will learn fun songs\, hear a story\, and play with their new friends!
URL:https://otsegolibrary.org/event/tiny-tots-18/
CATEGORIES:Preschool
END:VEVENT
BEGIN:VEVENT
DTSTART;TZID=America/Detroit:20220922T100000
DTEND;TZID=America/Detroit:20220922T100000
DTSTAMP:20260422T133117
CREATED:20221020T144333Z
LAST-MODIFIED:20221020T144333Z
UID:7491-1663840800-1663840800@otsegolibrary.org
SUMMARY:Storytime
DESCRIPTION:Thursdays at 10 AM\nSeptember 15 – November 17\nAges 0 – 5 \nAutumn stories\, songs\, and crafts will help children FALL in love with Storytime and their library!
URL:https://otsegolibrary.org/event/storytime-17/
CATEGORIES:Preschool
END:VEVENT
BEGIN:VEVENT
DTSTART;TZID=America/Detroit:20220921T100000
DTEND;TZID=America/Detroit:20220921T100000
DTSTAMP:20260422T133117
CREATED:20220706T193350Z
LAST-MODIFIED:20220706T193350Z
UID:7077-1663754400-1663754400@otsegolibrary.org
SUMMARY:Music & Movement
DESCRIPTION:Wednesdays at 10 AM\nSeptember 14 – November 16\nAges 0 – 5 \nYoung children will sing\, dance\, play interactive games\, and enjoy sensory activities in this lively\, musical class.
URL:https://otsegolibrary.org/event/music-movement-17/
CATEGORIES:Preschool
END:VEVENT
BEGIN:VEVENT
DTSTART;TZID=America/Detroit:20220920T100000
DTEND;TZID=America/Detroit:20220920T100000
DTSTAMP:20260422T133117
CREATED:20220706T185602Z
LAST-MODIFIED:20220706T185602Z
UID:7057-1663668000-1663668000@otsegolibrary.org
SUMMARY:Tiny Tots
DESCRIPTION:Tuesdays at 10 AM\nSeptember 13 – November 15\nAges 0 – 24 \nMonths Babies and their caregivers will learn fun songs\, hear a story\, and play with their new friends!
URL:https://otsegolibrary.org/event/tiny-tots-17/
CATEGORIES:Preschool
END:VEVENT
BEGIN:VEVENT
DTSTART;TZID=America/Detroit:20220915T100000
DTEND;TZID=America/Detroit:20220915T100000
DTSTAMP:20260422T133117
CREATED:20221020T144310Z
LAST-MODIFIED:20221020T144310Z
UID:7488-1663236000-1663236000@otsegolibrary.org
SUMMARY:Storytime
DESCRIPTION:Thursdays at 10 AM\nSeptember 15 – November 17\nAges 0 – 5 \nAutumn stories\, songs\, and crafts will help children FALL in love with Storytime and their library!
URL:https://otsegolibrary.org/event/storytime-16/
CATEGORIES:Preschool
END:VEVENT
END:VCALENDAR