BEGIN:VCALENDAR
VERSION:2.0
PRODID:-//Otsego District Public Library - ECPv6.15.20//NONSGML v1.0//EN
CALSCALE:GREGORIAN
METHOD:PUBLISH
X-WR-CALNAME:Otsego District Public Library
X-ORIGINAL-URL:https://otsegolibrary.org
X-WR-CALDESC:Events for Otsego District Public Library
REFRESH-INTERVAL;VALUE=DURATION:PT1H
X-Robots-Tag:noindex
X-PUBLISHED-TTL:PT1H
BEGIN:VTIMEZONE
TZID:America/Detroit
BEGIN:DAYLIGHT
TZOFFSETFROM:-0500
TZOFFSETTO:-0400
TZNAME:EDT
DTSTART:20240310T070000
END:DAYLIGHT
BEGIN:STANDARD
TZOFFSETFROM:-0400
TZOFFSETTO:-0500
TZNAME:EST
DTSTART:20241103T060000
END:STANDARD
BEGIN:DAYLIGHT
TZOFFSETFROM:-0500
TZOFFSETTO:-0400
TZNAME:EDT
DTSTART:20250309T070000
END:DAYLIGHT
BEGIN:STANDARD
TZOFFSETFROM:-0400
TZOFFSETTO:-0500
TZNAME:EST
DTSTART:20251102T060000
END:STANDARD
BEGIN:DAYLIGHT
TZOFFSETFROM:-0500
TZOFFSETTO:-0400
TZNAME:EDT
DTSTART:20260308T070000
END:DAYLIGHT
BEGIN:STANDARD
TZOFFSETFROM:-0400
TZOFFSETTO:-0500
TZNAME:EST
DTSTART:20261101T060000
END:STANDARD
END:VTIMEZONE
BEGIN:VEVENT
DTSTART;TZID=America/Detroit:20250909T100000
DTEND;TZID=America/Detroit:20250909T100000
DTSTAMP:20260422T053903
CREATED:20250619T153050Z
LAST-MODIFIED:20250619T153053Z
UID:11723-1757412000-1757412000@otsegolibrary.org
SUMMARY:Tiny Tots
DESCRIPTION:Tiny Tots meets on Tuesdays at 10 AM\nSeptember 9 – November 18 \nAges 0 – 24 Months \nSing\, read\, and play with your little ones and friends!
URL:https://otsegolibrary.org/event/tiny-tots-85/
CATEGORIES:Preschool
END:VEVENT
BEGIN:VEVENT
DTSTART;TZID=America/Detroit:20250910T100000
DTEND;TZID=America/Detroit:20250910T100000
DTSTAMP:20260422T053903
CREATED:20250619T154118Z
LAST-MODIFIED:20250619T154336Z
UID:11746-1757498400-1757498400@otsegolibrary.org
SUMMARY:Music & Movement
DESCRIPTION:Music and Movement meets on Wednesdays at 10 AM!\nSeptember 10 – November 19 (No meetup on September 17) \nAges 0 – 5 \nMovin’ and Groovin’ fun with songs\, stories\, interactive play\, and sensory activities.
URL:https://otsegolibrary.org/event/music-and-movement-37/
CATEGORIES:Preschool
END:VEVENT
BEGIN:VEVENT
DTSTART;TZID=America/Detroit:20250911T100000
DTEND;TZID=America/Detroit:20250911T100000
DTSTAMP:20260422T053903
CREATED:20250619T155051Z
LAST-MODIFIED:20250619T155054Z
UID:11770-1757584800-1757584800@otsegolibrary.org
SUMMARY:Storytime
DESCRIPTION:Storytime meets on Thursdays at 10 AM!\nSeptember 11 – November 20 \nAges 0 – 5 \nStories\, songs\, and crafts focusing on a new theme each week. \nWear your costume on October 30 for a Special Halloween Storytime!
URL:https://otsegolibrary.org/event/storytime-84/
CATEGORIES:Preschool
END:VEVENT
BEGIN:VEVENT
DTSTART;TZID=America/Detroit:20250916T100000
DTEND;TZID=America/Detroit:20250916T100000
DTSTAMP:20260422T053903
CREATED:20250619T153114Z
LAST-MODIFIED:20250619T153116Z
UID:11725-1758016800-1758016800@otsegolibrary.org
SUMMARY:Tiny Tots
DESCRIPTION:Tiny Tots meets on Tuesdays at 10 AM\nSeptember 9 – November 18 \nAges 0 – 24 Months \nSing\, read\, and play with your little ones and friends!
URL:https://otsegolibrary.org/event/tiny-tots-86/
CATEGORIES:Preschool
END:VEVENT
BEGIN:VEVENT
DTSTART;TZID=America/Detroit:20250918T100000
DTEND;TZID=America/Detroit:20250918T100000
DTSTAMP:20260422T053903
CREATED:20250619T155110Z
LAST-MODIFIED:20250619T155112Z
UID:11772-1758189600-1758189600@otsegolibrary.org
SUMMARY:Storytime
DESCRIPTION:Storytime meets on Thursdays at 10 AM!\nSeptember 11 – November 20 \nAges 0 – 5 \nStories\, songs\, and crafts focusing on a new theme each week. \nWear your costume on October 30 for a Special Halloween Storytime!
URL:https://otsegolibrary.org/event/storytime-85/
CATEGORIES:Preschool
END:VEVENT
BEGIN:VEVENT
DTSTART;TZID=America/Detroit:20250923T100000
DTEND;TZID=America/Detroit:20250923T100000
DTSTAMP:20260422T053903
CREATED:20250619T153133Z
LAST-MODIFIED:20250619T153154Z
UID:11727-1758621600-1758621600@otsegolibrary.org
SUMMARY:Tiny Tots
DESCRIPTION:Tiny Tots meets on Tuesdays at 10 AM\nSeptember 9 – November 18 \nAges 0 – 24 Months \nSing\, read\, and play with your little ones and friends!
URL:https://otsegolibrary.org/event/tiny-tots-87/
CATEGORIES:Preschool
END:VEVENT
BEGIN:VEVENT
DTSTART;TZID=America/Detroit:20250924T100000
DTEND;TZID=America/Detroit:20250924T100000
DTSTAMP:20260422T053903
CREATED:20250619T154238Z
LAST-MODIFIED:20250619T154417Z
UID:11750-1758708000-1758708000@otsegolibrary.org
SUMMARY:Music & Movement
DESCRIPTION:Music and Movement meets on Wednesdays at 10 AM!\nSeptember 10 – November 19 (No meetup on September 17) \nAges 0 – 5 \nMovin’ and Groovin’ fun with songs\, stories\, interactive play\, and sensory activities.
URL:https://otsegolibrary.org/event/music-and-movement-39/
CATEGORIES:Preschool
END:VEVENT
BEGIN:VEVENT
DTSTART;TZID=America/Detroit:20250925T100000
DTEND;TZID=America/Detroit:20250925T100000
DTSTAMP:20260422T053903
CREATED:20250619T155132Z
LAST-MODIFIED:20250619T160617Z
UID:11774-1758794400-1758794400@otsegolibrary.org
SUMMARY:Storytime
DESCRIPTION:Storytime meets on Thursdays at 10 AM!\nSeptember 11 – November 20 \nAges 0 – 5 \nStories\, songs\, and crafts focusing on a new theme each week. \nWear your costume on October 30 for a Special Halloween Storytime!
URL:https://otsegolibrary.org/event/storytime-86/
CATEGORIES:Preschool
END:VEVENT
BEGIN:VEVENT
DTSTART;TZID=America/Detroit:20250930T100000
DTEND;TZID=America/Detroit:20250930T100000
DTSTAMP:20260422T053903
CREATED:20250619T153218Z
LAST-MODIFIED:20250619T153224Z
UID:11729-1759226400-1759226400@otsegolibrary.org
SUMMARY:Tiny Tots
DESCRIPTION:Tiny Tots meets on Tuesdays at 10 AM\nSeptember 9 – November 18 \nAges 0 – 24 Months \nSing\, read\, and play with your little ones and friends!
URL:https://otsegolibrary.org/event/tiny-tots-88/
CATEGORIES:Preschool
END:VEVENT
END:VCALENDAR