BEGIN:VCALENDAR
VERSION:2.0
PRODID:-//Otsego District Public Library - ECPv6.15.20//NONSGML v1.0//EN
CALSCALE:GREGORIAN
METHOD:PUBLISH
X-ORIGINAL-URL:https://otsegolibrary.org
X-WR-CALDESC:Events for Otsego District Public Library
REFRESH-INTERVAL;VALUE=DURATION:PT1H
X-Robots-Tag:noindex
X-PUBLISHED-TTL:PT1H
BEGIN:VTIMEZONE
TZID:America/Detroit
BEGIN:DAYLIGHT
TZOFFSETFROM:-0500
TZOFFSETTO:-0400
TZNAME:EDT
DTSTART:20230312T070000
END:DAYLIGHT
BEGIN:STANDARD
TZOFFSETFROM:-0400
TZOFFSETTO:-0500
TZNAME:EST
DTSTART:20231105T060000
END:STANDARD
BEGIN:DAYLIGHT
TZOFFSETFROM:-0500
TZOFFSETTO:-0400
TZNAME:EDT
DTSTART:20240310T070000
END:DAYLIGHT
BEGIN:STANDARD
TZOFFSETFROM:-0400
TZOFFSETTO:-0500
TZNAME:EST
DTSTART:20241103T060000
END:STANDARD
BEGIN:DAYLIGHT
TZOFFSETFROM:-0500
TZOFFSETTO:-0400
TZNAME:EDT
DTSTART:20250309T070000
END:DAYLIGHT
BEGIN:STANDARD
TZOFFSETFROM:-0400
TZOFFSETTO:-0500
TZNAME:EST
DTSTART:20251102T060000
END:STANDARD
END:VTIMEZONE
BEGIN:VEVENT
DTSTART;TZID=America/Detroit:20240910T100000
DTEND;TZID=America/Detroit:20240910T100000
DTSTAMP:20260423T040400
CREATED:20240702T163557Z
LAST-MODIFIED:20240703T140150Z
UID:9867-1725962400-1725962400@otsegolibrary.org
SUMMARY:Tiny Tots
DESCRIPTION:Tuesdays at 10 AM\nSeptember 10 – November 19\nAges 0 – 24 Months\nSing\, read\, and play with your little ones and friends!
URL:https://otsegolibrary.org/event/tiny-tots-62/
CATEGORIES:Preschool
END:VEVENT
BEGIN:VEVENT
DTSTART;TZID=America/Detroit:20240911T100000
DTEND;TZID=America/Detroit:20240911T100000
DTSTAMP:20260423T040400
CREATED:20240702T164902Z
LAST-MODIFIED:20240703T140148Z
UID:9891-1726048800-1726048800@otsegolibrary.org
SUMMARY:Music and Movement
DESCRIPTION:Wednesdays at 10 AM\nSeptember 11 – November 20\nAges 0 – 5\nMovin’ and Groovin’ fun with songs\, stories\, interactive play\, and sensory activities.
URL:https://otsegolibrary.org/event/music-and-movement-18/
CATEGORIES:Preschool
END:VEVENT
BEGIN:VEVENT
DTSTART;TZID=America/Detroit:20240912T100000
DTEND;TZID=America/Detroit:20240912T100000
DTSTAMP:20260423T040400
CREATED:20240705T195801Z
LAST-MODIFIED:20240705T195801Z
UID:9929-1726135200-1726135200@otsegolibrary.org
SUMMARY:Storytime
DESCRIPTION:Thursdays at 10 AM\nSeptember 12 – November 21 \nAges 0 – 5\nStories\, songs\, and a craft all focusing on a new weekly theme.
URL:https://otsegolibrary.org/event/storytime-62/
CATEGORIES:Preschool
END:VEVENT
BEGIN:VEVENT
DTSTART;TZID=America/Detroit:20240917T100000
DTEND;TZID=America/Detroit:20240917T100000
DTSTAMP:20260423T040400
CREATED:20240702T163628Z
LAST-MODIFIED:20240703T140146Z
UID:9869-1726567200-1726567200@otsegolibrary.org
SUMMARY:Tiny Tots
DESCRIPTION:Tuesdays at 10 AM\nSeptember 10 – November 19\nAges 0 – 24 Months\nSing\, read\, and play with your little ones and friends!
URL:https://otsegolibrary.org/event/tiny-tots-64/
CATEGORIES:Preschool
END:VEVENT
BEGIN:VEVENT
DTSTART;TZID=America/Detroit:20240918T100000
DTEND;TZID=America/Detroit:20240918T100000
DTSTAMP:20260423T040400
CREATED:20240702T164944Z
LAST-MODIFIED:20240703T140143Z
UID:9893-1726653600-1726653600@otsegolibrary.org
SUMMARY:Music and Movement
DESCRIPTION:Wednesdays at 10 AM\nSeptember 11 – November 20\nAges 0 – 5\nMovin’ and Groovin’ fun with songs\, stories\, interactive play\, and sensory activities.
URL:https://otsegolibrary.org/event/music-and-movement-19/
CATEGORIES:Preschool
END:VEVENT
BEGIN:VEVENT
DTSTART;TZID=America/Detroit:20240919T100000
DTEND;TZID=America/Detroit:20240919T100000
DTSTAMP:20260423T040400
CREATED:20240705T195836Z
LAST-MODIFIED:20240705T195836Z
UID:9931-1726740000-1726740000@otsegolibrary.org
SUMMARY:Storytime
DESCRIPTION:Thursdays at 10 AM\nSeptember 12 – November 21 \nAges 0 – 5\nStories\, songs\, and a craft all focusing on a new weekly theme.
URL:https://otsegolibrary.org/event/storytime-63/
CATEGORIES:Preschool
END:VEVENT
BEGIN:VEVENT
DTSTART;TZID=America/Detroit:20240924T100000
DTEND;TZID=America/Detroit:20240924T100000
DTSTAMP:20260423T040400
CREATED:20240702T163703Z
LAST-MODIFIED:20240703T140141Z
UID:9871-1727172000-1727172000@otsegolibrary.org
SUMMARY:Tiny Tots
DESCRIPTION:Tuesdays at 10 AM\nSeptember 10 – November 19\nAges 0 – 24 Months\nSing\, read\, and play with your little ones and friends!
URL:https://otsegolibrary.org/event/tiny-tots-65/
CATEGORIES:Preschool
END:VEVENT
BEGIN:VEVENT
DTSTART;TZID=America/Detroit:20240925T100000
DTEND;TZID=America/Detroit:20240925T100000
DTSTAMP:20260423T040400
CREATED:20240702T165008Z
LAST-MODIFIED:20240702T165938Z
UID:9895-1727258400-1727258400@otsegolibrary.org
SUMMARY:Music and Movement
DESCRIPTION:Wednesdays at 10 AM\nSeptember 11 – November 20\nAges 0 – 5\nMovin’ and Groovin’ fun with songs\, stories\, interactive play\, and sensory activities.
URL:https://otsegolibrary.org/event/music-and-movement-20/
CATEGORIES:Preschool
END:VEVENT
BEGIN:VEVENT
DTSTART;TZID=America/Detroit:20240926T100000
DTEND;TZID=America/Detroit:20240926T100000
DTSTAMP:20260423T040400
CREATED:20240705T195901Z
LAST-MODIFIED:20240705T195901Z
UID:9933-1727344800-1727344800@otsegolibrary.org
SUMMARY:Storytime
DESCRIPTION:Thursdays at 10 AM\nSeptember 12 – November 21 \nAges 0 – 5\nStories\, songs\, and a craft all focusing on a new weekly theme.
URL:https://otsegolibrary.org/event/storytime-64/
CATEGORIES:Preschool
END:VEVENT
END:VCALENDAR