BEGIN:VCALENDAR
VERSION:2.0
PRODID:-//Otsego District Public Library - ECPv6.15.20//NONSGML v1.0//EN
CALSCALE:GREGORIAN
METHOD:PUBLISH
X-ORIGINAL-URL:https://otsegolibrary.org
X-WR-CALDESC:Events for Otsego District Public Library
REFRESH-INTERVAL;VALUE=DURATION:PT1H
X-Robots-Tag:noindex
X-PUBLISHED-TTL:PT1H
BEGIN:VTIMEZONE
TZID:America/Detroit
BEGIN:DAYLIGHT
TZOFFSETFROM:-0500
TZOFFSETTO:-0400
TZNAME:EDT
DTSTART:20230312T070000
END:DAYLIGHT
BEGIN:STANDARD
TZOFFSETFROM:-0400
TZOFFSETTO:-0500
TZNAME:EST
DTSTART:20231105T060000
END:STANDARD
BEGIN:DAYLIGHT
TZOFFSETFROM:-0500
TZOFFSETTO:-0400
TZNAME:EDT
DTSTART:20240310T070000
END:DAYLIGHT
BEGIN:STANDARD
TZOFFSETFROM:-0400
TZOFFSETTO:-0500
TZNAME:EST
DTSTART:20241103T060000
END:STANDARD
BEGIN:DAYLIGHT
TZOFFSETFROM:-0500
TZOFFSETTO:-0400
TZNAME:EDT
DTSTART:20250309T070000
END:DAYLIGHT
BEGIN:STANDARD
TZOFFSETFROM:-0400
TZOFFSETTO:-0500
TZNAME:EST
DTSTART:20251102T060000
END:STANDARD
END:VTIMEZONE
BEGIN:VEVENT
DTSTART;TZID=America/Detroit:20240617T100000
DTEND;TZID=America/Detroit:20240617T110000
DTSTAMP:20260423T085056
CREATED:20240603T205530Z
LAST-MODIFIED:20240603T205530Z
UID:9671-1718618400-1718622000@otsegolibrary.org
SUMMARY:Stroller Adventure Walk
DESCRIPTION:(0 – 5 Years Old)\n \nJune 17 – July 22 \nMondays at 10 AM \nJoin your friends while we walk to Memorial Park and play at the park.
URL:https://otsegolibrary.org/event/stroller-adventure-walk/
CATEGORIES:Preschool
END:VEVENT
BEGIN:VEVENT
DTSTART;TZID=America/Detroit:20240619T100000
DTEND;TZID=America/Detroit:20240619T100000
DTSTAMP:20260423T085056
CREATED:20240607T210116Z
LAST-MODIFIED:20240610T141934Z
UID:9719-1718791200-1718791200@otsegolibrary.org
SUMMARY:Adventurous Stories & Songs
DESCRIPTION:June 19 – July 24 \nWednesdays at 10 AM  \nAges 0-5 \nEach week we will focus on different adventures while we hear stories\, sing songs\, play games\, make a craft\, and have sensory activities.
URL:https://otsegolibrary.org/event/adventurous-stories-songs-7/
CATEGORIES:Preschool
END:VEVENT
BEGIN:VEVENT
DTSTART;TZID=America/Detroit:20240624T100000
DTEND;TZID=America/Detroit:20240624T110000
DTSTAMP:20260423T085056
CREATED:20240603T205555Z
LAST-MODIFIED:20240603T205555Z
UID:9673-1719223200-1719226800@otsegolibrary.org
SUMMARY:Stroller Adventure Walk
DESCRIPTION:(0 – 5 Years Old)\n \nJune 17 – July 22 \nMondays at 10 AM \nJoin your friends while we walk to Memorial Park and play at the park.
URL:https://otsegolibrary.org/event/stroller-adventure-walk-2/
CATEGORIES:Preschool
END:VEVENT
BEGIN:VEVENT
DTSTART;TZID=America/Detroit:20240626T100000
DTEND;TZID=America/Detroit:20240626T100000
DTSTAMP:20260423T085056
CREATED:20240607T205651Z
LAST-MODIFIED:20240610T141939Z
UID:9709-1719396000-1719396000@otsegolibrary.org
SUMMARY:Adventurous Stories & Songs
DESCRIPTION:June 19 – July 24 \nWednesdays at 10 AM  \nAges 0-5 \nEach week we will focus on different adventures while we hear stories\, sing songs\, play games\, make a craft\, and have sensory activities.
URL:https://otsegolibrary.org/event/adventurous-stories-songs-2/
CATEGORIES:Preschool
END:VEVENT
END:VCALENDAR