BEGIN:VCALENDAR
VERSION:2.0
PRODID:-//Otsego District Public Library - ECPv6.15.20//NONSGML v1.0//EN
CALSCALE:GREGORIAN
METHOD:PUBLISH
X-WR-CALNAME:Otsego District Public Library
X-ORIGINAL-URL:https://otsegolibrary.org
X-WR-CALDESC:Events for Otsego District Public Library
REFRESH-INTERVAL;VALUE=DURATION:PT1H
X-Robots-Tag:noindex
X-PUBLISHED-TTL:PT1H
BEGIN:VTIMEZONE
TZID:America/Detroit
BEGIN:DAYLIGHT
TZOFFSETFROM:-0500
TZOFFSETTO:-0400
TZNAME:EDT
DTSTART:20210314T070000
END:DAYLIGHT
BEGIN:STANDARD
TZOFFSETFROM:-0400
TZOFFSETTO:-0500
TZNAME:EST
DTSTART:20211107T060000
END:STANDARD
BEGIN:DAYLIGHT
TZOFFSETFROM:-0500
TZOFFSETTO:-0400
TZNAME:EDT
DTSTART:20220313T070000
END:DAYLIGHT
BEGIN:STANDARD
TZOFFSETFROM:-0400
TZOFFSETTO:-0500
TZNAME:EST
DTSTART:20221106T060000
END:STANDARD
BEGIN:DAYLIGHT
TZOFFSETFROM:-0500
TZOFFSETTO:-0400
TZNAME:EDT
DTSTART:20230312T070000
END:DAYLIGHT
BEGIN:STANDARD
TZOFFSETFROM:-0400
TZOFFSETTO:-0500
TZNAME:EST
DTSTART:20231105T060000
END:STANDARD
BEGIN:DAYLIGHT
TZOFFSETFROM:-0500
TZOFFSETTO:-0400
TZNAME:EDT
DTSTART:20240310T070000
END:DAYLIGHT
BEGIN:STANDARD
TZOFFSETFROM:-0400
TZOFFSETTO:-0500
TZNAME:EST
DTSTART:20241103T060000
END:STANDARD
BEGIN:DAYLIGHT
TZOFFSETFROM:-0500
TZOFFSETTO:-0400
TZNAME:EDT
DTSTART:20250309T070000
END:DAYLIGHT
BEGIN:STANDARD
TZOFFSETFROM:-0400
TZOFFSETTO:-0500
TZNAME:EST
DTSTART:20251102T060000
END:STANDARD
BEGIN:DAYLIGHT
TZOFFSETFROM:-0500
TZOFFSETTO:-0400
TZNAME:EDT
DTSTART:20260308T070000
END:DAYLIGHT
BEGIN:STANDARD
TZOFFSETFROM:-0400
TZOFFSETTO:-0500
TZNAME:EST
DTSTART:20261101T060000
END:STANDARD
BEGIN:DAYLIGHT
TZOFFSETFROM:-0500
TZOFFSETTO:-0400
TZNAME:EDT
DTSTART:20270314T070000
END:DAYLIGHT
BEGIN:STANDARD
TZOFFSETFROM:-0400
TZOFFSETTO:-0500
TZNAME:EST
DTSTART:20271107T060000
END:STANDARD
END:VTIMEZONE
BEGIN:VEVENT
DTSTART;TZID=America/Detroit:20260404T000000
DTEND;TZID=America/Detroit:20260404T235959
DTSTAMP:20260423T053842
CREATED:20260106T152807Z
LAST-MODIFIED:20260106T153951Z
UID:12481-1775260800-1775347199@otsegolibrary.org
SUMMARY:LIBRARY CLOSED
DESCRIPTION:The library will be closed for the holiday. \nCLOSED: EASTER\nSaturday\, April 4 \nHave a safe and happy holiday with your family and friends!
URL:https://otsegolibrary.org/event/library-closed-27/
CATEGORIES:Notice/Closing
END:VEVENT
BEGIN:VEVENT
DTSTART;TZID=America/Detroit:20260216T000000
DTEND;TZID=America/Detroit:20260216T235959
DTSTAMP:20260423T053842
CREATED:20260106T151655Z
LAST-MODIFIED:20260106T152340Z
UID:12478-1771200000-1771286399@otsegolibrary.org
SUMMARY:LIBRARY CLOSED
DESCRIPTION:The library will be closed for staff training.\n\n\n\nCLOSED: Staff Training Day\nMonday\, February 16 \nHave a wonderful day off with your family and friends!
URL:https://otsegolibrary.org/event/12478/
CATEGORIES:Notice/Closing
END:VEVENT
BEGIN:VEVENT
DTSTART;TZID=America/Detroit:20251231T000000
DTEND;TZID=America/Detroit:20260101T235959
DTSTAMP:20260423T053842
CREATED:20250619T162705Z
LAST-MODIFIED:20250619T162710Z
UID:11828-1767139200-1767311999@otsegolibrary.org
SUMMARY:LIBRARY CLOSED
DESCRIPTION:The library will be closed for the holiday. \nCLOSED: New Years\nWednesday\, December 31 – Thursday\, January 1 \nHave a safe and happy holiday with your family and friends!
URL:https://otsegolibrary.org/event/library-closed-31/
CATEGORIES:Notice/Closing
END:VEVENT
BEGIN:VEVENT
DTSTART;TZID=America/Detroit:20251224T000000
DTEND;TZID=America/Detroit:20251225T235959
DTSTAMP:20260423T053842
CREATED:20250619T162501Z
LAST-MODIFIED:20251226T204558Z
UID:11826-1766534400-1766707199@otsegolibrary.org
SUMMARY:LIBRARY CLOSED
DESCRIPTION:The library will be closed for the holiday. \nCLOSED: Christmas\nWednesday\, December 24 – Thursday\, December 25 \nHave a safe and happy holiday with your family and friends!
URL:https://otsegolibrary.org/event/library-closed-30/
CATEGORIES:Notice/Closing
END:VEVENT
BEGIN:VEVENT
DTSTART;TZID=America/Detroit:20251127T000000
DTEND;TZID=America/Detroit:20251129T235959
DTSTAMP:20260423T053842
CREATED:20250619T162348Z
LAST-MODIFIED:20250619T162400Z
UID:11824-1764201600-1764460799@otsegolibrary.org
SUMMARY:LIBRARY CLOSED
DESCRIPTION:The library will be closed for the holiday. \nCLOSED: Thanksgiving\nThursday\, November 27 – Saturday\, November 29 \nHave a safe and happy holiday with your family and friends!
URL:https://otsegolibrary.org/event/library-closed-29/
CATEGORIES:Notice/Closing
END:VEVENT
BEGIN:VEVENT
DTSTART;TZID=America/Detroit:20250917T000000
DTEND;TZID=America/Detroit:20250917T235959
DTSTAMP:20260423T053842
CREATED:20250619T162058Z
LAST-MODIFIED:20250619T162249Z
UID:11820-1758067200-1758153599@otsegolibrary.org
SUMMARY:LIBRARY CLOSED
DESCRIPTION:The library will be closed Wednesday\, September 17 for Staff Training. \nHave a safe and happy day with your family and friends!
URL:https://otsegolibrary.org/event/library-closed-28/
CATEGORIES:Notice/Closing
END:VEVENT
BEGIN:VEVENT
DTSTART;TZID=America/Detroit:20250830T000000
DTEND;TZID=America/Detroit:20250901T235959
DTSTAMP:20260423T053842
CREATED:20250619T161939Z
LAST-MODIFIED:20250619T161948Z
UID:11817-1756512000-1756771199@otsegolibrary.org
SUMMARY:LIBRARY CLOSED
DESCRIPTION:The library will be closed for the holiday. \nCLOSED: Labor Day\nAugust 30 – September 1 \nHave a safe and happy holiday with your family and friends!
URL:https://otsegolibrary.org/event/11817/
CATEGORIES:Notice/Closing
END:VEVENT
BEGIN:VEVENT
DTSTART;TZID=America/Detroit:20250704T000000
DTEND;TZID=America/Detroit:20250705T235959
DTSTAMP:20260423T053842
CREATED:20241230T171224Z
LAST-MODIFIED:20241230T171234Z
UID:10830-1751587200-1751759999@otsegolibrary.org
SUMMARY:LIBRARY CLOSED
DESCRIPTION:The library will be closed for the holiday. \nCLOSED:\nIndependence Day\nFriday\, July 4 – Saturday\, July 5 \nHave a safe and happy holiday with your family and friends!
URL:https://otsegolibrary.org/event/library-close/
CATEGORIES:Notice/Closing
END:VEVENT
BEGIN:VEVENT
DTSTART;TZID=America/Detroit:20250524T000000
DTEND;TZID=America/Detroit:20250526T235959
DTSTAMP:20260423T053842
CREATED:20241230T170929Z
LAST-MODIFIED:20241230T170936Z
UID:10828-1748044800-1748303999@otsegolibrary.org
SUMMARY:LIBRARY CLOSED
DESCRIPTION:The library will be closed for the holiday. \nCLOSED:\nMemorial Day\nSaturday\, May 24 – Monday May 26 \nHave a safe and happy holiday with your family and friends!
URL:https://otsegolibrary.org/event/library-closed-26/
CATEGORIES:Notice/Closing
END:VEVENT
BEGIN:VEVENT
DTSTART;TZID=America/Detroit:20250419T000000
DTEND;TZID=America/Detroit:20250419T235959
DTSTAMP:20260423T053842
CREATED:20241230T170831Z
LAST-MODIFIED:20241230T170836Z
UID:10825-1745020800-1745107199@otsegolibrary.org
SUMMARY:LIBRARY CLOSED
DESCRIPTION:The library will be closed for the holiday. \nCLOSED:\nEaster\nSaturday\, April 19 \nHave a safe and happy holiday with your family and friends!
URL:https://otsegolibrary.org/event/library-closed-25/
CATEGORIES:Notice/Closing
END:VEVENT
BEGIN:VEVENT
DTSTART;TZID=America/Detroit:20250217T000000
DTEND;TZID=America/Detroit:20250217T235959
DTSTAMP:20260423T053842
CREATED:20241230T170708Z
LAST-MODIFIED:20241230T170752Z
UID:10821-1739750400-1739836799@otsegolibrary.org
SUMMARY:LIBRARY CLOSED
DESCRIPTION:The library will be closed for Clerk Training Day. \nCLOSED:\nClerk Training Day\nMonday\, February 17 \nHave a safe and happy day with your family and friends!
URL:https://otsegolibrary.org/event/library-closed-24/
CATEGORIES:Notice/Closing
END:VEVENT
BEGIN:VEVENT
DTSTART;VALUE=DATE:20241231
DTEND;VALUE=DATE:20250102
DTSTAMP:20260423T053842
CREATED:20240312T140911Z
LAST-MODIFIED:20240312T140911Z
UID:9508-1735603200-1735775999@otsegolibrary.org
SUMMARY:LIBRARY CLOSED
DESCRIPTION:The library will be closed for the holiday. \nCLOSED:\nNew Years\nDecember 31 – January 1 \nHave a safe and happy holiday with your family and friends!
URL:https://otsegolibrary.org/event/library-closed-23/
CATEGORIES:Notice/Closing
END:VEVENT
BEGIN:VEVENT
DTSTART;VALUE=DATE:20241224
DTEND;VALUE=DATE:20241226
DTSTAMP:20260423T053842
CREATED:20240312T140818Z
LAST-MODIFIED:20240312T140818Z
UID:9506-1734998400-1735171199@otsegolibrary.org
SUMMARY:LIBRARY CLOSED
DESCRIPTION:The library will be closed for the holiday. \nCLOSED:\nChristmas\nDecember 24 – December 25 \nHave a safe and happy holiday with your family and friends!
URL:https://otsegolibrary.org/event/library-closed-22/
CATEGORIES:Notice/Closing
END:VEVENT
BEGIN:VEVENT
DTSTART;VALUE=DATE:20241128
DTEND;VALUE=DATE:20241201
DTSTAMP:20260423T053842
CREATED:20240312T140657Z
LAST-MODIFIED:20240312T140716Z
UID:9504-1732752000-1733011199@otsegolibrary.org
SUMMARY:LIBRARY CLOSED
DESCRIPTION:The library will be closed for the holiday. \nCLOSED:\nThanksgiving\nNovember – 28 – November 30 \nHave a safe and happy holiday with your family and friends!
URL:https://otsegolibrary.org/event/library-closed-21/
CATEGORIES:Notice/Closing
END:VEVENT
BEGIN:VEVENT
DTSTART;VALUE=DATE:20240831
DTEND;VALUE=DATE:20240903
DTSTAMP:20260423T053842
CREATED:20231203T193930Z
LAST-MODIFIED:20231203T231308Z
UID:9316-1725062400-1725321599@otsegolibrary.org
SUMMARY:LIBRARY CLOSED
DESCRIPTION:The library will be closed for the holiday. \nCLOSED:\nLabor Day\nAugust 31 – September 2 \nHave a safe and happy holiday with your family and friends!
URL:https://otsegolibrary.org/event/library-closed-20/
CATEGORIES:Notice/Closing
END:VEVENT
BEGIN:VEVENT
DTSTART;VALUE=DATE:20240704
DTEND;VALUE=DATE:20240705
DTSTAMP:20260423T053842
CREATED:20231203T193707Z
LAST-MODIFIED:20231203T193707Z
UID:9312-1720051200-1720137599@otsegolibrary.org
SUMMARY:LIBRARY CLOSED
DESCRIPTION:The library will be closed for the holiday. \nCLOSED:\nIndependence Day\nThursday\, July 4 \nHave a safe and happy holiday with your family and friends!
URL:https://otsegolibrary.org/event/library-closed-19/
CATEGORIES:Notice/Closing
END:VEVENT
BEGIN:VEVENT
DTSTART;VALUE=DATE:20240525
DTEND;VALUE=DATE:20240528
DTSTAMP:20260423T053842
CREATED:20231203T193444Z
LAST-MODIFIED:20240411T174921Z
UID:9310-1716595200-1716854399@otsegolibrary.org
SUMMARY:LIBRARY CLOSED
DESCRIPTION:The library will be closed for the holiday. \nCLOSED:\nMemorial Day\nMay 25 – 27 \nHave a safe and happy holiday with your family and friends!
URL:https://otsegolibrary.org/event/library-closed-18/
CATEGORIES:Notice/Closing
END:VEVENT
BEGIN:VEVENT
DTSTART;VALUE=DATE:20240330
DTEND;VALUE=DATE:20240331
DTSTAMP:20260423T053842
CREATED:20231203T193312Z
LAST-MODIFIED:20231203T193312Z
UID:9308-1711756800-1711843199@otsegolibrary.org
SUMMARY:LIBRARY CLOSED
DESCRIPTION:The library will be closed for the holiday. \nCLOSED:\nEaster\nMonday\, March 30 \nHave a safe and happy holiday with your family and friends!
URL:https://otsegolibrary.org/event/library-closed-17/
CATEGORIES:Notice/Closing
END:VEVENT
BEGIN:VEVENT
DTSTART;VALUE=DATE:20240219
DTEND;VALUE=DATE:20240220
DTSTAMP:20260423T053842
CREATED:20231203T193153Z
LAST-MODIFIED:20231203T193206Z
UID:9306-1708300800-1708387199@otsegolibrary.org
SUMMARY:LIBRARY CLOSED
DESCRIPTION:The library will be closed for the holiday. \nCLOSED:\nPresident’s Day/Staff Training\nMonday\, February 19 \nHave a safe and happy holiday with your family and friends!
URL:https://otsegolibrary.org/event/library-closed-16/
CATEGORIES:Notice/Closing
END:VEVENT
BEGIN:VEVENT
DTSTART;VALUE=DATE:20240101
DTEND;VALUE=DATE:20240102
DTSTAMP:20260423T053842
CREATED:20221110T195751Z
LAST-MODIFIED:20221110T200038Z
UID:7582-1704067200-1704153599@otsegolibrary.org
SUMMARY:LIBRARY CLOSED
DESCRIPTION:The library will be closed for the holiday. \nCLOSED:\nNew Years Eve/Day\nMonday\, January 1 \nHave a safe and happy holiday with your family and friends!
URL:https://otsegolibrary.org/event/library-closed-15/
CATEGORIES:Notice/Closing
END:VEVENT
BEGIN:VEVENT
DTSTART;VALUE=DATE:20231223
DTEND;VALUE=DATE:20231226
DTSTAMP:20260423T053842
CREATED:20221110T195626Z
LAST-MODIFIED:20231128T182917Z
UID:7579-1703289600-1703548799@otsegolibrary.org
SUMMARY:LIBRARY CLOSED
DESCRIPTION:The library will be closed for the holiday. \nCLOSED:\nChristmas Eve/Day\nSaturday\, December 23 – Monday\, December 25 \nHave a safe and happy holiday with your family and friends!
URL:https://otsegolibrary.org/event/7579/
CATEGORIES:Notice/Closing
END:VEVENT
BEGIN:VEVENT
DTSTART;VALUE=DATE:20231123
DTEND;VALUE=DATE:20231126
DTSTAMP:20260423T053842
CREATED:20221110T195230Z
LAST-MODIFIED:20221110T200030Z
UID:7577-1700697600-1700956799@otsegolibrary.org
SUMMARY:LIBRARY CLOSED
DESCRIPTION:The library will be closed for the holiday. \nCLOSED:\nThanksgiving Weekend\nThursday\, November 24 – Saturday\, November 25 \nHave a safe and happy holiday with your family and friends!
URL:https://otsegolibrary.org/event/library-closed-14/
CATEGORIES:Notice/Closing
END:VEVENT
BEGIN:VEVENT
DTSTART;VALUE=DATE:20230902
DTEND;VALUE=DATE:20230905
DTSTAMP:20260423T053842
CREATED:20221110T195110Z
LAST-MODIFIED:20221110T200026Z
UID:7574-1693612800-1693871999@otsegolibrary.org
SUMMARY:LIBRARY CLOSED
DESCRIPTION:The library will be closed for the holiday. \nCLOSED:\nLabor Day Weekend\nSaturday\, September 2 – Monday\, September 4 \nHave a safe and happy holiday with your family and friends!
URL:https://otsegolibrary.org/event/library-closed-13/
CATEGORIES:Notice/Closing
END:VEVENT
BEGIN:VEVENT
DTSTART;VALUE=DATE:20230703
DTEND;VALUE=DATE:20230705
DTSTAMP:20260423T053842
CREATED:20221110T194513Z
LAST-MODIFIED:20221110T200022Z
UID:7571-1688342400-1688515199@otsegolibrary.org
SUMMARY:LIBRARY CLOSED
DESCRIPTION:The library will be closed for the holiday. \nCLOSED:\nIndependence Day\nMonday\, July 3 – Tuesday\, July 4 \nHave a safe and happy holiday with your family and friends!
URL:https://otsegolibrary.org/event/library-closed-12/
CATEGORIES:Notice/Closing
END:VEVENT
BEGIN:VEVENT
DTSTART;VALUE=DATE:20230527
DTEND;VALUE=DATE:20230530
DTSTAMP:20260423T053842
CREATED:20221110T194435Z
LAST-MODIFIED:20221110T200018Z
UID:7569-1685145600-1685404799@otsegolibrary.org
SUMMARY:LIBRARY CLOSED
DESCRIPTION:The library will be closed for the holiday. \nCLOSED:\nMemorial Day Weekend\nSaturday\, May 27 – Monday\, May 29 \nHave a safe and happy holiday with your family and friends!
URL:https://otsegolibrary.org/event/library-closed-11/
CATEGORIES:Notice/Closing
END:VEVENT
BEGIN:VEVENT
DTSTART;VALUE=DATE:20230408
DTEND;VALUE=DATE:20230409
DTSTAMP:20260423T053842
CREATED:20221110T194207Z
LAST-MODIFIED:20221110T200013Z
UID:7562-1680912000-1680998399@otsegolibrary.org
SUMMARY:LIBRARY CLOSED
DESCRIPTION:The library will be closed for the holiday. \nCLOSED:\nEaster Weekend\nSaturday\, April 8 \nHave a safe and happy holiday with your family and friends!
URL:https://otsegolibrary.org/event/library-closed-10/
CATEGORIES:Notice/Closing
END:VEVENT
BEGIN:VEVENT
DTSTART;VALUE=DATE:20230220
DTEND;VALUE=DATE:20230221
DTSTAMP:20260423T053842
CREATED:20221110T194128Z
LAST-MODIFIED:20221110T200005Z
UID:7560-1676851200-1676937599@otsegolibrary.org
SUMMARY:LIBRARY CLOSED
DESCRIPTION:The library will be closed for the holiday. \nCLOSED:\nPresident’s Day/Staff Training\nMonday\, February 20 \nHave a safe and happy holiday with your family and friends!
URL:https://otsegolibrary.org/event/library-closed-9/
CATEGORIES:Notice/Closing
END:VEVENT
BEGIN:VEVENT
DTSTART;VALUE=DATE:20221231
DTEND;VALUE=DATE:20230103
DTSTAMP:20260423T053842
CREATED:20220802T184736Z
LAST-MODIFIED:20220802T184736Z
UID:7168-1672444800-1672703999@otsegolibrary.org
SUMMARY:LIBRARY CLOSED
DESCRIPTION:The library will be closed for Christmas and New Years. \nCLOSED – December 24 – 26 \nCLOSED – December 31 – January 2 \nHave a safe and happy holiday with your family and friends! \nNeed some books to get you through the holidays? Download FREE eBooks\, Audiobooks\, Movies\, TV Shows and more HERE with your library card!
URL:https://otsegolibrary.org/event/library-closed-7/
CATEGORIES:Notice/Closing
END:VEVENT
BEGIN:VEVENT
DTSTART;VALUE=DATE:20221224
DTEND;VALUE=DATE:20221227
DTSTAMP:20260423T053842
CREATED:20220802T184702Z
LAST-MODIFIED:20220802T184702Z
UID:7166-1671840000-1672099199@otsegolibrary.org
SUMMARY:LIBRARY CLOSED
DESCRIPTION:The library will be closed for Christmas and New Years. \nCLOSED – December 24 – 26 \nCLOSED – December 31 – January 2 \nHave a safe and happy holiday with your family and friends! \nNeed some books to get you through the holidays? Download FREE eBooks\, Audiobooks\, Movies\, TV Shows and more HERE with your library card!
URL:https://otsegolibrary.org/event/library-closed-6/
CATEGORIES:Notice/Closing
END:VEVENT
BEGIN:VEVENT
DTSTART;VALUE=DATE:20221223
DTEND;VALUE=DATE:20221224
DTSTAMP:20260423T053842
CREATED:20221222T213233Z
LAST-MODIFIED:20221222T213233Z
UID:7775-1671753600-1671839999@otsegolibrary.org
SUMMARY:CLOSED DUE TO INCLEMENT WEATHER
DESCRIPTION:
URL:https://otsegolibrary.org/event/closed-due-to-inclement-weather/
CATEGORIES:Notice/Closing
END:VEVENT
END:VCALENDAR