BEGIN:VCALENDAR
VERSION:2.0
PRODID:-//Otsego District Public Library - ECPv6.15.20//NONSGML v1.0//EN
CALSCALE:GREGORIAN
METHOD:PUBLISH
X-ORIGINAL-URL:https://otsegolibrary.org
X-WR-CALDESC:Events for Otsego District Public Library
REFRESH-INTERVAL;VALUE=DURATION:PT1H
X-Robots-Tag:noindex
X-PUBLISHED-TTL:PT1H
BEGIN:VTIMEZONE
TZID:America/Detroit
BEGIN:DAYLIGHT
TZOFFSETFROM:-0500
TZOFFSETTO:-0400
TZNAME:EDT
DTSTART:20250309T070000
END:DAYLIGHT
BEGIN:STANDARD
TZOFFSETFROM:-0400
TZOFFSETTO:-0500
TZNAME:EST
DTSTART:20251102T060000
END:STANDARD
BEGIN:DAYLIGHT
TZOFFSETFROM:-0500
TZOFFSETTO:-0400
TZNAME:EDT
DTSTART:20260308T070000
END:DAYLIGHT
BEGIN:STANDARD
TZOFFSETFROM:-0400
TZOFFSETTO:-0500
TZNAME:EST
DTSTART:20261101T060000
END:STANDARD
BEGIN:DAYLIGHT
TZOFFSETFROM:-0500
TZOFFSETTO:-0400
TZNAME:EDT
DTSTART:20270314T070000
END:DAYLIGHT
BEGIN:STANDARD
TZOFFSETFROM:-0400
TZOFFSETTO:-0500
TZNAME:EST
DTSTART:20271107T060000
END:STANDARD
END:VTIMEZONE
BEGIN:VEVENT
DTSTART;TZID=America/Detroit:20260411T100000
DTEND;TZID=America/Detroit:20260411T100000
DTSTAMP:20260423T130403
CREATED:20260105T200704Z
LAST-MODIFIED:20260105T211841Z
UID:12466-1775901600-1775901600@otsegolibrary.org
SUMMARY:Big & Little Painting Party
DESCRIPTION:Fun for the Whole Family! \nKids: Invite your favorite grown-up — Mom\, Dad\, Grandma\, Grandpa\, or any special adult to join us for a painting party! Create something amazing by following along with our instructor for a guided design or let your imagination take over and paint whatever makes you smile. \nIt’s the perfect chance to relax\, get creative\, and make some wonderful memories side by side with your special adult. \nThis event is completely free\, but spots are limited—be sure to register and save your place!
URL:https://otsegolibrary.org/event/big-little-painting-party/
CATEGORIES:Children's Spring Break Events
END:VEVENT
END:VCALENDAR