BEGIN:VCALENDAR
VERSION:2.0
PRODID:-//Otsego District Public Library - ECPv6.15.20//NONSGML v1.0//EN
CALSCALE:GREGORIAN
METHOD:PUBLISH
X-WR-CALNAME:Otsego District Public Library
X-ORIGINAL-URL:https://otsegolibrary.org
X-WR-CALDESC:Events for Otsego District Public Library
REFRESH-INTERVAL;VALUE=DURATION:PT1H
X-Robots-Tag:noindex
X-PUBLISHED-TTL:PT1H
BEGIN:VTIMEZONE
TZID:America/Detroit
BEGIN:DAYLIGHT
TZOFFSETFROM:-0500
TZOFFSETTO:-0400
TZNAME:EDT
DTSTART:20210314T070000
END:DAYLIGHT
BEGIN:STANDARD
TZOFFSETFROM:-0400
TZOFFSETTO:-0500
TZNAME:EST
DTSTART:20211107T060000
END:STANDARD
BEGIN:DAYLIGHT
TZOFFSETFROM:-0500
TZOFFSETTO:-0400
TZNAME:EDT
DTSTART:20220313T070000
END:DAYLIGHT
BEGIN:STANDARD
TZOFFSETFROM:-0400
TZOFFSETTO:-0500
TZNAME:EST
DTSTART:20221106T060000
END:STANDARD
BEGIN:DAYLIGHT
TZOFFSETFROM:-0500
TZOFFSETTO:-0400
TZNAME:EDT
DTSTART:20230312T070000
END:DAYLIGHT
BEGIN:STANDARD
TZOFFSETFROM:-0400
TZOFFSETTO:-0500
TZNAME:EST
DTSTART:20231105T060000
END:STANDARD
BEGIN:DAYLIGHT
TZOFFSETFROM:-0500
TZOFFSETTO:-0400
TZNAME:EDT
DTSTART:20240310T070000
END:DAYLIGHT
BEGIN:STANDARD
TZOFFSETFROM:-0400
TZOFFSETTO:-0500
TZNAME:EST
DTSTART:20241103T060000
END:STANDARD
END:VTIMEZONE
BEGIN:VEVENT
DTSTART;TZID=America/Detroit:20231011T180000
DTEND;TZID=America/Detroit:20231011T180000
DTSTAMP:20260423T075559
CREATED:20230721T144527Z
LAST-MODIFIED:20230721T144527Z
UID:8665-1697047200-1697047200@otsegolibrary.org
SUMMARY:Non Fiction Book Club
DESCRIPTION:2nd Wednesday at 6 PM \nJuly 12\nTrail of Tears by John Ehle \nAugust 9\nThe Falcon Thief by Joshua Hammer \nSeptember 13\nNew Women in the Old West by Winifred Gallagher \nOctober 11\nThe Soul of an Octopus by Sy Montgomery \nNovember 8\nFirst on the Moon by Armstrong\, Collins\, and Aldrin \nDecember 13\nThe Bad-Ass Librarians of Timbuktu by Joshua Hammer \nJanuary 10\nRubicon by Tom Holland
URL:https://otsegolibrary.org/event/non-fiction-book-club-19/
CATEGORIES:Book Club
END:VEVENT
BEGIN:VEVENT
DTSTART;TZID=America/Detroit:20231009T140000
DTEND;TZID=America/Detroit:20231009T140000
DTSTAMP:20260423T075559
CREATED:20230721T144014Z
LAST-MODIFIED:20230721T144103Z
UID:8654-1696860000-1696860000@otsegolibrary.org
SUMMARY:2nd Monday Book Club
DESCRIPTION:Meets on the 2nd Monday of each month at 2 PM \nJuly 10\nLittle Fires Everywhere by Celeste Ng \nAugust 14\nThe Orphan Train by Christina Baker Kline \nSeptember 11\nThe Boston Girl by Anita Diamante \nOctober 9\nThe Maidens by Alex Michaelides \nNovember 13\nNever Let Me Go by Kazuo Ishiguro \nDecember 11\nChoose A Holiday Book \nJanuary 8\nProject Hail Mary by Andy Weir
URL:https://otsegolibrary.org/event/2nd-monday-book-club-24/
CATEGORIES:Book Club
END:VEVENT
BEGIN:VEVENT
DTSTART;TZID=America/Detroit:20230913T180000
DTEND;TZID=America/Detroit:20230913T180000
DTSTAMP:20260423T075559
CREATED:20230721T144501Z
LAST-MODIFIED:20230721T144501Z
UID:8663-1694628000-1694628000@otsegolibrary.org
SUMMARY:Non Fiction Book Club
DESCRIPTION:2nd Wednesday at 6 PM \nJuly 12\nTrail of Tears by John Ehle \nAugust 9\nThe Falcon Thief by Joshua Hammer \nSeptember 13\nNew Women in the Old West by Winifred Gallagher \nOctober 11\nThe Soul of an Octopus by Sy Montgomery \nNovember 8\nFirst on the Moon by Armstrong\, Collins\, and Aldrin \nDecember 13\nThe Bad-Ass Librarians of Timbuktu by Joshua Hammer \nJanuary 10\nRubicon by Tom Holland
URL:https://otsegolibrary.org/event/non-fiction-book-club-18/
CATEGORIES:Book Club
END:VEVENT
BEGIN:VEVENT
DTSTART;TZID=America/Detroit:20230814T140000
DTEND;TZID=America/Detroit:20230814T140000
DTSTAMP:20260423T075559
CREATED:20221222T204515Z
LAST-MODIFIED:20221222T204515Z
UID:7700-1692021600-1692021600@otsegolibrary.org
SUMMARY:2nd Monday Book Club
DESCRIPTION:Meets on the 2nd Monday at 2 PM\nNewcomers are always welcome! \nJanuary 9 Mysterious Death of Miss Jane Austen by Lindsay Ashford \nFebruary 13 The Silent Patient by Alex Michaelides \nMarch 13 One Perfect Lie by Lisa Scottoline \nApril 10 The One Hundred Years of Lenni & Margot by Marianne Cronin \nMay 8 Dearest Mother & Dad by Christina Thompson \nJune 12 Gentleman In Moscow by Amor Towles \nJuly 10 Little Fires Everywhere by Celesste Ng \nAugust 14 The Orphan Train by Christina Baker Kline
URL:https://otsegolibrary.org/event/2nd-monday-book-club-20/
CATEGORIES:Book Club
END:VEVENT
BEGIN:VEVENT
DTSTART;TZID=America/Detroit:20230809T180000
DTEND;TZID=America/Detroit:20230809T180000
DTSTAMP:20260423T075559
CREATED:20221222T205104Z
LAST-MODIFIED:20221222T205104Z
UID:7714-1691604000-1691604000@otsegolibrary.org
SUMMARY:Non-Fiction Book Club
DESCRIPTION:Meets on the 2nd Wednesday at 6 PM\nNewcomers are always welcome! \nJanuary 11 The Nine by Jeffrey Toobin \nFebruary 8 Lincoln on the Verge by Ted Widmer \nMarch 8 Boys in the Boat by Daniel James Brown \nApril 12 Rough Magic by Lara Prior-Palmer \nMay 10 Team of Rivals by Doris Kearns Goodwin \nJune 14 The Planets by Dava Sobel \nJuly 12 Trail of Tears by John Ehle \nAugust 9 The Falcon Thief by Joshua Hammer
URL:https://otsegolibrary.org/event/non-fiction-book-club-17/
CATEGORIES:Book Club
END:VEVENT
BEGIN:VEVENT
DTSTART;TZID=America/Detroit:20230712T180000
DTEND;TZID=America/Detroit:20230712T180000
DTSTAMP:20260423T075559
CREATED:20221222T204954Z
LAST-MODIFIED:20221222T204954Z
UID:7710-1689184800-1689184800@otsegolibrary.org
SUMMARY:Non-Fiction Book Club
DESCRIPTION:Meets on the 2nd Wednesday at 6 PM\nNewcomers are always welcome! \nJanuary 11 The Nine by Jeffrey Toobin \nFebruary 8 Lincoln on the Verge by Ted Widmer \nMarch 8 Boys in the Boat by Daniel James Brown \nApril 12 Rough Magic by Lara Prior-Palmer \nMay 10 Team of Rivals by Doris Kearns Goodwin \nJune 14 The Planets by Dava Sobel \nJuly 12 Trail of Tears by John Ehle \nAugust 9 The Falcon Thief by Joshua Hammer
URL:https://otsegolibrary.org/event/non-fiction-book-club-15/
CATEGORIES:Book Club
END:VEVENT
BEGIN:VEVENT
DTSTART;TZID=America/Detroit:20230710T140000
DTEND;TZID=America/Detroit:20230710T140000
DTSTAMP:20260423T075559
CREATED:20221222T204435Z
LAST-MODIFIED:20221222T204435Z
UID:7698-1688997600-1688997600@otsegolibrary.org
SUMMARY:2nd Monday Book Club
DESCRIPTION:Meets on the 2nd Monday at 2 PM\nNewcomers are always welcome! \nJanuary 9 Mysterious Death of Miss Jane Austen by Lindsay Ashford \nFebruary 13 The Silent Patient by Alex Michaelides \nMarch 13 One Perfect Lie by Lisa Scottoline \nApril 10 The One Hundred Years of Lenni & Margot by Marianne Cronin \nMay 8 Dearest Mother & Dad by Christina Thompson \nJune 12 Gentleman In Moscow by Amor Towles \nJuly 10 Little Fires Everywhere by Celesste Ng \nAugust 14 The Orphan Train by Christina Baker Kline
URL:https://otsegolibrary.org/event/2nd-monday-book-club-19/
CATEGORIES:Book Club
END:VEVENT
BEGIN:VEVENT
DTSTART;TZID=America/Detroit:20230614T180000
DTEND;TZID=America/Detroit:20230614T180000
DTSTAMP:20260423T075559
CREATED:20221222T205027Z
LAST-MODIFIED:20221222T205027Z
UID:7712-1686765600-1686765600@otsegolibrary.org
SUMMARY:Non-Fiction Book Club
DESCRIPTION:Meets on the 2nd Wednesday at 6 PM\nNewcomers are always welcome! \nJanuary 11 The Nine by Jeffrey Toobin \nFebruary 8 Lincoln on the Verge by Ted Widmer \nMarch 8 Boys in the Boat by Daniel James Brown \nApril 12 Rough Magic by Lara Prior-Palmer \nMay 10 Team of Rivals by Doris Kearns Goodwin \nJune 14 The Planets by Dava Sobel \nJuly 12 Trail of Tears by John Ehle \nAugust 9 The Falcon Thief by Joshua Hammer
URL:https://otsegolibrary.org/event/non-fiction-book-club-16/
CATEGORIES:Book Club
END:VEVENT
BEGIN:VEVENT
DTSTART;TZID=America/Detroit:20230612T140000
DTEND;TZID=America/Detroit:20230612T140000
DTSTAMP:20260423T075559
CREATED:20221222T204401Z
LAST-MODIFIED:20221222T204401Z
UID:7696-1686578400-1686578400@otsegolibrary.org
SUMMARY:2nd Monday Book Club
DESCRIPTION:Meets on the 2nd Monday at 2 PM\nNewcomers are always welcome! \nJanuary 9 Mysterious Death of Miss Jane Austen by Lindsay Ashford \nFebruary 13 The Silent Patient by Alex Michaelides \nMarch 13 One Perfect Lie by Lisa Scottoline \nApril 10 The One Hundred Years of Lenni & Margot by Marianne Cronin \nMay 8 Dearest Mother & Dad by Christina Thompson \nJune 12 Gentleman In Moscow by Amor Towles \nJuly 10 Little Fires Everywhere by Celesste Ng \nAugust 14 The Orphan Train by Christina Baker Kline
URL:https://otsegolibrary.org/event/2nd-monday-book-club-13/
CATEGORIES:Book Club
END:VEVENT
BEGIN:VEVENT
DTSTART;TZID=America/Detroit:20230510T180000
DTEND;TZID=America/Detroit:20230510T180000
DTSTAMP:20260423T075559
CREATED:20221222T204915Z
LAST-MODIFIED:20221222T204932Z
UID:7708-1683741600-1683741600@otsegolibrary.org
SUMMARY:Non-Fiction Book Club
DESCRIPTION:Meets on the 2nd Wednesday at 6 PM\nNewcomers are always welcome! \nJanuary 11 The Nine by Jeffrey Toobin \nFebruary 8 Lincoln on the Verge by Ted Widmer \nMarch 8 Boys in the Boat by Daniel James Brown \nApril 12 Rough Magic by Lara Prior-Palmer \nMay 10 Team of Rivals by Doris Kearns Goodwin \nJune 14 The Planets by Dava Sobel \nJuly 12 Trail of Tears by John Ehle \nAugust 9 The Falcon Thief by Joshua Hammer
URL:https://otsegolibrary.org/event/non-fiction-book-club-14/
CATEGORIES:Book Club
END:VEVENT
BEGIN:VEVENT
DTSTART;TZID=America/Detroit:20230508T140000
DTEND;TZID=America/Detroit:20230508T140000
DTSTAMP:20260423T075559
CREATED:20221222T204213Z
LAST-MODIFIED:20221222T204223Z
UID:7694-1683554400-1683554400@otsegolibrary.org
SUMMARY:2nd Monday Book Club
DESCRIPTION:Meets on the 2nd Monday at 2 PM\nNewcomers are always welcome! \nJanuary 9 Mysterious Death of Miss Jane Austen by Lindsay Ashford \nFebruary 13 The Silent Patient by Alex Michaelides \nMarch 13 One Perfect Lie by Lisa Scottoline \nApril 10 The One Hundred Years of Lenni & Margot by Marianne Cronin \nMay 8 Dearest Mother & Dad by Christina Thompson \nJune 12 Gentleman In Moscow by Amor Towles \nJuly 10 Little Fires Everywhere by Celesste Ng \nAugust 14 The Orphan Train by Christina Baker Kline
URL:https://otsegolibrary.org/event/2nd-monday-book-club-18/
CATEGORIES:Book Club
END:VEVENT
BEGIN:VEVENT
DTSTART;TZID=America/Detroit:20230412T180000
DTEND;TZID=America/Detroit:20230412T180000
DTSTAMP:20260423T075559
CREATED:20221222T204845Z
LAST-MODIFIED:20221222T204845Z
UID:7706-1681322400-1681322400@otsegolibrary.org
SUMMARY:Non-Fiction Book Club
DESCRIPTION:Meets on the 2nd Wednesday at 6 PM\nNewcomers are always welcome! \nJanuary 11 The Nine by Jeffrey Toobin \nFebruary 8 Lincoln on the Verge by Ted Widmer \nMarch 8 Boys in the Boat by Daniel James Brown \nApril 12 Rough Magic by Lara Prior-Palmer \nMay 10 Team of Rivals by Doris Kearns Goodwin \nJune 14 The Planets by Dava Sobel \nJuly 12 Trail of Tears by John Ehle \nAugust 9 The Falcon Thief by Joshua Hammer
URL:https://otsegolibrary.org/event/non-fiction-book-club-13/
CATEGORIES:Book Club
END:VEVENT
BEGIN:VEVENT
DTSTART;TZID=America/Detroit:20230410T140000
DTEND;TZID=America/Detroit:20230410T140000
DTSTAMP:20260423T075559
CREATED:20221222T204111Z
LAST-MODIFIED:20221222T204144Z
UID:7692-1681135200-1681135200@otsegolibrary.org
SUMMARY:2nd Monday Book Club
DESCRIPTION:Meets on the 2nd Monday at 2 PM\nNewcomers are always welcome! \nJanuary 9 Mysterious Death of Miss Jane Austen by Lindsay Ashford \nFebruary 13 The Silent Patient by Alex Michaelides \nMarch 13 One Perfect Lie by Lisa Scottoline \nApril 10 The One Hundred Years of Lenni & Margot by Marianne Cronin \nMay 8 Dearest Mother & Dad by Christina Thompson \nJune 12 Gentleman In Moscow by Amor Towles \nJuly 10 Little Fires Everywhere by Celesste Ng \nAugust 14 The Orphan Train by Christina Baker Kline
URL:https://otsegolibrary.org/event/2nd-monday-book-club-17/
CATEGORIES:Book Club
END:VEVENT
BEGIN:VEVENT
DTSTART;TZID=America/Detroit:20230313T140000
DTEND;TZID=America/Detroit:20230313T140000
DTSTAMP:20260423T075559
CREATED:20221222T204043Z
LAST-MODIFIED:20221222T204043Z
UID:7690-1678716000-1678716000@otsegolibrary.org
SUMMARY:2nd Monday Book Club
DESCRIPTION:Meets on the 2nd Monday at 2 PM\nNewcomers are always welcome! \nJanuary 9 Mysterious Death of Miss Jane Austen by Lindsay Ashford \nFebruary 13 The Silent Patient by Alex Michaelides \nMarch 13 One Perfect Lie by Lisa Scottoline \nApril 10 The One Hundred Years of Lenni & Margot by Marianne Cronin \nMay 8 Dearest Mother & Dad by Christina Thompson \nJune 12 Gentleman In Moscow by Amor Towles \nJuly 10 Little Fires Everywhere by Celesste Ng \nAugust 14 The Orphan Train by Christina Baker Kline
URL:https://otsegolibrary.org/event/2nd-monday-book-club-16/
CATEGORIES:Book Club
END:VEVENT
BEGIN:VEVENT
DTSTART;TZID=America/Detroit:20230308T180000
DTEND;TZID=America/Detroit:20230308T180000
DTSTAMP:20260423T075559
CREATED:20221222T204808Z
LAST-MODIFIED:20221222T204808Z
UID:7704-1678298400-1678298400@otsegolibrary.org
SUMMARY:Non-Fiction Book Club
DESCRIPTION:Meets on the 2nd Wednesday at 6 PM\nNewcomers are always welcome! \nJanuary 11 The Nine by Jeffrey Toobin \nFebruary 8 Lincoln on the Verge by Ted Widmer \nMarch 8 Boys in the Boat by Daniel James Brown \nApril 12 Rough Magic by Lara Prior-Palmer \nMay 10 Team of Rivals by Doris Kearns Goodwin \nJune 14 The Planets by Dava Sobel \nJuly 12 Trail of Tears by John Ehle \nAugust 9 The Falcon Thief by Joshua Hammer
URL:https://otsegolibrary.org/event/non-fiction-book-club-12/
CATEGORIES:Book Club
END:VEVENT
BEGIN:VEVENT
DTSTART;TZID=America/Detroit:20230213T140000
DTEND;TZID=America/Detroit:20230213T140000
DTSTAMP:20260423T075559
CREATED:20221222T204002Z
LAST-MODIFIED:20221222T204012Z
UID:7688-1676296800-1676296800@otsegolibrary.org
SUMMARY:2nd Monday Book Club
DESCRIPTION:Meets on the 2nd Monday at 2 PM\nNewcomers are always welcome! \nJanuary 9 Mysterious Death of Miss Jane Austen by Lindsay Ashford \nFebruary 13 The Silent Patient by Alex Michaelides \nMarch 13 One Perfect Lie by Lisa Scottoline \nApril 10 The One Hundred Years of Lenni & Margot by Marianne Cronin \nMay 8 Dearest Mother & Dad by Christina Thompson \nJune 12 Gentleman In Moscow by Amor Towles \nJuly 10 Little Fires Everywhere by Celesste Ng \nAugust 14 The Orphan Train by Christina Baker Kline
URL:https://otsegolibrary.org/event/2nd-monday-book-club-15/
CATEGORIES:Book Club
END:VEVENT
BEGIN:VEVENT
DTSTART;TZID=America/Detroit:20230208T180000
DTEND;TZID=America/Detroit:20230208T180000
DTSTAMP:20260423T075559
CREATED:20221222T204743Z
LAST-MODIFIED:20221222T204743Z
UID:7702-1675879200-1675879200@otsegolibrary.org
SUMMARY:Non-Fiction Book Club
DESCRIPTION:Meets on the 2nd Wednesday at 6 PM\nNewcomers are always welcome! \nJanuary 11 The Nine by Jeffrey Toobin \nFebruary 8 Lincoln on the Verge by Ted Widmer \nMarch 8 Boys in the Boat by Daniel James Brown \nApril 12 Rough Magic by Lara Prior-Palmer \nMay 10 Team of Rivals by Doris Kearns Goodwin \nJune 14 The Planets by Dava Sobel \nJuly 12 Trail of Tears by John Ehle \nAugust 9 The Falcon Thief by Joshua Hammer
URL:https://otsegolibrary.org/event/non-fiction-book-club-11/
CATEGORIES:Book Club
END:VEVENT
BEGIN:VEVENT
DTSTART;TZID=America/Detroit:20230109T140000
DTEND;TZID=America/Detroit:20230109T140000
DTSTAMP:20260423T075559
CREATED:20221222T203932Z
LAST-MODIFIED:20221222T203932Z
UID:7686-1673272800-1673272800@otsegolibrary.org
SUMMARY:2nd Monday Book Club
DESCRIPTION:Meets on the 2nd Monday at 2 PM\nNewcomers are always welcome! \nJanuary 9 Mysterious Death of Miss Jane Austen by Lindsay Ashford \nFebruary 13 The Silent Patient by Alex Michaelides \nMarch 13 One Perfect Lie by Lisa Scottoline \nApril 10 The One Hundred Years of Lenni & Margot by Marianne Cronin \nMay 8 Dearest Mother & Dad by Christina Thompson \nJune 12 Gentleman In Moscow by Amor Towles \nJuly 10 Little Fires Everywhere by Celesste Ng \nAugust 14 The Orphan Train by Christina Baker Kline
URL:https://otsegolibrary.org/event/2nd-monday-book-club-14/
CATEGORIES:Book Club
END:VEVENT
BEGIN:VEVENT
DTSTART;TZID=America/Detroit:20221214T180000
DTEND;TZID=America/Detroit:20221214T180000
DTSTAMP:20260423T075559
CREATED:20220706T150038Z
LAST-MODIFIED:20220706T150038Z
UID:7016-1671040800-1671040800@otsegolibrary.org
SUMMARY:Non-Fiction Book Club
DESCRIPTION:Meets on the 2nd Wednesday at 6 PM – Newcomers are always welcome! \nJuly 13 Satch\, Dizzy\, & Rapid Robert by Timothy M. Gay \nAugust 10 The Escape Artists by Neal Bascomb \nSeptember 14 The Dynasty by Jeff Benedict \nOctober 12 The Cast Ridge by McKay Jenkins \nNovember 9 The Bully Pulpit by Doris Kearns \nDecember 14 Read A Book of Your Choice \nJanuary 11 The Nine by Jeffrey Toobin
URL:https://otsegolibrary.org/event/non-fiction-book-club-10/
CATEGORIES:Book Club
END:VEVENT
BEGIN:VEVENT
DTSTART;TZID=America/Detroit:20221212T140000
DTEND;TZID=America/Detroit:20221212T140000
DTSTAMP:20260423T075559
CREATED:20220705T195728Z
LAST-MODIFIED:20220705T195728Z
UID:7002-1670853600-1670853600@otsegolibrary.org
SUMMARY:2nd Monday Book Club
DESCRIPTION:Meets on the 2nd Monday at 2 PM – Newcomers are always welcome! \nAugust 8 Educated by Tara Westover \nSeptember 12 The Garden Collection by Christina Thompson \nOctober 17 Before We Were Yours by Lisa Wingate\n(Note: Date change due to library being closed) \nNovember 14 The All-Girl Filling Station’s Last Reunion by Fannie Flagg \nDecember 12 Read A Book of Your Choice\n\nJanuary 9 The Rubber Woman by Lindsay Ashford
URL:https://otsegolibrary.org/event/2nd-monday-book-club-12/
CATEGORIES:Book Club
END:VEVENT
BEGIN:VEVENT
DTSTART;TZID=America/Detroit:20221114T140000
DTEND;TZID=America/Detroit:20221114T140000
DTSTAMP:20260423T075559
CREATED:20220705T195626Z
LAST-MODIFIED:20220705T195626Z
UID:7000-1668434400-1668434400@otsegolibrary.org
SUMMARY:2nd Monday Book Club
DESCRIPTION:Meets on the 2nd Monday at 2 PM – Newcomers are always welcome! \nAugust 8 Educated by Tara Westover \nSeptember 12 The Garden Collection by Christina Thompson \nOctober 17 Before We Were Yours by Lisa Wingate\n(Note: Date change due to library being closed) \nNovember 14 The All-Girl Filling Station’s Last Reunion by Fannie Flagg \nDecember 12 Read A Book of Your Choice\n\nJanuary 9 The Rubber Woman by Lindsay Ashford
URL:https://otsegolibrary.org/event/2nd-monday-book-club-11/
CATEGORIES:Book Club
END:VEVENT
BEGIN:VEVENT
DTSTART;TZID=America/Detroit:20221109T180000
DTEND;TZID=America/Detroit:20221109T180000
DTSTAMP:20260423T075559
CREATED:20220706T150000Z
LAST-MODIFIED:20220706T150000Z
UID:7014-1668016800-1668016800@otsegolibrary.org
SUMMARY:Non-Fiction Book Club
DESCRIPTION:Meets on the 2nd Wednesday at 6 PM – Newcomers are always welcome! \nJuly 13 Satch\, Dizzy\, & Rapid Robert by Timothy M. Gay \nAugust 10 The Escape Artists by Neal Bascomb \nSeptember 14 The Dynasty by Jeff Benedict \nOctober 12 The Cast Ridge by McKay Jenkins \nNovember 9 The Bully Pulpit by Doris Kearns \nDecember 14 Read A Book of Your Choice \nJanuary 11 The Nine by Jeffrey Toobin
URL:https://otsegolibrary.org/event/non-fiction-book-club-9/
CATEGORIES:Book Club
END:VEVENT
BEGIN:VEVENT
DTSTART;TZID=America/Detroit:20221017T140000
DTEND;TZID=America/Detroit:20221017T140000
DTSTAMP:20260423T075559
CREATED:20220705T195548Z
LAST-MODIFIED:20220705T195548Z
UID:6996-1666015200-1666015200@otsegolibrary.org
SUMMARY:2nd Monday Book Club
DESCRIPTION:Meets on the 2nd Monday at 2 PM – Newcomers are always welcome! \nAugust 8 Educated by Tara Westover \nSeptember 12 The Garden Collection by Christina Thompson \nOctober 17 Before We Were Yours by Lisa Wingate\n(Note: Date change due to library being closed) \nNovember 14 The All-Girl Filling Station’s Last Reunion by Fannie Flagg \nDecember 12 Read A Book of Your Choice\n\nJanuary 9 The Rubber Woman by Lindsay Ashford
URL:https://otsegolibrary.org/event/2nd-monday-book-club-10/
CATEGORIES:Book Club
END:VEVENT
BEGIN:VEVENT
DTSTART;TZID=America/Detroit:20221012T180000
DTEND;TZID=America/Detroit:20221012T180000
DTSTAMP:20260423T075559
CREATED:20220706T145923Z
LAST-MODIFIED:20220706T145923Z
UID:7012-1665597600-1665597600@otsegolibrary.org
SUMMARY:Non-Fiction Book Club
DESCRIPTION:Meets on the 2nd Wednesday at 6 PM – Newcomers are always welcome! \nJuly 13 Satch\, Dizzy\, & Rapid Robert by Timothy M. Gay \nAugust 10 The Escape Artists by Neal Bascomb \nSeptember 14 The Dynasty by Jeff Benedict \nOctober 12 The Cast Ridge by McKay Jenkins \nNovember 9 The Bully Pulpit by Doris Kearns \nDecember 14 Read A Book of Your Choice \nJanuary 11 The Nine by Jeffrey Toobin
URL:https://otsegolibrary.org/event/non-fiction-book-club-8/
CATEGORIES:Book Club
END:VEVENT
BEGIN:VEVENT
DTSTART;TZID=America/Detroit:20220914T180000
DTEND;TZID=America/Detroit:20220914T180000
DTSTAMP:20260423T075559
CREATED:20220706T145828Z
LAST-MODIFIED:20220706T160416Z
UID:7010-1663178400-1663178400@otsegolibrary.org
SUMMARY:Non-Fiction Book Club
DESCRIPTION:Meets on the 2nd Wednesday at 6 PM – Newcomers are always welcome! \nJuly 13 Satch\, Dizzy\, & Rapid Robert by Timothy M. Gay \nAugust 10 The Escape Artists by Neal Bascomb \nSeptember 14 The Dynasty by Jeff Benedict \nOctober 12 The Cast Ridge by McKay Jenkins \nNovember 9 The Bully Pulpit by Doris Kearns \nDecember 14 Read A Book of Your Choice \nJanuary 11 The Nine by Jeffrey Toobin \n 
URL:https://otsegolibrary.org/event/non-fiction-book-club-7/
CATEGORIES:Book Club
END:VEVENT
BEGIN:VEVENT
DTSTART;TZID=America/Detroit:20220912T140000
DTEND;TZID=America/Detroit:20220912T140000
DTSTAMP:20260423T075559
CREATED:20220705T195317Z
LAST-MODIFIED:20220705T195520Z
UID:6994-1662991200-1662991200@otsegolibrary.org
SUMMARY:2nd Monday Book Club
DESCRIPTION:Meets on the 2nd Monday at 2 PM – Newcomers are always welcome! \nAugust 8 Educated by Tara Westover \nSeptember 12 The Garden Collection by Christina Thompson \nOctober 17 Before We Were Yours by Lisa Wingate\n(Note: Date change due to library being closed) \nNovember 14 The All-Girl Filling Station’s Last Reunion by Fannie Flagg \nDecember 12 Read A Book of Your Choice\n\nJanuary 9 The Rubber Woman by Lindsay Ashford
URL:https://otsegolibrary.org/event/2nd-monday-book-club-9/
CATEGORIES:Book Club
END:VEVENT
BEGIN:VEVENT
DTSTART;TZID=America/Detroit:20220810T180000
DTEND;TZID=America/Detroit:20220810T180000
DTSTAMP:20260423T075559
CREATED:20220706T143357Z
LAST-MODIFIED:20220706T160419Z
UID:7008-1660154400-1660154400@otsegolibrary.org
SUMMARY:Non-Fiction Book Club
DESCRIPTION:Meets on the 2nd Wednesday at 6 PM – Newcomers are always welcome! \nJuly 13 Satch\, Dizzy\, & Rapid Robert by Timothy M. Gay \nAugust 10 The Escape Artists by Neal Bascomb \nSeptember 14 The Dynasty by Jeff Benedict \nOctober 12 The Cast Ridge by McKay Jenkins \nNovember 9 The Bully Pulpit by Doris Kearns \nDecember 14 Read A Book of Your Choice \nJanuary 11 The Nine by Jeffrey Toobin \n 
URL:https://otsegolibrary.org/event/non-fiction-book-club-6/
CATEGORIES:Book Club
END:VEVENT
BEGIN:VEVENT
DTSTART;TZID=America/Detroit:20220808T140000
DTEND;TZID=America/Detroit:20220808T140000
DTSTAMP:20260423T075559
CREATED:20220705T195224Z
LAST-MODIFIED:20220705T195444Z
UID:6992-1659967200-1659967200@otsegolibrary.org
SUMMARY:2nd Monday Book Club
DESCRIPTION:Meets on the 2nd Monday at 2 PM – Newcomers are always welcome! \nAugust 8 Educated by Tara Westover \nSeptember 12 The Garden Collection by Christina Thompson \nOctober 17 Before We Were Yours by Lisa Wingate\n(Note: Date change due to library being closed) \nNovember 14 The All-Girl Filling Station’s Last Reunion by Fannie Flagg \nDecember 12 Read A Book of Your Choice\n\nJanuary 9 The Rubber Woman by Lindsay Ashford
URL:https://otsegolibrary.org/event/2nd-monday-book-club-8/
CATEGORIES:Book Club
END:VEVENT
BEGIN:VEVENT
DTSTART;TZID=America/Detroit:20220713T180000
DTEND;TZID=America/Detroit:20220713T180000
DTSTAMP:20260423T075559
CREATED:20220705T200100Z
LAST-MODIFIED:20220706T160421Z
UID:7006-1657735200-1657735200@otsegolibrary.org
SUMMARY:Non-Fiction Book Club
DESCRIPTION:Meets on the 2nd Wednesday at 6 PM – Newcomers are always welcome! \nJuly 13 Satch\, Dizzy\, & Rapid Robert by Timothy M. Gay \nAugust 10 The Escape Artists by Neal Bascomb \nSeptember 14 The Dynasty by Jeff Benedict \nOctober 12 The Cast Ridge by McKay Jenkins \nNovember 9 The Bully Pulpit by Doris Kearns \nDecember 14 Read A Book of Your Choice  \nJanuary 11 The Nine by Jeffrey Toobin
URL:https://otsegolibrary.org/event/non-fiction-book-club-5/
CATEGORIES:Book Club
END:VEVENT
BEGIN:VEVENT
DTSTART;TZID=America/Detroit:20220711T140000
DTEND;TZID=America/Detroit:20220711T140000
DTSTAMP:20260423T075559
CREATED:20220511T143748Z
LAST-MODIFIED:20220515T125648Z
UID:6517-1657548000-1657548000@otsegolibrary.org
SUMMARY:2nd Monday Book Club
DESCRIPTION:The 2nd Monday book club meets on the 2nd Monday of each month at 2 PM\nNewcomers are always welcome and encouraged to attend! \nJanuary 10 – Crazy Rich Asians by Kevin Kwan\nFebruary 14 – Girl Waits with Gun by Amy Stewart\nMarch 14 – The Weight of Ink by Rachael Kadish\nApril 11 – Salt to the Sea by Ruta Sepetys\nMay 9 – Tangerine by Christina Mangan\nJune 13 – All the Light We Cannot See by Anthony Doerr\nJuly 11 – The Husband’s Secret by Liane Moriarty\nAugust 8 – Educated by Tara Westover
URL:https://otsegolibrary.org/event/2nd-monday-book-club-7/
CATEGORIES:Book Club
END:VEVENT
END:VCALENDAR