BEGIN:VCALENDAR
VERSION:2.0
PRODID:-//Otsego District Public Library - ECPv6.15.20//NONSGML v1.0//EN
CALSCALE:GREGORIAN
METHOD:PUBLISH
X-ORIGINAL-URL:https://otsegolibrary.org
X-WR-CALDESC:Events for Otsego District Public Library
REFRESH-INTERVAL;VALUE=DURATION:PT1H
X-Robots-Tag:noindex
X-PUBLISHED-TTL:PT1H
BEGIN:VTIMEZONE
TZID:America/Detroit
BEGIN:DAYLIGHT
TZOFFSETFROM:-0500
TZOFFSETTO:-0400
TZNAME:EDT
DTSTART:20240310T070000
END:DAYLIGHT
BEGIN:STANDARD
TZOFFSETFROM:-0400
TZOFFSETTO:-0500
TZNAME:EST
DTSTART:20241103T060000
END:STANDARD
BEGIN:DAYLIGHT
TZOFFSETFROM:-0500
TZOFFSETTO:-0400
TZNAME:EDT
DTSTART:20250309T070000
END:DAYLIGHT
BEGIN:STANDARD
TZOFFSETFROM:-0400
TZOFFSETTO:-0500
TZNAME:EST
DTSTART:20251102T060000
END:STANDARD
BEGIN:DAYLIGHT
TZOFFSETFROM:-0500
TZOFFSETTO:-0400
TZNAME:EDT
DTSTART:20260308T070000
END:DAYLIGHT
BEGIN:STANDARD
TZOFFSETFROM:-0400
TZOFFSETTO:-0500
TZNAME:EST
DTSTART:20261101T060000
END:STANDARD
BEGIN:DAYLIGHT
TZOFFSETFROM:-0500
TZOFFSETTO:-0400
TZNAME:EDT
DTSTART:20270314T070000
END:DAYLIGHT
BEGIN:STANDARD
TZOFFSETFROM:-0400
TZOFFSETTO:-0500
TZNAME:EST
DTSTART:20271107T060000
END:STANDARD
END:VTIMEZONE
BEGIN:VEVENT
DTSTART;TZID=America/Detroit:20260413T140000
DTEND;TZID=America/Detroit:20260413T140000
DTSTAMP:20260423T045601
CREATED:20260102T185822Z
LAST-MODIFIED:20260413T174432Z
UID:12290-1776088800-1776088800@otsegolibrary.org
SUMMARY:2nd Monday Book Club
DESCRIPTION:The 2nd Monday Book Club meets on the 2nd Monday of each month at 2 PM.\nNew members are always welcome to attend one or all sessions! \nFebruary 9 \nThe Lost Bookshop by Evie Woods \nMarch 9 \nThe Housemaid by Frieda McFadden \nApril 13 \nBright Young Women by Jessica Knoll \nMay 11 \nFrozen River by Ariel Lawhon \nJune 8 \nAn Echo In Time by Boo Walker \nJuly 13 \nIron Lake by William Kent Krueger \nAugust 10 \nBack of Beyond by CJ Box
URL:https://otsegolibrary.org/event/2nd-monday-book-club-55/
CATEGORIES:Book Club
END:VEVENT
BEGIN:VEVENT
DTSTART;TZID=America/Detroit:20260409T180000
DTEND;TZID=America/Detroit:20260409T180000
DTSTAMP:20260423T045601
CREATED:20260102T202258Z
LAST-MODIFIED:20260102T202303Z
UID:12309-1775757600-1775757600@otsegolibrary.org
SUMMARY:Non-Fiction Book Club
DESCRIPTION:The Non-Fiction Book Club meets on the 2nd Thursday at 6 PM\nNew members are always welcome to attend one or all sessions! \nFebruary 12\nLions of the West by Robert Morgan \nMarch 12\nKalamazoo Gals by John Thomas \nApril 9\nMark Twain (1st Half) by Ron Chernow \nMay 14\nMark Twain (2nd Half) by Ron Chernow \nJune 11\nThe Underworld by Susan Casey \nJuly 9 \nThe Gales of November by John Bacon
URL:https://otsegolibrary.org/event/non-fiction-book-club-47/
CATEGORIES:Book Club
END:VEVENT
BEGIN:VEVENT
DTSTART;TZID=America/Detroit:20260312T180000
DTEND;TZID=America/Detroit:20260312T180000
DTSTAMP:20260423T045601
CREATED:20260102T195740Z
LAST-MODIFIED:20260102T202225Z
UID:12307-1773338400-1773338400@otsegolibrary.org
SUMMARY:Non-Fiction Book Club
DESCRIPTION:The Non-Fiction Book Club meets on the 2nd Thursday at 6 PM\nNew members are always welcome to attend one or all sessions! \nFebruary 12\nLions of the West by Robert Morgan \nMarch 12\nKalamazoo Gals by John Thomas \nApril 9\nMark Twain (1st Half) by Ron Chernow \nMay 14\nMark Twain (2nd Half) by Ron Chernow \nJune 11\nThe Underworld by Susan Casey \nJuly 9 \nThe Gales of November by John Bacon \n 
URL:https://otsegolibrary.org/event/non-fiction-book-club-46/
CATEGORIES:Book Club
END:VEVENT
BEGIN:VEVENT
DTSTART;TZID=America/Detroit:20260309T140000
DTEND;TZID=America/Detroit:20260309T140000
DTSTAMP:20260423T045601
CREATED:20260102T185753Z
LAST-MODIFIED:20260413T174624Z
UID:12288-1773064800-1773064800@otsegolibrary.org
SUMMARY:2nd Monday Book Club
DESCRIPTION:The 2nd Monday Book Club meets on the 2nd Monday of each month at 2 PM.\nNew members are always welcome to attend one or all sessions! \nFebruary 9 \nThe Lost Bookshop by Evie Woods \nMarch 9 \nThe Housemaid by Frieda McFadden \nApril 13 \nBright Young Women by Jessica Knoll \nMay 11 \nFrozen River by Ariel Lawhon \nJune 8 \nAn Echo In Time by Boo Walker \nJuly 13 \nIron Lake by William Kent Krueger \nAugust 10 \nBack of Beyond by CJ Box
URL:https://otsegolibrary.org/event/2nd-monday-book-club-54/
CATEGORIES:Book Club
END:VEVENT
BEGIN:VEVENT
DTSTART;TZID=America/Detroit:20260212T180000
DTEND;TZID=America/Detroit:20260212T180000
DTSTAMP:20260423T045601
CREATED:20260102T195643Z
LAST-MODIFIED:20260102T195713Z
UID:12303-1770919200-1770919200@otsegolibrary.org
SUMMARY:Non-Fiction Book Club
DESCRIPTION:The Non-Fiction Book Club meets on the 2nd Thursday at 6 PM\nNew members are always welcome to attend one or all sessions! \nFebruary 12\nLions of the West by Robert Morgan \nMarch 12\nKalamazoo Gals by John Thomas \nApril 9\nMark Twain (1st Half) by Ron Chernow \nMay 14\nMark Twain (2nd Half) by Ron Chernow \nJune 11\nThe Underworld by Susan Casey \nJuly 9 \nThe Gales of November by John Bacon \n 
URL:https://otsegolibrary.org/event/12303/
CATEGORIES:Book Club
END:VEVENT
BEGIN:VEVENT
DTSTART;TZID=America/Detroit:20260209T140000
DTEND;TZID=America/Detroit:20260209T140000
DTSTAMP:20260423T045601
CREATED:20260102T185725Z
LAST-MODIFIED:20260413T174729Z
UID:12286-1770645600-1770645600@otsegolibrary.org
SUMMARY:2nd Monday Book Club
DESCRIPTION:The 2nd Monday Book Club meets on the 2nd Monday of each month at 2 PM.\nNew members are always welcome to attend one or all sessions! \nFebruary 9 \nThe Lost Bookshop by Evie Woods \nMarch 9 \nThe Housemaid by Frieda McFadden \nApril 13 \nBright Young Women by Jessica Knoll \nMay 11 \nFrozen River by Ariel Lawhon \nJune 8 \nAn Echo In Time by Boo Walker \nJuly 13 \nIron Lake by William Kent Krueger \nAugust 10 \nBack of Beyond by CJ Box
URL:https://otsegolibrary.org/event/2nd-monday-book-club-46/
CATEGORIES:Book Club
END:VEVENT
BEGIN:VEVENT
DTSTART;TZID=America/Detroit:20260115T180000
DTEND;TZID=America/Detroit:20260115T180000
DTSTAMP:20260423T045601
CREATED:20250619T145525Z
LAST-MODIFIED:20260102T195024Z
UID:11686-1768500000-1768500000@otsegolibrary.org
SUMMARY:Non-Fiction Book Club
DESCRIPTION:The Non-Fiction Book Club meets on the 2nd Wednesday at 6 PM\nNew members are always welcome to attend one or all sessions! \nJuly 8 \nThe Wager by David Grann \nAugust 12 \nThe Words We Live By by Linda R. Monk \nSeptember 9 \nPerfect Strangers by Roseann Sdoia \nOctober 14 \nOn the Hippie Trail by Rick Steves \nNovember 11 \nJames Madison: A Life Reconsidered by Lynne Cheney \nDecember 9 \nThe Hummingbird’s Gift by Sy Montgomery \nJanuary 13 **\nKing: A Life by Jonathan Eig \n**PLEASE NOTE THAT BEGINNING JANUARY 2026 ALL MEETINGS WILL BE ON THE SECOND THURSDAY AT 6 PM
URL:https://otsegolibrary.org/event/non-fiction-book-club-45/
CATEGORIES:Book Club
END:VEVENT
BEGIN:VEVENT
DTSTART;TZID=America/Detroit:20260112T140000
DTEND;TZID=America/Detroit:20260112T140000
DTSTAMP:20260423T045601
CREATED:20250619T143701Z
LAST-MODIFIED:20250619T143704Z
UID:11671-1768226400-1768226400@otsegolibrary.org
SUMMARY:2nd Monday Book Club
DESCRIPTION:The 2nd Monday Book Club meets on the 2nd Monday of each month at 2 PM.\nNew members are always welcome to attend one or all sessions! \nJuly 14 \nSouth of Superior byEllen Airgood \nAugust 11 \nThe Hate You Give by Angie Thomas \nSeptember 8 \nKillers of the Flower Moon by David Grann \nOctober 13 \nCatering to Nobody by Diane Mott Davidson \nNovember 10 \nFirst Lie Wins by Ashley Elston \nDecember 8 \nHoliday Book of Choice \nJanuary 12 \nFunny Story by Emily Henry
URL:https://otsegolibrary.org/event/2nd-monday-book-club-53/
CATEGORIES:Book Club
END:VEVENT
BEGIN:VEVENT
DTSTART;TZID=America/Detroit:20251209T180000
DTEND;TZID=America/Detroit:20251209T180000
DTSTAMP:20260423T045601
CREATED:20250619T145050Z
LAST-MODIFIED:20250619T145459Z
UID:11684-1765303200-1765303200@otsegolibrary.org
SUMMARY:Non-Fiction Book Club
DESCRIPTION:The Non-Fiction Book Club meets on the 2nd Wednesday at 6 PM\nNew members are always welcome to attend one or all sessions! \nJuly 8 \nThe Wager by David Grann \nAugust 12 \nThe Words We Live By by Linda R. Monk \nSeptember 9 \nPerfect Strangers by Roseann Sdoia \nOctober 14 \nOn the Hippie Trail by Rick Steves \nNovember 11 \nJames Madison: A Life Reconsidered by Lynne Cheney \nDecember 9 \nThe Hummingbird’s Gift by Sy Montgomery \nJanuary 13 \nKing: A Life by Jonathan Eig
URL:https://otsegolibrary.org/event/non-fiction-book-club-44/
CATEGORIES:Book Club
END:VEVENT
BEGIN:VEVENT
DTSTART;TZID=America/Detroit:20251208T140000
DTEND;TZID=America/Detroit:20251208T140000
DTSTAMP:20260423T045601
CREATED:20250619T143533Z
LAST-MODIFIED:20250619T143635Z
UID:11669-1765202400-1765202400@otsegolibrary.org
SUMMARY:2nd Monday Book Club
DESCRIPTION:The 2nd Monday Book Club meets on the 2nd Monday of each month at 2 PM.\nNew members are always welcome to attend one or all sessions! \nJuly 14 \nSouth of Superior byEllen Airgood \nAugust 11 \nThe Hate You Give by Angie Thomas \nSeptember 8 \nKillers of the Flower Moon by David Grann \nOctober 13 \nCatering to Nobody by Diane Mott Davidson \nNovember 10 \nFirst Lie Wins by Ashley Elston \nDecember 8 \nHoliday Book of Choice \nJanuary 12 \nFunny Story by Emily Henry
URL:https://otsegolibrary.org/event/2nd-monday-book-club-52/
CATEGORIES:Book Club
END:VEVENT
BEGIN:VEVENT
DTSTART;TZID=America/Detroit:20251111T180000
DTEND;TZID=America/Detroit:20251111T180000
DTSTAMP:20260423T045601
CREATED:20250619T145020Z
LAST-MODIFIED:20250619T145023Z
UID:11682-1762884000-1762884000@otsegolibrary.org
SUMMARY:Non-Fiction Book Club
DESCRIPTION:The Non-Fiction Book Club meets on the 2nd Wednesday at 6 PM\nNew members are always welcome to attend one or all sessions! \nJuly 8 \nThe Wager by David Grann \nAugust 12 \nThe Words We Live By by Linda R. Monk \nSeptember 9 \nPerfect Strangers by Roseann Sdoia \nOctober 14 \nOn the Hippie Trail by Rick Steves \nNovember 11 \nJames Madison: A Life Reconsidered by Lynne Cheney \nDecember 9 \nThe Hummingbird’s Gift by Sy Montgomery \nJanuary 13 \nKing: A Life by Jonathan Eig
URL:https://otsegolibrary.org/event/non-fiction-book-club-43/
CATEGORIES:Book Club
END:VEVENT
BEGIN:VEVENT
DTSTART;TZID=America/Detroit:20251110T140000
DTEND;TZID=America/Detroit:20251110T140000
DTSTAMP:20260423T045601
CREATED:20250619T143503Z
LAST-MODIFIED:20250619T143505Z
UID:11667-1762783200-1762783200@otsegolibrary.org
SUMMARY:2nd Monday Book Club
DESCRIPTION:The 2nd Monday Book Club meets on the 2nd Monday of each month at 2 PM.\nNew members are always welcome to attend one or all sessions! \nJuly 14 \nSouth of Superior byEllen Airgood \nAugust 11 \nThe Hate You Give by Angie Thomas \nSeptember 8 \nKillers of the Flower Moon by David Grann \nOctober 13 \nCatering to Nobody by Diane Mott Davidson \nNovember 10 \nFirst Lie Wins by Ashley Elston \nDecember 8 \nHoliday Book of Choice \nJanuary 12 \nFunny Story by Emily Henry
URL:https://otsegolibrary.org/event/2nd-monday-book-club-51/
CATEGORIES:Book Club
END:VEVENT
BEGIN:VEVENT
DTSTART;TZID=America/Detroit:20251014T180000
DTEND;TZID=America/Detroit:20251014T180000
DTSTAMP:20260423T045601
CREATED:20250619T144734Z
LAST-MODIFIED:20250619T144950Z
UID:11680-1760464800-1760464800@otsegolibrary.org
SUMMARY:Non-Fiction Book Club
DESCRIPTION:The Non-Fiction Book Club meets on the 2nd Wednesday at 6 PM\nNew members are always welcome to attend one or all sessions! \nJuly 8 \nThe Wager by David Grann \nAugust 12 \nThe Words We Live By by Linda R. Monk \nSeptember 9 \nPerfect Strangers by Roseann Sdoia \nOctober 14 \nOn the Hippie Trail by Rick Steves \nNovember 11 \nJames Madison: A Life Reconsidered by Lynne Cheney \nDecember 9 \nThe Hummingbird’s Gift by Sy Montgomery \nJanuary 13 \nKing: A Life by Jonathan Eig
URL:https://otsegolibrary.org/event/non-fiction-book-club-39/
CATEGORIES:Book Club
END:VEVENT
BEGIN:VEVENT
DTSTART;TZID=America/Detroit:20251013T140000
DTEND;TZID=America/Detroit:20251013T140000
DTSTAMP:20260423T045601
CREATED:20250619T143239Z
LAST-MODIFIED:20250619T143412Z
UID:11665-1760364000-1760364000@otsegolibrary.org
SUMMARY:2nd Monday Book Club
DESCRIPTION:The 2nd Monday Book Club meets on the 2nd Monday of each month at 2 PM.\nNew members are always welcome to attend one or all sessions! \nJuly 14 \nSouth of Superior byEllen Airgood \nAugust 11 \nThe Hate You Give by Angie Thomas \nSeptember 8 \nKillers of the Flower Moon by David Grann \nOctober 13 \nCatering to Nobody by Diane Mott Davidson \nNovember 10 \nFirst Lie Wins by Ashley Elston \nDecember 8 \nHoliday Book of Choice \nJanuary 12 \nFunny Story by Emily Henry
URL:https://otsegolibrary.org/event/2nd-monday-book-club-50/
CATEGORIES:Book Club
END:VEVENT
BEGIN:VEVENT
DTSTART;TZID=America/Detroit:20250915T140000
DTEND;TZID=America/Detroit:20250915T140000
DTSTAMP:20260423T045601
CREATED:20250619T142901Z
LAST-MODIFIED:20250619T142926Z
UID:11663-1757944800-1757944800@otsegolibrary.org
SUMMARY:2nd Monday Book Club
DESCRIPTION:The 2nd Monday Book Club meets on the 2nd Monday of each month at 2 PM.\nNew members are always welcome to attend one or all sessions! \nJuly 14 \nSouth of Superior byEllen Airgood \nAugust 11 \nThe Hate You Give by Angie Thomas \nSeptember 8 \nKillers of the Flower Moon by David Grann \nOctober 13 \nCatering to Nobody by Diane Mott Davidson \nNovember 10 \nFirst Lie Wins by Ashley Elston \nDecember 8 \nHoliday Book of Choice \nJanuary 12 \nFunny Story by Emily Henry
URL:https://otsegolibrary.org/event/2nd-monday-book-club-49/
CATEGORIES:Book Club
END:VEVENT
BEGIN:VEVENT
DTSTART;TZID=America/Detroit:20250909T180000
DTEND;TZID=America/Detroit:20250909T180000
DTSTAMP:20260423T045601
CREATED:20250619T144336Z
LAST-MODIFIED:20250619T144640Z
UID:11677-1757440800-1757440800@otsegolibrary.org
SUMMARY:Non-Fiction Book Club
DESCRIPTION:The Non-Fiction Book Club meets on the 2nd Wednesday at 6 PM\nNew members are always welcome to attend one or all sessions! \nJuly 8 \nThe Wager by David Grann \nAugust 12 \nThe Words We Live By by Linda R. Monk \nSeptember 9 \nPerfect Strangers by Roseann Sdoia \nOctober 14 \nOn the Hippie Trail by Rick Steves \nNovember 11 \nJames Madison: A Life Reconsidered by Lynne Cheney \nDecember 9 \nThe Hummingbird’s Gift by Sy Montgomery \nJanuary 13 \nKing: A Life by Jonathan Eig
URL:https://otsegolibrary.org/event/non-fiction-book-club-42/
CATEGORIES:Book Club
END:VEVENT
BEGIN:VEVENT
DTSTART;TZID=America/Detroit:20250812T180000
DTEND;TZID=America/Detroit:20250812T180000
DTSTAMP:20260423T045601
CREATED:20250619T144235Z
LAST-MODIFIED:20250619T144301Z
UID:11675-1755021600-1755021600@otsegolibrary.org
SUMMARY:Non-Fiction Book Club
DESCRIPTION:The Non-Fiction Book Club meets on the 2nd Wednesday at 6 PM\nNew members are always welcome to attend one or all sessions! \nJuly 8 \nThe Wager by David Grann \nAugust 12 \nThe Words We Live By by Linda R. Monk \nSeptember 9 \nPerfect Strangers by Roseann Sdoia \nOctober 14 \nOn the Hippie Trail by Rick Steves \nNovember 11 \nJames Madison: A Life Reconsidered by Lynne Cheney \nDecember 9 \nThe Hummingbird’s Gift by Sy Montgomery \nJanuary 13 \nKing: A Life by Jonathan Eig
URL:https://otsegolibrary.org/event/non-fiction-book-club-41/
CATEGORIES:Book Club
END:VEVENT
BEGIN:VEVENT
DTSTART;TZID=America/Detroit:20250811T140000
DTEND;TZID=America/Detroit:20250811T140000
DTSTAMP:20260423T045601
CREATED:20241226T190806Z
LAST-MODIFIED:20241226T190808Z
UID:10618-1754920800-1754920800@otsegolibrary.org
SUMMARY:2nd Monday Book Club
DESCRIPTION:Meets on the 2nd Monday at 2 PM \nJanuary 13 \nEggsecutive Orders by Julie Hyzy \nFebruary 10 \nWards of Faerie by Terry Brooks \nMarch 10 \nSanibel Flats by Randy Wayne White \nApril 14 \nOne True Loves by Taylor Jenkins Reid \nMay 12 \nThe Dollhouse by Fiona Davis \nJune 9 \nThis Tender Land by William Kent Krueger \nJuly 14 \nSouth of Superior by Ellen Airgood \nAugust 11 \nThe Hate You Give by Angie Thomas
URL:https://otsegolibrary.org/event/2nd-monday-book-club-47/
CATEGORIES:Book Club
END:VEVENT
BEGIN:VEVENT
DTSTART;TZID=America/Detroit:20250714T140000
DTEND;TZID=America/Detroit:20250714T140000
DTSTAMP:20260423T045601
CREATED:20250619T142524Z
LAST-MODIFIED:20250619T142813Z
UID:11658-1752501600-1752501600@otsegolibrary.org
SUMMARY:2nd Monday Book Club
DESCRIPTION:The 2nd Monday Book Club meets on the 2nd Monday of each month at 2 PM.\nNew members are always welcome to attend one or all sessions! \nJuly 14 \nSouth of Superior byEllen Airgood \nAugust 11 \nThe Hate You Give by Angie Thomas \nSeptember 8 \nKillers of the Flower Moon by David Grann \nOctober 13 \nCatering to Nobody by Diane Mott Davidson \nNovember 10 \nFirst Lie Wins by Ashley Elston \nDecember 8 \nHoliday Book of Choice \nJanuary 12 \nFunny Story by Emily Henry
URL:https://otsegolibrary.org/event/2nd-monday-book-club-48/
CATEGORIES:Book Club
END:VEVENT
BEGIN:VEVENT
DTSTART;TZID=America/Detroit:20250708T180000
DTEND;TZID=America/Detroit:20250708T180000
DTSTAMP:20260423T045601
CREATED:20250619T144203Z
LAST-MODIFIED:20250619T144210Z
UID:11673-1751997600-1751997600@otsegolibrary.org
SUMMARY:Non-Fiction Book Club
DESCRIPTION:The Non-Fiction Book Club meets on the 2nd Wednesday at 6 PM\nNew members are always welcome to attend one or all sessions! \nJuly 8 \nThe Wager by David Grann \nAugust 12 \nThe Words We Live By by Linda R. Monk \nSeptember 9 \nPerfect Strangers by Roseann Sdoia \nOctober 14 \nOn the Hippie Trail by Rick Steves \nNovember 11 \nJames Madison: A Life Reconsidered by Lynne Cheney \nDecember 9 \nThe Hummingbird’s Gift by Sy Montgomery \nJanuary 13 \nKing: A Life by Jonathan Eig
URL:https://otsegolibrary.org/event/non-fiction-book-club-40/
CATEGORIES:Book Club
END:VEVENT
BEGIN:VEVENT
DTSTART;TZID=America/Detroit:20250610T180000
DTEND;TZID=America/Detroit:20250610T180000
DTSTAMP:20260423T045601
CREATED:20241226T194759Z
LAST-MODIFIED:20250320T174211Z
UID:10628-1749578400-1749578400@otsegolibrary.org
SUMMARY:Non-Fiction Book Club
DESCRIPTION:Meets on the 2nd Wednesday at 6 PM\nNow meeting on the 2nd Tuesday beginning April 8 \nJanuary 8 \nKiller of the Flower Moon by David Grann \nFebruary 12\nFather Lincoln by Alan Manning \nMarch 12 \nThe Forgotten Man by Amity Shlaes \nApril 8 \nOf Time and Turtles by Sy Montgomery \nMay 13\nKilling Crazy Horse byBill O’Reilly \nJune 10\nThe Demon of Unrest byErik Larson \nJuly 8\nThe Wager by David Grann
URL:https://otsegolibrary.org/event/non-fiction-book-club-38/
CATEGORIES:Book Club
END:VEVENT
BEGIN:VEVENT
DTSTART;TZID=America/Detroit:20250609T140000
DTEND;TZID=America/Detroit:20250609T140000
DTSTAMP:20260423T045601
CREATED:20241226T190528Z
LAST-MODIFIED:20241226T190656Z
UID:10613-1749477600-1749477600@otsegolibrary.org
SUMMARY:2nd Monday Book Club
DESCRIPTION:Meets on the 2nd Monday at 2 PM \nJanuary 13 \nEggsecutive Orders by Julie Hyzy \nFebruary 10 \nWards of Faerie by Terry Brooks \nMarch 10 \nSanibel Flats by Randy Wayne White \nApril 14 \nOne True Loves by Taylor Jenkins Reid \nMay 12 \nThe Dollhouse by Fiona Davis \nJune 9 \nThis Tender Land by William Kent Krueger \nJuly 14 \nSouth of Superior by Ellen Airgood \nAugust 11 \nThe Hate You Give by Angie Thomas
URL:https://otsegolibrary.org/event/2nd-monday-book-club-45/
CATEGORIES:Book Club
END:VEVENT
BEGIN:VEVENT
DTSTART;TZID=America/Detroit:20250513T180000
DTEND;TZID=America/Detroit:20250513T180000
DTSTAMP:20260423T045601
CREATED:20241226T192607Z
LAST-MODIFIED:20250320T174206Z
UID:10626-1747159200-1747159200@otsegolibrary.org
SUMMARY:Non-Fiction Book Club
DESCRIPTION:Meets on the 2nd Wednesday at 6 PM\nNow meeting on the 2nd Tuesday beginning April 8 \nJanuary 8 \nKiller of the Flower Moon by David Grann \nFebruary 12\nFather Lincoln by Alan Manning \nMarch 12 \nThe Forgotten Man by Amity Shlaes \nApril 8 \nOf Time and Turtles by Sy Montgomery \nMay 13\nKilling Crazy Horse byBill O’Reilly \nJune 10\nThe Demon of Unrest byErik Larson \nJuly 8\nThe Wager by David Grann
URL:https://otsegolibrary.org/event/non-fiction-book-club-37/
CATEGORIES:Book Club
END:VEVENT
BEGIN:VEVENT
DTSTART;TZID=America/Detroit:20250512T130000
DTEND;TZID=America/Detroit:20250512T130000
DTSTAMP:20260423T045601
CREATED:20241226T190430Z
LAST-MODIFIED:20241226T190434Z
UID:10611-1747054800-1747054800@otsegolibrary.org
SUMMARY:2nd Monday Book Club
DESCRIPTION:Meets on the 2nd Monday at 2 PM \nJanuary 13 \nEggsecutive Orders by Julie Hyzy \nFebruary 10 \nWards of Faerie by Terry Brooks \nMarch 10 \nSanibel Flats by Randy Wayne White \nApril 14 \nOne True Loves by Taylor Jenkins Reid \nMay 12 \nThe Dollhouse by Fiona Davis \nJune 9 \nThis Tender Land by William Kent Krueger \nJuly 14 \nSouth of Superior by Ellen Airgood \nAugust 11 \nThe Hate You Give by Angie Thomas
URL:https://otsegolibrary.org/event/2nd-monday-book-club-44/
CATEGORIES:Book Club
END:VEVENT
BEGIN:VEVENT
DTSTART;TZID=America/Detroit:20250414T140000
DTEND;TZID=America/Detroit:20250414T140000
DTSTAMP:20260423T045601
CREATED:20241226T185956Z
LAST-MODIFIED:20241226T190138Z
UID:10609-1744639200-1744639200@otsegolibrary.org
SUMMARY:2nd Monday Book Club
DESCRIPTION:Meets on the 2nd Monday at 2 PM \nJanuary 13 \nEggsecutive Orders by Julie Hyzy \nFebruary 10 \nWards of Faerie by Terry Brooks \nMarch 10 \nSanibel Flats by Randy Wayne White \nApril 14 \nOne True Loves by Taylor Jenkins Reid \nMay 12 \nThe Dollhouse by Fiona Davis \nJune 9 \nThis Tender Land by William Kent Krueger \nJuly 14 \nSouth of Superior by Ellen Airgood \nAugust 11 \nThe Hate You Give by Angie Thomas
URL:https://otsegolibrary.org/event/2nd-monday-book-club-43/
CATEGORIES:Book Club
END:VEVENT
BEGIN:VEVENT
DTSTART;TZID=America/Detroit:20250408T180000
DTEND;TZID=America/Detroit:20250408T180000
DTSTAMP:20260423T045601
CREATED:20241226T192521Z
LAST-MODIFIED:20250320T174201Z
UID:10624-1744135200-1744135200@otsegolibrary.org
SUMMARY:Non-Fiction Book Club
DESCRIPTION:Meets on the 2nd Wednesday at 6 PM\nNow meeting on the 2nd Tuesday beginning April 8 \nJanuary 8 \nKiller of the Flower Moon by David Grann \nFebruary 12\nFather Lincoln by Alan Manning \nMarch 12 \nThe Forgotten Man by Amity Shlaes \nApril 8 \nOf Time and Turtles by Sy Montgomery \nMay 13\nKilling Crazy Horse byBill O’Reilly \nJune 10\nThe Demon of Unrest byErik Larson \nJuly 8\nThe Wager by David Grann
URL:https://otsegolibrary.org/event/non-fiction-book-club-36/
CATEGORIES:Book Club
END:VEVENT
BEGIN:VEVENT
DTSTART;TZID=America/Detroit:20250312T180000
DTEND;TZID=America/Detroit:20250312T180000
DTSTAMP:20260423T045601
CREATED:20241226T192450Z
LAST-MODIFIED:20241226T192453Z
UID:10622-1741802400-1741802400@otsegolibrary.org
SUMMARY:Non-Fiction Book Club
DESCRIPTION:Meets on the 2nd Wednesday at 6 PM \nJanuary 8 \nKiller of the Flower Moon by David Grann \nFebruary 12\nFather Lincoln by Alan Manning \nMarch 12 \nThe Forgotten Man by Amity Shlaes \nApril 9 \nOf Time and Turtles by Sy Montgomery \nMay 14 \nKilling Crazy Horse byBill O’Reilly \nJune 11\nThe Demon of Unrest byErik Larson \nJuly 9 \nThe Wager by David Grann
URL:https://otsegolibrary.org/event/non-fiction-book-club-35/
CATEGORIES:Book Club
END:VEVENT
BEGIN:VEVENT
DTSTART;TZID=America/Detroit:20250310T140000
DTEND;TZID=America/Detroit:20250310T140000
DTSTAMP:20260423T045601
CREATED:20241226T185923Z
LAST-MODIFIED:20241226T190136Z
UID:10607-1741615200-1741615200@otsegolibrary.org
SUMMARY:2nd Monday Book Club
DESCRIPTION:Meets on the 2nd Monday at 2 PM \nJanuary 13 \nEggsecutive Orders by Julie Hyzy \nFebruary 10 \nWards of Faerie by Terry Brooks \nMarch 10 \nSanibel Flats by Randy Wayne White \nApril 14 \nOne True Loves by Taylor Jenkins Reid \nMay 12 \nThe Dollhouse by Fiona Davis \nJune 9 \nThis Tender Land by William Kent Krueger \nJuly 14 \nSouth of Superior by Ellen Airgood \nAugust 11 \nThe Hate You Give by Angie Thomas
URL:https://otsegolibrary.org/event/2nd-monday-book-club-42/
CATEGORIES:Book Club
END:VEVENT
BEGIN:VEVENT
DTSTART;TZID=America/Detroit:20250212T180000
DTEND;TZID=America/Detroit:20250212T180000
DTSTAMP:20260423T045601
CREATED:20241226T191059Z
LAST-MODIFIED:20241226T192348Z
UID:10620-1739383200-1739383200@otsegolibrary.org
SUMMARY:Non-Fiction Book Club
DESCRIPTION:Meets on the 2nd Wednesday at 6 PM \nJanuary 8 \nKiller of the Flower Moon by David Grann \nFebruary 12\nFather Lincoln by Alan Manning \nMarch 12 \nThe Forgotten Man by Amity Shlaes \nApril 9 \nOf Time and Turtles by Sy Montgomery \nMay 14 \nKilling Crazy Horse byBill O’Reilly \nJune 11\nThe Demon of Unrest byErik Larson \nJuly 9 \nThe Wager by David Grann
URL:https://otsegolibrary.org/event/non-fiction-book-club-34/
CATEGORIES:Book Club
END:VEVENT
BEGIN:VEVENT
DTSTART;TZID=America/Detroit:20250210T140000
DTEND;TZID=America/Detroit:20250210T140000
DTSTAMP:20260423T045601
CREATED:20241226T185853Z
LAST-MODIFIED:20241226T190134Z
UID:10605-1739196000-1739196000@otsegolibrary.org
SUMMARY:2nd Monday Book Club
DESCRIPTION:Meets on the 2nd Monday at 2 PM \nJanuary 13 \nEggsecutive Orders by Julie Hyzy \nFebruary 10 \nWards of Faerie by Terry Brooks \nMarch 10 \nSanibel Flats by Randy Wayne White \nApril 14 \nOne True Loves by Taylor Jenkins Reid \nMay 12 \nThe Dollhouse by Fiona Davis \nJune 9 \nThis Tender Land by William Kent Krueger \nJuly 14 \nSouth of Superior by Ellen Airgood \nAugust 11 \nThe Hate You Give by Angie Thomas
URL:https://otsegolibrary.org/event/2nd-monday-book-club-41/
CATEGORIES:Book Club
END:VEVENT
END:VCALENDAR