BEGIN:VCALENDAR
VERSION:2.0
PRODID:-//Otsego District Public Library - ECPv6.15.20//NONSGML v1.0//EN
CALSCALE:GREGORIAN
METHOD:PUBLISH
X-ORIGINAL-URL:https://otsegolibrary.org
X-WR-CALDESC:Events for Otsego District Public Library
REFRESH-INTERVAL;VALUE=DURATION:PT1H
X-Robots-Tag:noindex
X-PUBLISHED-TTL:PT1H
BEGIN:VTIMEZONE
TZID:America/Detroit
BEGIN:DAYLIGHT
TZOFFSETFROM:-0500
TZOFFSETTO:-0400
TZNAME:EDT
DTSTART:20250309T070000
END:DAYLIGHT
BEGIN:STANDARD
TZOFFSETFROM:-0400
TZOFFSETTO:-0500
TZNAME:EST
DTSTART:20251102T060000
END:STANDARD
BEGIN:DAYLIGHT
TZOFFSETFROM:-0500
TZOFFSETTO:-0400
TZNAME:EDT
DTSTART:20260308T070000
END:DAYLIGHT
BEGIN:STANDARD
TZOFFSETFROM:-0400
TZOFFSETTO:-0500
TZNAME:EST
DTSTART:20261101T060000
END:STANDARD
BEGIN:DAYLIGHT
TZOFFSETFROM:-0500
TZOFFSETTO:-0400
TZNAME:EDT
DTSTART:20270314T070000
END:DAYLIGHT
BEGIN:STANDARD
TZOFFSETFROM:-0400
TZOFFSETTO:-0500
TZNAME:EST
DTSTART:20271107T060000
END:STANDARD
END:VTIMEZONE
BEGIN:VEVENT
DTSTART;TZID=America/Detroit:20260112T140000
DTEND;TZID=America/Detroit:20260112T140000
DTSTAMP:20260423T074736
CREATED:20250619T143701Z
LAST-MODIFIED:20250619T143704Z
UID:11671-1768226400-1768226400@otsegolibrary.org
SUMMARY:2nd Monday Book Club
DESCRIPTION:The 2nd Monday Book Club meets on the 2nd Monday of each month at 2 PM.\nNew members are always welcome to attend one or all sessions! \nJuly 14 \nSouth of Superior byEllen Airgood \nAugust 11 \nThe Hate You Give by Angie Thomas \nSeptember 8 \nKillers of the Flower Moon by David Grann \nOctober 13 \nCatering to Nobody by Diane Mott Davidson \nNovember 10 \nFirst Lie Wins by Ashley Elston \nDecember 8 \nHoliday Book of Choice \nJanuary 12 \nFunny Story by Emily Henry
URL:https://otsegolibrary.org/event/2nd-monday-book-club-53/
CATEGORIES:Book Club
END:VEVENT
END:VCALENDAR