BEGIN:VCALENDAR
VERSION:2.0
PRODID:-//Otsego District Public Library - ECPv6.15.20//NONSGML v1.0//EN
CALSCALE:GREGORIAN
METHOD:PUBLISH
X-WR-CALNAME:Otsego District Public Library
X-ORIGINAL-URL:https://otsegolibrary.org
X-WR-CALDESC:Events for Otsego District Public Library
REFRESH-INTERVAL;VALUE=DURATION:PT1H
X-Robots-Tag:noindex
X-PUBLISHED-TTL:PT1H
BEGIN:VTIMEZONE
TZID:America/Detroit
BEGIN:DAYLIGHT
TZOFFSETFROM:-0500
TZOFFSETTO:-0400
TZNAME:EDT
DTSTART:20250309T070000
END:DAYLIGHT
BEGIN:STANDARD
TZOFFSETFROM:-0400
TZOFFSETTO:-0500
TZNAME:EST
DTSTART:20251102T060000
END:STANDARD
BEGIN:DAYLIGHT
TZOFFSETFROM:-0500
TZOFFSETTO:-0400
TZNAME:EDT
DTSTART:20260308T070000
END:DAYLIGHT
BEGIN:STANDARD
TZOFFSETFROM:-0400
TZOFFSETTO:-0500
TZNAME:EST
DTSTART:20261101T060000
END:STANDARD
BEGIN:DAYLIGHT
TZOFFSETFROM:-0500
TZOFFSETTO:-0400
TZNAME:EDT
DTSTART:20270314T070000
END:DAYLIGHT
BEGIN:STANDARD
TZOFFSETFROM:-0400
TZOFFSETTO:-0500
TZNAME:EST
DTSTART:20271107T060000
END:STANDARD
END:VTIMEZONE
BEGIN:VEVENT
DTSTART;TZID=America/Detroit:20260417T090000
DTEND;TZID=America/Detroit:20260417T120000
DTSTAMP:20260421T172541
CREATED:20251226T195349Z
LAST-MODIFIED:20251226T195409Z
UID:12234-1776416400-1776427200@otsegolibrary.org
SUMMARY:Creative Café - Clay Earrings with Sheri Pott
DESCRIPTION:Creative Café – Clay Earrings with Sheri Pott\, @thelittlethingsbringjoy (Instagram) \nFriday\, April 17 from 9 – Noon or Saturday\, April 18 from 9 – Noon\n(A third class will open Saturday\, April 18 from 1 – 4 PM if these classes fill.) \nLearn beginner-friendly techniques to make clay earrings. Participants will be able to create two pairs of handmade clay earrings from start to finish! You will choose from a variety of shapes and colors. You can find Sheri’s earrings and class information at Brookside Farms and Joy Farms. \nClass size is limited to 16 participants (ADULTS ONLY). The cost is $35 and pre-registration is required (nonrefundable). The cost covers the instruction of class\, your finished products\, and refreshments.
URL:https://otsegolibrary.org/event/creative-cafe-clay-earrings-with-sheri-pott/
CATEGORIES:Adult
END:VEVENT
BEGIN:VEVENT
DTSTART;TZID=America/Detroit:20260417T100000
DTEND;TZID=America/Detroit:20260417T100000
DTSTAMP:20260421T172541
CREATED:20251230T173425Z
LAST-MODIFIED:20251230T180749Z
UID:12259-1776420000-1776420000@otsegolibrary.org
SUMMARY:Coffee and Conversations
DESCRIPTION:Coffee and Conversations meets on the 3rd Friday @ 10 AM\nJanuary 16\, February 20\, March 20\, April 17\, and May 15 \nLet’s build community by sharing coffee or tea\, treats\, and conversations!
URL:https://otsegolibrary.org/event/coffee-and-conversations-18/
CATEGORIES:Adult
END:VEVENT
BEGIN:VEVENT
DTSTART;TZID=America/Detroit:20260417T130000
DTEND;TZID=America/Detroit:20260417T130000
DTSTAMP:20260421T172541
CREATED:20260102T182410Z
LAST-MODIFIED:20260102T182645Z
UID:12278-1776430800-1776430800@otsegolibrary.org
SUMMARY:Get Crafty: Make and Take Crafts for Adults
DESCRIPTION:Get Crafty Make and Take Crafts for Adults meets on the 3rd Friday @ 1 PM\nJanuary 16\, February 20\, March 20\, April 17\, and May 22\n(Please Note: the May meetup is the 4th Friday) \nJoin your friends each month to create a fun make-and-take project. Upcoming crafts will highlight winter and spring themes. Enjoy hands on instruction while you create a craft to display at home. \nNote: These are ADULT ONLY events.
URL:https://otsegolibrary.org/event/get-crafty-make-and-take-crafts-for-adults-8/
CATEGORIES:Adult
END:VEVENT
END:VCALENDAR