BEGIN:VCALENDAR
VERSION:2.0
PRODID:-//Otsego District Public Library - ECPv6.15.20//NONSGML v1.0//EN
CALSCALE:GREGORIAN
METHOD:PUBLISH
X-ORIGINAL-URL:https://otsegolibrary.org
X-WR-CALDESC:Events for Otsego District Public Library
REFRESH-INTERVAL;VALUE=DURATION:PT1H
X-Robots-Tag:noindex
X-PUBLISHED-TTL:PT1H
BEGIN:VTIMEZONE
TZID:America/Detroit
BEGIN:DAYLIGHT
TZOFFSETFROM:-0500
TZOFFSETTO:-0400
TZNAME:EDT
DTSTART:20250309T070000
END:DAYLIGHT
BEGIN:STANDARD
TZOFFSETFROM:-0400
TZOFFSETTO:-0500
TZNAME:EST
DTSTART:20251102T060000
END:STANDARD
BEGIN:DAYLIGHT
TZOFFSETFROM:-0500
TZOFFSETTO:-0400
TZNAME:EDT
DTSTART:20260308T070000
END:DAYLIGHT
BEGIN:STANDARD
TZOFFSETFROM:-0400
TZOFFSETTO:-0500
TZNAME:EST
DTSTART:20261101T060000
END:STANDARD
BEGIN:DAYLIGHT
TZOFFSETFROM:-0500
TZOFFSETTO:-0400
TZNAME:EDT
DTSTART:20270314T070000
END:DAYLIGHT
BEGIN:STANDARD
TZOFFSETFROM:-0400
TZOFFSETTO:-0500
TZNAME:EST
DTSTART:20271107T060000
END:STANDARD
END:VTIMEZONE
BEGIN:VEVENT
DTSTART;TZID=America/Detroit:20260403T000000
DTEND;TZID=America/Detroit:20260403T235959
DTSTAMP:20260421T173017
CREATED:20260218T181858Z
LAST-MODIFIED:20260218T181858Z
UID:12690-1775174400-1775260799@otsegolibrary.org
SUMMARY:AARP FREE Tax-Aide
DESCRIPTION:AARP will be at the library for Friday ONLY Appointments \nFebruary 6 – April 10 (No Availability February 20 or March 20) \nAARP Foundation Tax-Aide volunteers will prepare federal and state income tax returns free of charge. \nCall the library on or after Monday\, January 19 at (269) 694-9690 to schedule your appointment. \nAll are welcome to schedule. No walk-in availability.
URL:https://otsegolibrary.org/event/aarp-free-tax-aide-8/
CATEGORIES:AARP
END:VEVENT
END:VCALENDAR