BEGIN:VCALENDAR
VERSION:2.0
PRODID:-//Otsego District Public Library - ECPv6.15.20//NONSGML v1.0//EN
CALSCALE:GREGORIAN
METHOD:PUBLISH
X-ORIGINAL-URL:https://otsegolibrary.org
X-WR-CALDESC:Events for Otsego District Public Library
REFRESH-INTERVAL;VALUE=DURATION:PT1H
X-Robots-Tag:noindex
X-PUBLISHED-TTL:PT1H
BEGIN:VTIMEZONE
TZID:America/Detroit
BEGIN:DAYLIGHT
TZOFFSETFROM:-0500
TZOFFSETTO:-0400
TZNAME:EDT
DTSTART:20250309T070000
END:DAYLIGHT
BEGIN:STANDARD
TZOFFSETFROM:-0400
TZOFFSETTO:-0500
TZNAME:EST
DTSTART:20251102T060000
END:STANDARD
BEGIN:DAYLIGHT
TZOFFSETFROM:-0500
TZOFFSETTO:-0400
TZNAME:EDT
DTSTART:20260308T070000
END:DAYLIGHT
BEGIN:STANDARD
TZOFFSETFROM:-0400
TZOFFSETTO:-0500
TZNAME:EST
DTSTART:20261101T060000
END:STANDARD
BEGIN:DAYLIGHT
TZOFFSETFROM:-0500
TZOFFSETTO:-0400
TZNAME:EDT
DTSTART:20270314T070000
END:DAYLIGHT
BEGIN:STANDARD
TZOFFSETFROM:-0400
TZOFFSETTO:-0500
TZNAME:EST
DTSTART:20271107T060000
END:STANDARD
END:VTIMEZONE
BEGIN:VEVENT
DTSTART;TZID=America/Detroit:20260402T183000
DTEND;TZID=America/Detroit:20260402T183000
DTSTAMP:20260421T172936
CREATED:20251226T193623Z
LAST-MODIFIED:20251226T194202Z
UID:12232-1775154600-1775154600@otsegolibrary.org
SUMMARY:History in Our Own Backyard - Michigan’s Amazing Stories
DESCRIPTION:Presented by Jay Follis\nThursday\, April 2 @ 6:30 PM \nIn this presentation\, you’ll discover many little-known facts from within our state’s boundaries\, including things right here in Allegan County. \nA few highlights include why Michigan’s Great Seal is dated 1835\, two years before we gained statehood; why there is a Michigan state highway that cars aren’t allowed on; and how Japan bombed two Michigan locations during WWII. \nJay Follis is a very entertaining presenter and has done extensive historical research.
URL:https://otsegolibrary.org/event/history-in-our-own-backyard-michigans-amazing-stories/
CATEGORIES:Adult
END:VEVENT
END:VCALENDAR