BEGIN:VCALENDAR
VERSION:2.0
PRODID:-//Otsego District Public Library - ECPv6.15.20//NONSGML v1.0//EN
CALSCALE:GREGORIAN
METHOD:PUBLISH
X-ORIGINAL-URL:https://otsegolibrary.org
X-WR-CALDESC:Events for Otsego District Public Library
REFRESH-INTERVAL;VALUE=DURATION:PT1H
X-Robots-Tag:noindex
X-PUBLISHED-TTL:PT1H
BEGIN:VTIMEZONE
TZID:America/Detroit
BEGIN:DAYLIGHT
TZOFFSETFROM:-0500
TZOFFSETTO:-0400
TZNAME:EDT
DTSTART:20250309T070000
END:DAYLIGHT
BEGIN:STANDARD
TZOFFSETFROM:-0400
TZOFFSETTO:-0500
TZNAME:EST
DTSTART:20251102T060000
END:STANDARD
BEGIN:DAYLIGHT
TZOFFSETFROM:-0500
TZOFFSETTO:-0400
TZNAME:EDT
DTSTART:20260308T070000
END:DAYLIGHT
BEGIN:STANDARD
TZOFFSETFROM:-0400
TZOFFSETTO:-0500
TZNAME:EST
DTSTART:20261101T060000
END:STANDARD
BEGIN:DAYLIGHT
TZOFFSETFROM:-0500
TZOFFSETTO:-0400
TZNAME:EDT
DTSTART:20270314T070000
END:DAYLIGHT
BEGIN:STANDARD
TZOFFSETFROM:-0400
TZOFFSETTO:-0500
TZNAME:EST
DTSTART:20271107T060000
END:STANDARD
END:VTIMEZONE
BEGIN:VEVENT
DTSTART;TZID=America/Detroit:20260102T000000
DTEND;TZID=America/Detroit:20260331T235959
DTSTAMP:20260421T191447
CREATED:20251226T214019Z
LAST-MODIFIED:20251226T214222Z
UID:12245-1767312000-1775001599@otsegolibrary.org
SUMMARY:Read & Dine: Adult Winter Reading Club
DESCRIPTION:January 2 – March 31 \nSign up to be part of the Read & Dine Adult Winter Reading Program this winter! Read ten books and you can enter a drawing to possibly win a Kindle Fire or a $25 gift card to a local restaurant. Reading logs will be available at the circulation desk or at our drive-thru pickup window. \nALL Participants who finish reading 10 books will receive a cookbook (while supplies last). Thank you to the Friends of the Library (Kindle and cookbooks) and local restaurants for sponsoring this program!
URL:https://otsegolibrary.org/event/read-dine-adult-winter-reading-club-3/
CATEGORIES:Adult
END:VEVENT
BEGIN:VEVENT
DTSTART;TZID=America/Detroit:20260320T100000
DTEND;TZID=America/Detroit:20260320T100000
DTSTAMP:20260421T191447
CREATED:20251230T173210Z
LAST-MODIFIED:20251230T173400Z
UID:12257-1774000800-1774000800@otsegolibrary.org
SUMMARY:Coffee and Conversations
DESCRIPTION:Coffee and Conversations meets on the 3rd Friday @ 10 AM\nJanuary 16\, February 20\, March 20\, April 17\, and May 15 \nLet’s build community by sharing coffee or tea\, treats\, and conversations!
URL:https://otsegolibrary.org/event/coffee-and-conversations-17/
CATEGORIES:Adult
END:VEVENT
BEGIN:VEVENT
DTSTART;TZID=America/Detroit:20260320T130000
DTEND;TZID=America/Detroit:20260320T130000
DTSTAMP:20260421T191447
CREATED:20260102T182717Z
LAST-MODIFIED:20260102T182719Z
UID:12267-1774011600-1774011600@otsegolibrary.org
SUMMARY:Get Crafty: Make and Take Crafts for Adults
DESCRIPTION:Get Crafty: Make and Take Crafts for Adults meets on the 3rd Friday @ 1 PM\nJanuary 16\, February 20\, March 20\, April 17\, and May 22\n(Please Note: the May meetup is the 4th Friday) \nJoin your friends each month to create a fun make-and-take project. Upcoming crafts will highlight winter and spring themes. Enjoy hands on instruction while you create a craft to display at home. \nNote: These are ADULT ONLY events.
URL:https://otsegolibrary.org/event/get-crafty-make-and-take-crafts-for-adults-9/
CATEGORIES:Adult
END:VEVENT
END:VCALENDAR