BEGIN:VCALENDAR
VERSION:2.0
PRODID:-//Otsego District Public Library - ECPv6.15.20//NONSGML v1.0//EN
CALSCALE:GREGORIAN
METHOD:PUBLISH
X-ORIGINAL-URL:https://otsegolibrary.org
X-WR-CALDESC:Events for Otsego District Public Library
REFRESH-INTERVAL;VALUE=DURATION:PT1H
X-Robots-Tag:noindex
X-PUBLISHED-TTL:PT1H
BEGIN:VTIMEZONE
TZID:America/Detroit
BEGIN:DAYLIGHT
TZOFFSETFROM:-0500
TZOFFSETTO:-0400
TZNAME:EDT
DTSTART:20240310T070000
END:DAYLIGHT
BEGIN:STANDARD
TZOFFSETFROM:-0400
TZOFFSETTO:-0500
TZNAME:EST
DTSTART:20241103T060000
END:STANDARD
BEGIN:DAYLIGHT
TZOFFSETFROM:-0500
TZOFFSETTO:-0400
TZNAME:EDT
DTSTART:20250309T070000
END:DAYLIGHT
BEGIN:STANDARD
TZOFFSETFROM:-0400
TZOFFSETTO:-0500
TZNAME:EST
DTSTART:20251102T060000
END:STANDARD
BEGIN:DAYLIGHT
TZOFFSETFROM:-0500
TZOFFSETTO:-0400
TZNAME:EDT
DTSTART:20260308T070000
END:DAYLIGHT
BEGIN:STANDARD
TZOFFSETFROM:-0400
TZOFFSETTO:-0500
TZNAME:EST
DTSTART:20261101T060000
END:STANDARD
END:VTIMEZONE
BEGIN:VEVENT
DTSTART;TZID=America/Detroit:20251114T130000
DTEND;TZID=America/Detroit:20251114T153000
DTSTAMP:20260422T021637
CREATED:20250617T151800Z
LAST-MODIFIED:20250617T151805Z
UID:11626-1763125200-1763134200@otsegolibrary.org
SUMMARY:Creative Café Wooden Porch Signs
DESCRIPTION:Rachel Helder & Shelly Freeman with Joy Farms  \nFriday\, November 14 from 1-3:30 PM\nSaturday\, November 15 from 9:30 AM – 12 PM\n(If both classes fill\, then a third class will open Saturday\, November 15 from 1 – 3:30 PM) \nUse stencils\, paint\, and embellishments to create a beautiful sign to put on your porch or in your house. Boards can be horizontal or vertical. \nChoose a 4’ board for $40 or a 2’ board for $25 when you register. Cost covers the instruction of the class\, supplies\, finished product\, and refreshments. \nClass size is limited to 25 participants (ADULTS ONLY). Registration is required and non-refundable.
URL:https://otsegolibrary.org/event/creative-cafe-wooden-porch-signs/
CATEGORIES:Adult
END:VEVENT
END:VCALENDAR