BEGIN:VCALENDAR
VERSION:2.0
PRODID:-//Otsego District Public Library - ECPv6.15.20//NONSGML v1.0//EN
CALSCALE:GREGORIAN
METHOD:PUBLISH
X-WR-CALNAME:Otsego District Public Library
X-ORIGINAL-URL:https://otsegolibrary.org
X-WR-CALDESC:Events for Otsego District Public Library
REFRESH-INTERVAL;VALUE=DURATION:PT1H
X-Robots-Tag:noindex
X-PUBLISHED-TTL:PT1H
BEGIN:VTIMEZONE
TZID:America/Detroit
BEGIN:DAYLIGHT
TZOFFSETFROM:-0500
TZOFFSETTO:-0400
TZNAME:EDT
DTSTART:20240310T070000
END:DAYLIGHT
BEGIN:STANDARD
TZOFFSETFROM:-0400
TZOFFSETTO:-0500
TZNAME:EST
DTSTART:20241103T060000
END:STANDARD
BEGIN:DAYLIGHT
TZOFFSETFROM:-0500
TZOFFSETTO:-0400
TZNAME:EDT
DTSTART:20250309T070000
END:DAYLIGHT
BEGIN:STANDARD
TZOFFSETFROM:-0400
TZOFFSETTO:-0500
TZNAME:EST
DTSTART:20251102T060000
END:STANDARD
BEGIN:DAYLIGHT
TZOFFSETFROM:-0500
TZOFFSETTO:-0400
TZNAME:EDT
DTSTART:20260308T070000
END:DAYLIGHT
BEGIN:STANDARD
TZOFFSETFROM:-0400
TZOFFSETTO:-0500
TZNAME:EST
DTSTART:20261101T060000
END:STANDARD
END:VTIMEZONE
BEGIN:VEVENT
DTSTART;TZID=America/Detroit:20250918T183000
DTEND;TZID=America/Detroit:20250918T183000
DTSTAMP:20260422T053612
CREATED:20250617T151312Z
LAST-MODIFIED:20250617T151343Z
UID:11618-1758220200-1758220200@otsegolibrary.org
SUMMARY:Relationships\, Boundaries\, and Well-Being
DESCRIPTION:Presented by Jennifer Patrick\, M.A. CFLE  \nDiscover how we are “wired to connect” with each other and how our relationships either improve our health or diminish it! Learn to identify life-giving elements of healthy relationships and toxic features of destructive relationships. Gain tools to set boundaries and set the path for healthier\, happier living! \nJennifer is the Executive Director of Family Bound\, a company designed to strengthen and enhance family relationships. Jennifer is purposeful and enthusiastic in working to educate\, inspire\, and encourage families to grow in love\, commitment\, and resilience together.
URL:https://otsegolibrary.org/event/relationships-boundaries-and-well-being/
CATEGORIES:Adult
END:VEVENT
END:VCALENDAR