BEGIN:VCALENDAR
VERSION:2.0
PRODID:-//Otsego District Public Library - ECPv6.15.20//NONSGML v1.0//EN
CALSCALE:GREGORIAN
METHOD:PUBLISH
X-WR-CALNAME:Otsego District Public Library
X-ORIGINAL-URL:https://otsegolibrary.org
X-WR-CALDESC:Events for Otsego District Public Library
REFRESH-INTERVAL;VALUE=DURATION:PT1H
X-Robots-Tag:noindex
X-PUBLISHED-TTL:PT1H
BEGIN:VTIMEZONE
TZID:America/Detroit
BEGIN:DAYLIGHT
TZOFFSETFROM:-0500
TZOFFSETTO:-0400
TZNAME:EDT
DTSTART:20240310T070000
END:DAYLIGHT
BEGIN:STANDARD
TZOFFSETFROM:-0400
TZOFFSETTO:-0500
TZNAME:EST
DTSTART:20241103T060000
END:STANDARD
BEGIN:DAYLIGHT
TZOFFSETFROM:-0500
TZOFFSETTO:-0400
TZNAME:EDT
DTSTART:20250309T070000
END:DAYLIGHT
BEGIN:STANDARD
TZOFFSETFROM:-0400
TZOFFSETTO:-0500
TZNAME:EST
DTSTART:20251102T060000
END:STANDARD
BEGIN:DAYLIGHT
TZOFFSETFROM:-0500
TZOFFSETTO:-0400
TZNAME:EDT
DTSTART:20260308T070000
END:DAYLIGHT
BEGIN:STANDARD
TZOFFSETFROM:-0400
TZOFFSETTO:-0500
TZNAME:EST
DTSTART:20261101T060000
END:STANDARD
END:VTIMEZONE
BEGIN:VEVENT
DTSTART;TZID=America/Detroit:20250418T100000
DTEND;TZID=America/Detroit:20250418T100000
DTSTAMP:20260422T144550
CREATED:20241226T153040Z
LAST-MODIFIED:20241226T183109Z
UID:10588-1744970400-1744970400@otsegolibrary.org
SUMMARY:Coffee and Conversation
DESCRIPTION:Meets on the 3rd Friday at 10 AM\nFebruary 21\, March 21\, April 18\, May 16 \nLet’s build community by sharing coffee or tea\, treats\, and conversations!
URL:https://otsegolibrary.org/event/coffee-and-conversation/
CATEGORIES:Adult
END:VEVENT
BEGIN:VEVENT
DTSTART;TZID=America/Detroit:20250418T130000
DTEND;TZID=America/Detroit:20250418T130000
DTSTAMP:20260422T144550
CREATED:20241226T185222Z
LAST-MODIFIED:20241226T190238Z
UID:10601-1744981200-1744981200@otsegolibrary.org
SUMMARY:Get Crafty Make and Take Crafts for Adults
DESCRIPTION:Meets on the 3rd Friday at 1 PM\nFebruary 21\, March 21\, April 18\, May 16 \nWho doesn’t like free? Join your friends and make a fun\, free craft. Each month we’ll have a different craft to make and take home to display. Up and coming crafts will feature spring and Americana themes that incorporate coffee filters\, felt\, seaglass\, paint and so much more! \nNote: These are adult only events.
URL:https://otsegolibrary.org/event/get-crafty-make-and-take-crafts-for-adults-3/
CATEGORIES:Adult
END:VEVENT
END:VCALENDAR