BEGIN:VCALENDAR
VERSION:2.0
PRODID:-//Otsego District Public Library - ECPv6.15.20//NONSGML v1.0//EN
CALSCALE:GREGORIAN
METHOD:PUBLISH
X-WR-CALNAME:Otsego District Public Library
X-ORIGINAL-URL:https://otsegolibrary.org
X-WR-CALDESC:Events for Otsego District Public Library
REFRESH-INTERVAL;VALUE=DURATION:PT1H
X-Robots-Tag:noindex
X-PUBLISHED-TTL:PT1H
BEGIN:VTIMEZONE
TZID:America/Detroit
BEGIN:DAYLIGHT
TZOFFSETFROM:-0500
TZOFFSETTO:-0400
TZNAME:EDT
DTSTART:20240310T070000
END:DAYLIGHT
BEGIN:STANDARD
TZOFFSETFROM:-0400
TZOFFSETTO:-0500
TZNAME:EST
DTSTART:20241103T060000
END:STANDARD
BEGIN:DAYLIGHT
TZOFFSETFROM:-0500
TZOFFSETTO:-0400
TZNAME:EDT
DTSTART:20250309T070000
END:DAYLIGHT
BEGIN:STANDARD
TZOFFSETFROM:-0400
TZOFFSETTO:-0500
TZNAME:EST
DTSTART:20251102T060000
END:STANDARD
BEGIN:DAYLIGHT
TZOFFSETFROM:-0500
TZOFFSETTO:-0400
TZNAME:EDT
DTSTART:20260308T070000
END:DAYLIGHT
BEGIN:STANDARD
TZOFFSETFROM:-0400
TZOFFSETTO:-0500
TZNAME:EST
DTSTART:20261101T060000
END:STANDARD
END:VTIMEZONE
BEGIN:VEVENT
DTSTART;TZID=America/Detroit:20251002T140000
DTEND;TZID=America/Detroit:20251002T140000
DTSTAMP:20260422T020845
CREATED:20250617T151022Z
LAST-MODIFIED:20250617T151033Z
UID:11615-1759413600-1759413600@otsegolibrary.org
SUMMARY:Cardio Drumming
DESCRIPTION:Led by Sara Sparrow with West Michigan Fitness and Cardio Drumming \nThursday\, October 2 at 2 PM and 6:30 PM\n(If both classes fill\, then a third class will open Saturday\, October 4 at 10 AM) \nCardio drumming is a fun and low-impact fitness class that combines drumming with aerobic exercise. Participants use drumsticks to hit an exercise ball inside a bucket\, following the rhythm of the music while incorporating movements. It’s a whole-body workout for all ages and fitness levels\, even while sitting in a chair. Class sizes are limited to 20 participants\, so sign up for one class only. \nREGISTRATION REQUIRED.
URL:https://otsegolibrary.org/event/cardio-drumming-2/
CATEGORIES:Adult
END:VEVENT
BEGIN:VEVENT
DTSTART;TZID=America/Detroit:20251002T183000
DTEND;TZID=America/Detroit:20251002T183000
DTSTAMP:20260422T020845
CREATED:20250617T150956Z
LAST-MODIFIED:20250617T151043Z
UID:11613-1759429800-1759429800@otsegolibrary.org
SUMMARY:Cardio Drumming
DESCRIPTION:Led by Sara Sparrow with West Michigan Fitness and Cardio Drumming \nThursday\, October 2 at 2 PM and 6:30 PM\n(If both classes fill\, then a third class will open Saturday\, October 4 at 10 AM) \nCardio drumming is a fun and low-impact fitness class that combines drumming with aerobic exercise. Participants use drumsticks to hit an exercise ball inside a bucket\, following the rhythm of the music while incorporating movements. It’s a whole-body workout for all ages and fitness levels\, even while sitting in a chair. Class sizes are limited to 20 participants\, so sign up for one class only. \nREGISTRATION REQUIRED.
URL:https://otsegolibrary.org/event/cardio-drumming/
CATEGORIES:Adult
END:VEVENT
BEGIN:VEVENT
DTSTART;TZID=America/Detroit:20251016T183000
DTEND;TZID=America/Detroit:20251016T183000
DTSTAMP:20260422T020845
CREATED:20250617T151423Z
LAST-MODIFIED:20250617T151426Z
UID:11620-1760639400-1760639400@otsegolibrary.org
SUMMARY:Protecting Yourself from Scams and Identity Theft
DESCRIPTION: Presented by Stephanie Wilson – Vice President at United Bank  \nFraud prevention has become more critical than ever! Learn about the best ways to protect yourself and your identity from scams\, fraud\, and identity theft. Stephanie will share insights\, practical tips\, and real-world experiences. Her goal is to equip our community with the tools and knowledge needed to recognize\, prevent\, and fight back against the scams we face every day.
URL:https://otsegolibrary.org/event/protecting-yourself-from-scams-and-identity-theft/
CATEGORIES:Adult
END:VEVENT
BEGIN:VEVENT
DTSTART;TZID=America/Detroit:20251017T100000
DTEND;TZID=America/Detroit:20251017T100000
DTSTAMP:20260422T020845
CREATED:20250619T140429Z
LAST-MODIFIED:20250619T140434Z
UID:11645-1760695200-1760695200@otsegolibrary.org
SUMMARY:Coffee & Conversations
DESCRIPTION:Coffee & Conversations meets on the 3rd Friday of each month at 10 AM. \nAugust 15\, September 19\, October 17\, and November 21 \nJoin your community friends for some coffee\, tea\, and yummy treats while having lively discussions.
URL:https://otsegolibrary.org/event/coffee-conversations-8/
CATEGORIES:Adult
END:VEVENT
BEGIN:VEVENT
DTSTART;TZID=America/Detroit:20251017T130000
DTEND;TZID=America/Detroit:20251017T130000
DTSTAMP:20260422T020845
CREATED:20250619T141513Z
LAST-MODIFIED:20250619T141519Z
UID:11654-1760706000-1760706000@otsegolibrary.org
SUMMARY:Get Crafty - Make and Take Crafts
DESCRIPTION:Get Crafty – Make and Take Crafts meets on the 3rd Friday at 1 PM \nAugust 15\, September 19\, October 17\, and November 21 \nCreate a fun craft for free! Learn new crafting techniques in a low-pressure environment – no skill required. These are adult only events.\nAugust – Fancy Upcycled Envelopes\nSeptember – Birch Tree Resist Paintings\nOctober – Yarn Wrapped Pumpkins\nNovember – Holiday Decor
URL:https://otsegolibrary.org/event/get-crafty-make-and-take-crafts-2/
CATEGORIES:Adult
END:VEVENT
END:VCALENDAR