BEGIN:VCALENDAR
VERSION:2.0
PRODID:-//Otsego District Public Library - ECPv6.15.20//NONSGML v1.0//EN
CALSCALE:GREGORIAN
METHOD:PUBLISH
X-WR-CALNAME:Otsego District Public Library
X-ORIGINAL-URL:https://otsegolibrary.org
X-WR-CALDESC:Events for Otsego District Public Library
REFRESH-INTERVAL;VALUE=DURATION:PT1H
X-Robots-Tag:noindex
X-PUBLISHED-TTL:PT1H
BEGIN:VTIMEZONE
TZID:America/Detroit
BEGIN:DAYLIGHT
TZOFFSETFROM:-0500
TZOFFSETTO:-0400
TZNAME:EDT
DTSTART:20240310T070000
END:DAYLIGHT
BEGIN:STANDARD
TZOFFSETFROM:-0400
TZOFFSETTO:-0500
TZNAME:EST
DTSTART:20241103T060000
END:STANDARD
BEGIN:DAYLIGHT
TZOFFSETFROM:-0500
TZOFFSETTO:-0400
TZNAME:EDT
DTSTART:20250309T070000
END:DAYLIGHT
BEGIN:STANDARD
TZOFFSETFROM:-0400
TZOFFSETTO:-0500
TZNAME:EST
DTSTART:20251102T060000
END:STANDARD
BEGIN:DAYLIGHT
TZOFFSETFROM:-0500
TZOFFSETTO:-0400
TZNAME:EDT
DTSTART:20260308T070000
END:DAYLIGHT
BEGIN:STANDARD
TZOFFSETFROM:-0400
TZOFFSETTO:-0500
TZNAME:EST
DTSTART:20261101T060000
END:STANDARD
END:VTIMEZONE
BEGIN:VEVENT
DTSTART;TZID=America/Detroit:20250501T153000
DTEND;TZID=America/Detroit:20250501T183000
DTSTAMP:20260422T111251
CREATED:20241226T152120Z
LAST-MODIFIED:20241226T183115Z
UID:10576-1746113400-1746124200@otsegolibrary.org
SUMMARY:Local Author’s Fair
DESCRIPTION:The library is hosting an Author’s Fair and you are invited to join the fun. Discover just how many local authors are in our community! \nAuthors will have a table and space to promote their work\, sell books\, and discuss writing with the community. \nIf you are a local author and are interested in joining the fair\, please call or visit the library to reserve your spot.
URL:https://otsegolibrary.org/event/local-authors-fair/
CATEGORIES:Adult
END:VEVENT
BEGIN:VEVENT
DTSTART;TZID=America/Detroit:20250503T000000
DTEND;TZID=America/Detroit:20250510T235959
DTSTAMP:20260422T111251
CREATED:20241226T152402Z
LAST-MODIFIED:20250123T205209Z
UID:10578-1746230400-1746921599@otsegolibrary.org
SUMMARY:The Otsego Art Competition 2025
DESCRIPTION:Sponsored by the Otsego Arts Council\nSaturday\, May 3 – Saturday\, May 10 \nThe Otsego Art Competition 2025 will take place in the library’s large program room May 3-10. The public is welcome to view the art all week during open library hours. \nEach person may vote for their favorite piece in both the adult and junior divisions. Voting will end Saturday\, May 10 at Noon and the Awards Ceremony will take place immediately following from 1 – 2 PM. \nArtists may contact Carmen Moore\, cncmoore91@yahoo.com\, (269) 286-9494 or Elizabeth Abbott\, elizabeth.joy.abbott@gmail.com\, (269)-355-0947.
URL:https://otsegolibrary.org/event/the-otsego-art-competition-2025/
CATEGORIES:Adult
END:VEVENT
BEGIN:VEVENT
DTSTART;TZID=America/Detroit:20250516T130000
DTEND;TZID=America/Detroit:20250516T130000
DTSTAMP:20260422T111251
CREATED:20241226T185345Z
LAST-MODIFIED:20241226T190242Z
UID:10603-1747400400-1747400400@otsegolibrary.org
SUMMARY:Get Crafty Make and Take Crafts for Adults
DESCRIPTION:Meets on the 3rd Friday at 1 PM\nFebruary 21\, March 21\, April 18\, May 16 \nWho doesn’t like free? Join your friends and make a fun\, free craft. Each month we’ll have a different craft to make and take home to display. Up and coming crafts will feature spring and Americana themes that incorporate coffee filters\, felt\, seaglass\, paint and so much more! \nNote: These are adult only events.
URL:https://otsegolibrary.org/event/get-crafty-make-and-take-crafts-for-adults-4/
CATEGORIES:Adult
END:VEVENT
END:VCALENDAR