BEGIN:VCALENDAR
VERSION:2.0
PRODID:-//Otsego District Public Library - ECPv6.15.20//NONSGML v1.0//EN
CALSCALE:GREGORIAN
METHOD:PUBLISH
X-WR-CALNAME:Otsego District Public Library
X-ORIGINAL-URL:https://otsegolibrary.org
X-WR-CALDESC:Events for Otsego District Public Library
REFRESH-INTERVAL;VALUE=DURATION:PT1H
X-Robots-Tag:noindex
X-PUBLISHED-TTL:PT1H
BEGIN:VTIMEZONE
TZID:America/Detroit
BEGIN:DAYLIGHT
TZOFFSETFROM:-0500
TZOFFSETTO:-0400
TZNAME:EDT
DTSTART:20240310T070000
END:DAYLIGHT
BEGIN:STANDARD
TZOFFSETFROM:-0400
TZOFFSETTO:-0500
TZNAME:EST
DTSTART:20241103T060000
END:STANDARD
BEGIN:DAYLIGHT
TZOFFSETFROM:-0500
TZOFFSETTO:-0400
TZNAME:EDT
DTSTART:20250309T070000
END:DAYLIGHT
BEGIN:STANDARD
TZOFFSETFROM:-0400
TZOFFSETTO:-0500
TZNAME:EST
DTSTART:20251102T060000
END:STANDARD
BEGIN:DAYLIGHT
TZOFFSETFROM:-0500
TZOFFSETTO:-0400
TZNAME:EDT
DTSTART:20260308T070000
END:DAYLIGHT
BEGIN:STANDARD
TZOFFSETFROM:-0400
TZOFFSETTO:-0500
TZNAME:EST
DTSTART:20261101T060000
END:STANDARD
END:VTIMEZONE
BEGIN:VEVENT
DTSTART;VALUE=DATE:20250101
DTEND;VALUE=DATE:20250401
DTSTAMP:20260422T144232
CREATED:20241226T152738Z
LAST-MODIFIED:20241226T152738Z
UID:10580-1735689600-1743465599@otsegolibrary.org
SUMMARY:Read & Dine - Adult Winter Reading Club
DESCRIPTION:January 1 – March 31 \nSign up to be part of the Read & Dine: Adult Winter Reading Club!\nRead ten books to earn an entry for a drawing to win a Kindle Fire or a $25 gift card to a local restaurant. Reading logs will be available at the circulation desk or at our drive-thru pickup window. \nParticipants who finish reading 10 books will receive a cookbook (while supplies last). \nThank you to the Friends of the Library (Kindle Fire and cookbooks) and local restaurants for sponsoring this program!
URL:https://otsegolibrary.org/event/read-dine-adult-winter-reading-club-2/
CATEGORIES:Adult
END:VEVENT
BEGIN:VEVENT
DTSTART;TZID=America/Detroit:20250303T110000
DTEND;TZID=America/Detroit:20250303T160000
DTSTAMP:20260422T144232
CREATED:20241226T152947Z
LAST-MODIFIED:20241226T183021Z
UID:10582-1740999600-1741017600@otsegolibrary.org
SUMMARY:American Red Cross Blood Drive
DESCRIPTION:Monday\, March 3 from 11 AM – 4:15 PM \nYou can make a difference by donating blood! Make your appointment at redcrossblood.org or call 1-800-RED-CROSS.
URL:https://otsegolibrary.org/event/american-red-cross-blood-drive-5/
CATEGORIES:Adult
END:VEVENT
BEGIN:VEVENT
DTSTART;TZID=America/Detroit:20250306T183000
DTEND;TZID=America/Detroit:20250306T183000
DTSTAMP:20260422T144232
CREATED:20241226T145013Z
LAST-MODIFIED:20241226T183028Z
UID:10566-1741285800-1741285800@otsegolibrary.org
SUMMARY:An Ocean Without
DESCRIPTION:Author\, Sarah Steele \nSarah Steele is a dynamic artist and spoken word performer whose powerful voice and rhythmic delivery bring emotions and stories to life. \nHer ability to weave complex ideas into relatable experiences comes through in her Amazon #1 Top New Release poetry memoir\, An Ocean Without. \nWalk with Sarah as she shares her story of losing herself in people pleasing\, battling the anxiety that came with setting boundaries for the first time in her life\, and finally finding healing in faith and community.
URL:https://otsegolibrary.org/event/an-ocean-without/
CATEGORIES:Adult
END:VEVENT
BEGIN:VEVENT
DTSTART;TZID=America/Detroit:20250320T183000
DTEND;TZID=America/Detroit:20250320T183000
DTSTAMP:20260422T144232
CREATED:20241226T145104Z
LAST-MODIFIED:20241226T183057Z
UID:10568-1742495400-1742495400@otsegolibrary.org
SUMMARY:Michigan Hidden Trails
DESCRIPTION:Author\, Ron Rademacher \nThursday\, March 20 at 6:30 PM \nDiscover a group of walking trails in Michigan that are low on difficulty but way up there on fun and history. Most trails are gentle and family friendly\, some are handicap accessible\, and no special equipment is needed. \nAll of these trails have unique characteristics and are perfect for a wilderness walk with children or those who who struggle with difficult trails. This program is based roughly on his book\, Trails & Treasures.
URL:https://otsegolibrary.org/event/michigan-hidden-trails/
CATEGORIES:Adult
END:VEVENT
BEGIN:VEVENT
DTSTART;TZID=America/Detroit:20250321T100000
DTEND;TZID=America/Detroit:20250321T100000
DTSTAMP:20260422T144232
CREATED:20241226T153058Z
LAST-MODIFIED:20241226T183102Z
UID:10586-1742551200-1742551200@otsegolibrary.org
SUMMARY:Coffee and Conversations
DESCRIPTION:Meets on the 3rd Friday at 10 AM\nFebruary 21\, March 21\, April 18\, May 16 \nLet’s build community by sharing coffee or tea\, treats\, and conversations!
URL:https://otsegolibrary.org/event/coffee-and-conversations-13/
CATEGORIES:Adult
END:VEVENT
BEGIN:VEVENT
DTSTART;TZID=America/Detroit:20250321T130000
DTEND;TZID=America/Detroit:20250321T130000
DTSTAMP:20260422T144232
CREATED:20241226T185159Z
LAST-MODIFIED:20241226T190235Z
UID:10599-1742562000-1742562000@otsegolibrary.org
SUMMARY:Get Crafty Make and Take Crafts for Adults
DESCRIPTION:Meets on the 3rd Friday at 1 PM\nFebruary 21\, March 21\, April 18\, May 16 \nWho doesn’t like free? Join your friends and make a fun\, free craft. Each month we’ll have a different craft to make and take home to display. Up and coming crafts will feature spring and Americana themes that incorporate coffee filters\, felt\, seaglass\, paint and so much more! \nNote: These are adult only events.
URL:https://otsegolibrary.org/event/get-crafty-make-and-take-crafts-for-adults-2/
CATEGORIES:Adult
END:VEVENT
END:VCALENDAR