BEGIN:VCALENDAR
VERSION:2.0
PRODID:-//Otsego District Public Library - ECPv6.15.20//NONSGML v1.0//EN
CALSCALE:GREGORIAN
METHOD:PUBLISH
X-ORIGINAL-URL:https://otsegolibrary.org
X-WR-CALDESC:Events for Otsego District Public Library
REFRESH-INTERVAL;VALUE=DURATION:PT1H
X-Robots-Tag:noindex
X-PUBLISHED-TTL:PT1H
BEGIN:VTIMEZONE
TZID:America/Detroit
BEGIN:DAYLIGHT
TZOFFSETFROM:-0500
TZOFFSETTO:-0400
TZNAME:EDT
DTSTART:20230312T070000
END:DAYLIGHT
BEGIN:STANDARD
TZOFFSETFROM:-0400
TZOFFSETTO:-0500
TZNAME:EST
DTSTART:20231105T060000
END:STANDARD
BEGIN:DAYLIGHT
TZOFFSETFROM:-0500
TZOFFSETTO:-0400
TZNAME:EDT
DTSTART:20240310T070000
END:DAYLIGHT
BEGIN:STANDARD
TZOFFSETFROM:-0400
TZOFFSETTO:-0500
TZNAME:EST
DTSTART:20241103T060000
END:STANDARD
BEGIN:DAYLIGHT
TZOFFSETFROM:-0500
TZOFFSETTO:-0400
TZNAME:EDT
DTSTART:20250309T070000
END:DAYLIGHT
BEGIN:STANDARD
TZOFFSETFROM:-0400
TZOFFSETTO:-0500
TZNAME:EST
DTSTART:20251102T060000
END:STANDARD
END:VTIMEZONE
BEGIN:VEVENT
DTSTART;TZID=America/Detroit:20240909T110000
DTEND;TZID=America/Detroit:20240909T161500
DTSTAMP:20260423T012121
CREATED:20240702T155226Z
LAST-MODIFIED:20240702T155226Z
UID:9835-1725879600-1725898500@otsegolibrary.org
SUMMARY:American Red Cross Blood Drive
DESCRIPTION:Make a difference in someone’s life by donating blood.\nSchedule your appointment at redcrossblood.org\nor call 1-800-RED-CROSS.
URL:https://otsegolibrary.org/event/american-red-cross-blood-drive-4/
CATEGORIES:Adult
END:VEVENT
BEGIN:VEVENT
DTSTART;TZID=America/Detroit:20240919T183000
DTEND;TZID=America/Detroit:20240919T183000
DTSTAMP:20260423T012121
CREATED:20240702T142847Z
LAST-MODIFIED:20240702T142847Z
UID:9806-1726770600-1726770600@otsegolibrary.org
SUMMARY:Blades of the Civil War
DESCRIPTION:Presented by Jerry Berg\, Swordsmanship Museum \nJoin Swordsmanship Museum and Academy historian Jerry Berg as he leads us through the history of the use of swords\, bayonets\, cutlasses\, sabers\, pikes\, and more as they were used in the American Civil War. He will help uncover the hidden history of the actual military use of these weapons of war by utilizing artifacts and replicas from the museum’s collection.
URL:https://otsegolibrary.org/event/blades-of-the-civil-war/
CATEGORIES:Adult
END:VEVENT
BEGIN:VEVENT
DTSTART;TZID=America/Detroit:20240920T100000
DTEND;TZID=America/Detroit:20240920T100000
DTSTAMP:20260423T012121
CREATED:20240702T155510Z
LAST-MODIFIED:20240702T155510Z
UID:9837-1726826400-1726826400@otsegolibrary.org
SUMMARY:Coffee and Conversations
DESCRIPTION:Join your community friends for some coffee\, tea\, and yummy treats while having lively discussions.
URL:https://otsegolibrary.org/event/coffee-and-conversations-9/
CATEGORIES:Adult
END:VEVENT
BEGIN:VEVENT
DTSTART;TZID=America/Detroit:20240920T130000
DTEND;TZID=America/Detroit:20240920T130000
DTSTAMP:20260423T012121
CREATED:20240702T152520Z
LAST-MODIFIED:20240702T152520Z
UID:9823-1726837200-1726837200@otsegolibrary.org
SUMMARY:Get Crafty – Make & Take Crafts
DESCRIPTION:Create a fun craft for free! This month you will be making button flowers that you can proudly take home to display.
URL:https://otsegolibrary.org/event/get-crafty-make-take-crafts-8/
CATEGORIES:Adult
END:VEVENT
BEGIN:VEVENT
DTSTART;TZID=America/Detroit:20240925T130000
DTEND;TZID=America/Detroit:20240925T130000
DTSTAMP:20260423T012121
CREATED:20240702T154018Z
LAST-MODIFIED:20240702T154018Z
UID:9829-1727269200-1727269200@otsegolibrary.org
SUMMARY:Sit & Stitch
DESCRIPTION:Bring your knitting\, crocheting\, embroidery\, coloring\, or other lap projects and sit by the fireplace creating with friends.
URL:https://otsegolibrary.org/event/sit-stitch/
CATEGORIES:Adult
END:VEVENT
END:VCALENDAR