BEGIN:VCALENDAR
VERSION:2.0
PRODID:-//Otsego District Public Library - ECPv6.15.20//NONSGML v1.0//EN
CALSCALE:GREGORIAN
METHOD:PUBLISH
X-WR-CALNAME:Otsego District Public Library
X-ORIGINAL-URL:https://otsegolibrary.org
X-WR-CALDESC:Events for Otsego District Public Library
REFRESH-INTERVAL;VALUE=DURATION:PT1H
X-Robots-Tag:noindex
X-PUBLISHED-TTL:PT1H
BEGIN:VTIMEZONE
TZID:America/Detroit
BEGIN:DAYLIGHT
TZOFFSETFROM:-0500
TZOFFSETTO:-0400
TZNAME:EDT
DTSTART:20230312T070000
END:DAYLIGHT
BEGIN:STANDARD
TZOFFSETFROM:-0400
TZOFFSETTO:-0500
TZNAME:EST
DTSTART:20231105T060000
END:STANDARD
BEGIN:DAYLIGHT
TZOFFSETFROM:-0500
TZOFFSETTO:-0400
TZNAME:EDT
DTSTART:20240310T070000
END:DAYLIGHT
BEGIN:STANDARD
TZOFFSETFROM:-0400
TZOFFSETTO:-0500
TZNAME:EST
DTSTART:20241103T060000
END:STANDARD
BEGIN:DAYLIGHT
TZOFFSETFROM:-0500
TZOFFSETTO:-0400
TZNAME:EDT
DTSTART:20250309T070000
END:DAYLIGHT
BEGIN:STANDARD
TZOFFSETFROM:-0400
TZOFFSETTO:-0500
TZNAME:EST
DTSTART:20251102T060000
END:STANDARD
END:VTIMEZONE
BEGIN:VEVENT
DTSTART;TZID=America/Detroit:20240503T130000
DTEND;TZID=America/Detroit:20240503T153000
DTSTAMP:20260423T163623
CREATED:20231202T030824Z
LAST-MODIFIED:20231202T030824Z
UID:9083-1714741200-1714750200@otsegolibrary.org
SUMMARY:Creative Café - Barn Quilts
DESCRIPTION:Barn Quilts with Barb Bennett of ABC Barn Quilts \nFriday\, May 3 from 1-3:30 PM and Saturday\, May 4 from 9-11:30 AM\nA third class will be offered on Saturday from 12:30-3:00 PM if classes fill. \nBack by popular demand! We are excited to have Barb back to help you create your own painted quilt block. Guided instruction will take you through the process of barn quilt painting from beginning to end. \nAll supplies included: 18”x18” primed board\, paints\,\ntools\, patterns\, AND cheerful instruction. Barn quilts will get framed and returned so they will be safe to display outdoors. \nClass size is limited to 25 participants (ADULTS ONLY).\nThe cost is $40 and pre-registration is required (non-refundable).\nThe cost covers the instruction of class\, your finished product\, and refreshments.
URL:https://otsegolibrary.org/event/creative-cafe-barn-quilts/
CATEGORIES:Adult
END:VEVENT
BEGIN:VEVENT
DTSTART;TZID=America/Detroit:20240504T090000
DTEND;TZID=America/Detroit:20240504T113000
DTSTAMP:20260423T163623
CREATED:20231202T031040Z
LAST-MODIFIED:20231202T031040Z
UID:9087-1714813200-1714822200@otsegolibrary.org
SUMMARY:Creative Café - Barn Quilts
DESCRIPTION:Barn Quilts with Barb Bennett of ABC Barn Quilts \nFriday\, May 3 from 1-3:30 PM and Saturday\, May 4 from 9-11:30 AM\nA third class will be offered on Saturday from 12:30-3:00 PM if classes fill. \nBack by popular demand! We are excited to have Barb back to help you create your own painted quilt block. Guided instruction will take you through the process of barn quilt painting from beginning to end. \nAll supplies included: 18”x18” primed board\, paints\,\ntools\, patterns\, AND cheerful instruction. Barn quilts will get framed and returned so they will be safe to display outdoors. \nClass size is limited to 25 participants (ADULTS ONLY).\nThe cost is $40 and pre-registration is required (non-refundable).\nThe cost covers the instruction of class\, your finished product\, and refreshments.
URL:https://otsegolibrary.org/event/creative-cafe-barn-quilts-2/
CATEGORIES:Adult
END:VEVENT
BEGIN:VEVENT
DTSTART;TZID=America/Detroit:20240517T100000
DTEND;TZID=America/Detroit:20240517T100000
DTSTAMP:20260423T163623
CREATED:20231202T032238Z
LAST-MODIFIED:20231202T032238Z
UID:9100-1715940000-1715940000@otsegolibrary.org
SUMMARY:Coffee & Conversation
DESCRIPTION:January – May\n3rd Friday at 10 AM \nLet’s build community by sharing coffee and\nconversations! Coffee and refreshments (provided by the Friends of the Otsego Library) will be ready for you to enjoy at the library while we discuss current topics or anything else you would like to discuss.
URL:https://otsegolibrary.org/event/coffee-conversation-4/
CATEGORIES:Adult
END:VEVENT
BEGIN:VEVENT
DTSTART;TZID=America/Detroit:20240517T130000
DTEND;TZID=America/Detroit:20240517T130000
DTSTAMP:20260423T163623
CREATED:20231202T033059Z
LAST-MODIFIED:20231202T033059Z
UID:9109-1715950800-1715950800@otsegolibrary.org
SUMMARY:Get Crafty – Make & Take Crafts
DESCRIPTION:February – May\n3rd Friday at 1 PM \nCreate a fun craft for free! Each month you will be able to make a fun decoration that you can proudly take home to display.
URL:https://otsegolibrary.org/event/get-crafty-make-take-crafts-7/
CATEGORIES:Adult
END:VEVENT
BEGIN:VEVENT
DTSTART;TZID=America/Detroit:20240522T130000
DTEND;TZID=America/Detroit:20240522T130000
DTSTAMP:20260423T163623
CREATED:20231202T034537Z
LAST-MODIFIED:20231202T034537Z
UID:9119-1716382800-1716382800@otsegolibrary.org
SUMMARY:Crafting Corner
DESCRIPTION:January – May\n4th Wednesday at 1 PM \nBring your knitting\, crochet\, coloring\, needlepoint\, cross-stitch\, or other personal crafting projects from home. \nEnjoy a cup of coffee while you are working and sit by the fireplace crafting with friends.
URL:https://otsegolibrary.org/event/crafting-corner-18/
CATEGORIES:Adult
END:VEVENT
END:VCALENDAR