BEGIN:VCALENDAR
VERSION:2.0
PRODID:-//Otsego District Public Library - ECPv6.15.20//NONSGML v1.0//EN
CALSCALE:GREGORIAN
METHOD:PUBLISH
X-WR-CALNAME:Otsego District Public Library
X-ORIGINAL-URL:https://otsegolibrary.org
X-WR-CALDESC:Events for Otsego District Public Library
REFRESH-INTERVAL;VALUE=DURATION:PT1H
X-Robots-Tag:noindex
X-PUBLISHED-TTL:PT1H
BEGIN:VTIMEZONE
TZID:America/Detroit
BEGIN:DAYLIGHT
TZOFFSETFROM:-0500
TZOFFSETTO:-0400
TZNAME:EDT
DTSTART:20240310T070000
END:DAYLIGHT
BEGIN:STANDARD
TZOFFSETFROM:-0400
TZOFFSETTO:-0500
TZNAME:EST
DTSTART:20241103T060000
END:STANDARD
BEGIN:DAYLIGHT
TZOFFSETFROM:-0500
TZOFFSETTO:-0400
TZNAME:EDT
DTSTART:20250309T070000
END:DAYLIGHT
BEGIN:STANDARD
TZOFFSETFROM:-0400
TZOFFSETTO:-0500
TZNAME:EST
DTSTART:20251102T060000
END:STANDARD
BEGIN:DAYLIGHT
TZOFFSETFROM:-0500
TZOFFSETTO:-0400
TZNAME:EDT
DTSTART:20260308T070000
END:DAYLIGHT
BEGIN:STANDARD
TZOFFSETFROM:-0400
TZOFFSETTO:-0500
TZNAME:EST
DTSTART:20261101T060000
END:STANDARD
END:VTIMEZONE
BEGIN:VEVENT
DTSTART;TZID=America/Detroit:20250425T000000
DTEND;TZID=America/Detroit:20250426T235959
DTSTAMP:20260419T132410
CREATED:20241230T170213Z
LAST-MODIFIED:20250203T165713Z
UID:10809-1745539200-1745711999@otsegolibrary.org
SUMMARY:Friends of the Library - BIG Spring Book Sale
DESCRIPTION:The Friends of the Library are hosting a TWO DAY BIG Spring Book Sale! \n\n\nFriday\, April 25 from 9 AM – 6 PM\nSaturday\, April 26 from 9 AM – 2 PM \nWho loves a book bargain?! We sure do! \nBooks will be on sale at discounted rates. Shelves inside the bookstore will be restocked with new titles after each sale.
URL:https://otsegolibrary.org/event/10809/
CATEGORIES:Friends of the Library
END:VEVENT
END:VCALENDAR