BEGIN:VCALENDAR
VERSION:2.0
PRODID:-//Otsego District Public Library - ECPv6.15.20//NONSGML v1.0//EN
CALSCALE:GREGORIAN
METHOD:PUBLISH
X-WR-CALNAME:Otsego District Public Library
X-ORIGINAL-URL:https://otsegolibrary.org
X-WR-CALDESC:Events for Otsego District Public Library
REFRESH-INTERVAL;VALUE=DURATION:PT1H
X-Robots-Tag:noindex
X-PUBLISHED-TTL:PT1H
BEGIN:VTIMEZONE
TZID:America/Detroit
BEGIN:DAYLIGHT
TZOFFSETFROM:-0500
TZOFFSETTO:-0400
TZNAME:EDT
DTSTART:20240310T070000
END:DAYLIGHT
BEGIN:STANDARD
TZOFFSETFROM:-0400
TZOFFSETTO:-0500
TZNAME:EST
DTSTART:20241103T060000
END:STANDARD
BEGIN:DAYLIGHT
TZOFFSETFROM:-0500
TZOFFSETTO:-0400
TZNAME:EDT
DTSTART:20250309T070000
END:DAYLIGHT
BEGIN:STANDARD
TZOFFSETFROM:-0400
TZOFFSETTO:-0500
TZNAME:EST
DTSTART:20251102T060000
END:STANDARD
BEGIN:DAYLIGHT
TZOFFSETFROM:-0500
TZOFFSETTO:-0400
TZNAME:EDT
DTSTART:20260308T070000
END:DAYLIGHT
BEGIN:STANDARD
TZOFFSETFROM:-0400
TZOFFSETTO:-0500
TZNAME:EST
DTSTART:20261101T060000
END:STANDARD
END:VTIMEZONE
BEGIN:VEVENT
DTSTART;TZID=America/Detroit:20250424T100000
DTEND;TZID=America/Detroit:20250424T100000
DTSTAMP:20260419T170629
CREATED:20241227T162349Z
LAST-MODIFIED:20241227T162351Z
UID:10744-1745488800-1745488800@otsegolibrary.org
SUMMARY:Storytime
DESCRIPTION:Thursdays at 10 AM\nFebruary 6 – May 1 (No meet up on April 10)\nAges 0 – 5 \nEach session focuses on a fun theme including stories\, songs\, and a craft.
URL:https://otsegolibrary.org/event/storytime-82/
CATEGORIES:Preschool
END:VEVENT
BEGIN:VEVENT
DTSTART;TZID=America/Detroit:20250424T160000
DTEND;TZID=America/Detroit:20250424T160000
DTSTAMP:20260419T170629
CREATED:20241226T201007Z
LAST-MODIFIED:20250417T155510Z
UID:10668-1745510400-1745510400@otsegolibrary.org
SUMMARY:Sweet & Salty Book Club
DESCRIPTION:4th Thursday at 4 PM\nFebruary 27\, March 27\, and April 24\n\nDiscuss what we are reading over snacks. Choose any book to read and share with the group. Ask a staff member about new/popular book suggestions. \nThis book club is for teens and tweens.
URL:https://otsegolibrary.org/event/sweet-salty-book-club-22/
CATEGORIES:Teen/Tween
END:VEVENT
BEGIN:VEVENT
DTSTART;TZID=America/Detroit:20250424T183000
DTEND;TZID=America/Detroit:20250424T183000
DTSTAMP:20260419T170629
CREATED:20241226T150100Z
LAST-MODIFIED:20241226T183111Z
UID:10574-1745519400-1745519400@otsegolibrary.org
SUMMARY:The Healing Power of Handwork
DESCRIPTION:Carla Chase with CanDo Acres \nUsing your hands in a creative way that allows you to give your mind a break\, even if only briefly\, can be benificial in many ways. \nIn this presentation we will explore the science behind this concept through a little experiment and learn ways to incorporate these ideas more fully into our lives.
URL:https://otsegolibrary.org/event/the-healing-power-of-handwork/
CATEGORIES:Adult
END:VEVENT
END:VCALENDAR