BEGIN:VCALENDAR
VERSION:2.0
PRODID:-//Otsego District Public Library - ECPv6.15.20//NONSGML v1.0//EN
CALSCALE:GREGORIAN
METHOD:PUBLISH
X-WR-CALNAME:Otsego District Public Library
X-ORIGINAL-URL:https://otsegolibrary.org
X-WR-CALDESC:Events for Otsego District Public Library
REFRESH-INTERVAL;VALUE=DURATION:PT1H
X-Robots-Tag:noindex
X-PUBLISHED-TTL:PT1H
BEGIN:VTIMEZONE
TZID:America/Detroit
BEGIN:DAYLIGHT
TZOFFSETFROM:-0500
TZOFFSETTO:-0400
TZNAME:EDT
DTSTART:20240310T070000
END:DAYLIGHT
BEGIN:STANDARD
TZOFFSETFROM:-0400
TZOFFSETTO:-0500
TZNAME:EST
DTSTART:20241103T060000
END:STANDARD
BEGIN:DAYLIGHT
TZOFFSETFROM:-0500
TZOFFSETTO:-0400
TZNAME:EDT
DTSTART:20250309T070000
END:DAYLIGHT
BEGIN:STANDARD
TZOFFSETFROM:-0400
TZOFFSETTO:-0500
TZNAME:EST
DTSTART:20251102T060000
END:STANDARD
BEGIN:DAYLIGHT
TZOFFSETFROM:-0500
TZOFFSETTO:-0400
TZNAME:EDT
DTSTART:20260308T070000
END:DAYLIGHT
BEGIN:STANDARD
TZOFFSETFROM:-0400
TZOFFSETTO:-0500
TZNAME:EST
DTSTART:20261101T060000
END:STANDARD
END:VTIMEZONE
BEGIN:VEVENT
DTSTART;VALUE=DATE:20250101
DTEND;VALUE=DATE:20250412
DTSTAMP:20260421T062225
CREATED:20241226T182326Z
LAST-MODIFIED:20241226T183210Z
UID:10592-1735689600-1744415999@otsegolibrary.org
SUMMARY:PaperGator Recycling Challenge
DESCRIPTION:Celebrate Earth Day by recycling! \n\n\nJanuary – April 11 \nThe library has the opportunity to earn exciting rewards by increasing our paper recycling volume. Plus the library will earn double the usual payouts during the contest period. \nThe library could win $5\,000 (1st Prize)\, $2\,000 (2nd Prize)\, $1\,000 (3rd Prize)\, or double earnings for the entire year of 2025 (beyond the contest period). Winners will be selected based on the largest percentage increase in paper recycling. The winners will be announced on Earth Day 2025. \nThe PaperGator is located behind the library past the staff parking area. All paper products including old damaged books can be recycled (no cardboard or plastics accepted).
URL:https://otsegolibrary.org/event/papergator-recycling-challenge/
END:VEVENT
BEGIN:VEVENT
DTSTART;TZID=America/Detroit:20250410T100000
DTEND;TZID=America/Detroit:20250410T100000
DTSTAMP:20260421T062225
CREATED:20241227T203253Z
LAST-MODIFIED:20241227T203342Z
UID:10798-1744279200-1744279200@otsegolibrary.org
SUMMARY:The LEGO Movie
DESCRIPTION:Fun for the whole Family \nCome and watch The LEGO Movie while munching on popcorn. Discover how an ordinary LEGO construction worker is recruited to join a quest to stop an evil tyrant and makes everything awesome again. (Note: Pillows and blankets are not allowed in the Library.)
URL:https://otsegolibrary.org/event/the-lego-movie-2/
CATEGORIES:Children
END:VEVENT
BEGIN:VEVENT
DTSTART;TZID=America/Detroit:20250410T160000
DTEND;TZID=America/Detroit:20250410T160000
DTSTAMP:20260421T062225
CREATED:20250403T164415Z
LAST-MODIFIED:20250403T164415Z
UID:11214-1744300800-1744300800@otsegolibrary.org
SUMMARY:Creative Writing Club
DESCRIPTION:2nd Thursday at 4 PM\nFebruary 13\, March 13 and April 10\n\nDo you LOVE to write? Join us as we write together and share short stories\, original writing pieces\, and ideas. All writing styles are welcome.
URL:https://otsegolibrary.org/event/creative-writing-club-15/
CATEGORIES:Teen/Tween
END:VEVENT
END:VCALENDAR